BEGIN:VCALENDAR
VERSION:2.0
PRODID:-//Elkhart Public Library - ECPv6.15.20//NONSGML v1.0//EN
CALSCALE:GREGORIAN
METHOD:PUBLISH
X-WR-CALNAME:Elkhart Public Library
X-ORIGINAL-URL:https://www.myepl.org
X-WR-CALDESC:Events for Elkhart Public Library
REFRESH-INTERVAL;VALUE=DURATION:PT1H
X-Robots-Tag:noindex
X-PUBLISHED-TTL:PT1H
BEGIN:VTIMEZONE
TZID:America/Indiana/Indianapolis
BEGIN:DAYLIGHT
TZOFFSETFROM:-0500
TZOFFSETTO:-0400
TZNAME:EDT
DTSTART:20220313T070000
END:DAYLIGHT
BEGIN:STANDARD
TZOFFSETFROM:-0400
TZOFFSETTO:-0500
TZNAME:EST
DTSTART:20221106T060000
END:STANDARD
BEGIN:DAYLIGHT
TZOFFSETFROM:-0500
TZOFFSETTO:-0400
TZNAME:EDT
DTSTART:20230312T070000
END:DAYLIGHT
BEGIN:STANDARD
TZOFFSETFROM:-0400
TZOFFSETTO:-0500
TZNAME:EST
DTSTART:20231105T060000
END:STANDARD
BEGIN:DAYLIGHT
TZOFFSETFROM:-0500
TZOFFSETTO:-0400
TZNAME:EDT
DTSTART:20240310T070000
END:DAYLIGHT
BEGIN:STANDARD
TZOFFSETFROM:-0400
TZOFFSETTO:-0500
TZNAME:EST
DTSTART:20241103T060000
END:STANDARD
BEGIN:DAYLIGHT
TZOFFSETFROM:-0500
TZOFFSETTO:-0400
TZNAME:EDT
DTSTART:20250309T070000
END:DAYLIGHT
BEGIN:STANDARD
TZOFFSETFROM:-0400
TZOFFSETTO:-0500
TZNAME:EST
DTSTART:20251102T060000
END:STANDARD
END:VTIMEZONE
BEGIN:VEVENT
DTSTART;TZID=America/Indiana/Indianapolis:20240125T160000
DTEND;TZID=America/Indiana/Indianapolis:20240125T170000
DTSTAMP:20260424T054616
CREATED:20230925T181633Z
LAST-MODIFIED:20231114T171021Z
UID:39880-1706198400-1706202000@www.myepl.org
SUMMARY:Make a Mug and Coaster
DESCRIPTION:Tweens and Teens\, enjoy a snack while you decorate your own mug and coaster to enjoy hot cocoa with.
URL:https://www.myepl.org/event/make-a-mug-and-coaster/
LOCATION:Osolo Branch\, 3429 E. Bristol St.\, Elkhart\, IN\, 46516\, United States
CATEGORIES:Just for Fun,Teen Programs
ATTACH;FMTTYPE=image/jpeg:https://www.myepl.org/wp-content/uploads/2023/09/Mug-and-Coaster-osolo.jpg
END:VEVENT
BEGIN:VEVENT
DTSTART;TZID=America/Indiana/Indianapolis:20240124T163000
DTEND;TZID=America/Indiana/Indianapolis:20240124T180000
DTSTAMP:20260424T054616
CREATED:20230925T140055Z
LAST-MODIFIED:20240105T145749Z
UID:39701-1706113800-1706119200@www.myepl.org
SUMMARY:DIY Snow Globes for Teens
DESCRIPTION:Create a fun and easy homemade snow globe to brighten up these snowy days.
URL:https://www.myepl.org/event/diy-snow-globes-for-teens/
LOCATION:Downtown Library\, 300 S. Second St.\, Elkhart\, IN\, 46516\, United States
CATEGORIES:Crafts,Teen Programs
ATTACH;FMTTYPE=image/png:https://www.myepl.org/wp-content/uploads/2023/09/DIYSnowGlobe-Calendar.png
END:VEVENT
BEGIN:VEVENT
DTSTART;TZID=America/Indiana/Indianapolis:20240112T183000
DTEND;TZID=America/Indiana/Indianapolis:20240112T203000
DTSTAMP:20260424T054616
CREATED:20230922T174805Z
LAST-MODIFIED:20230922T174805Z
UID:39622-1705084200-1705091400@www.myepl.org
SUMMARY:Teen Lock In
DESCRIPTION:Spend the evening playing games\, making crafts and eating snacks. Wear comfy clothes and come hang out.
URL:https://www.myepl.org/event/teen-lock-in-2/
LOCATION:Downtown Library\, 300 S. Second St.\, Elkhart\, IN\, 46516\, United States
CATEGORIES:Just for Fun,Teen Programs
ATTACH;FMTTYPE=image/png:https://www.myepl.org/wp-content/uploads/2022/07/Calendar-Library-Lock-In-01.png
END:VEVENT
BEGIN:VEVENT
DTSTART;TZID=America/Indiana/Indianapolis:20240111T163000
DTEND;TZID=America/Indiana/Indianapolis:20240111T183000
DTSTAMP:20260424T054616
CREATED:20230925T143804Z
LAST-MODIFIED:20230925T144126Z
UID:39724-1704990600-1704997800@www.myepl.org
SUMMARY:Cookies and Canvas for Tweens and Teens
DESCRIPTION:Learn new techniques while painting with acrylics. \nRegistration for this program opens Dec. 1.
URL:https://www.myepl.org/event/cookies-and-canvas-for-tweens-and-teens-8/
LOCATION:Downtown Library\, 300 S. Second St.\, Elkhart\, IN\, 46516\, United States
CATEGORIES:Art,Teen Programs
ATTACH;FMTTYPE=image/jpeg:https://www.myepl.org/wp-content/uploads/2022/12/Teen-painting-2.jpg
END:VEVENT
BEGIN:VEVENT
DTSTART;TZID=America/Indiana/Indianapolis:20231214T163000
DTEND;TZID=America/Indiana/Indianapolis:20231214T183000
DTSTAMP:20260424T054616
CREATED:20230925T143610Z
LAST-MODIFIED:20230925T144004Z
UID:39722-1702571400-1702578600@www.myepl.org
SUMMARY:Cookies and Canvas for Tweens and Teens
DESCRIPTION:Learn new techniques while painting with acrylics. \nRegistration for this program opens Nov. 1.
URL:https://www.myepl.org/event/cookies-and-canvas-for-tweens-and-teens-7/
LOCATION:Downtown Library\, 300 S. Second St.\, Elkhart\, IN\, 46516\, United States
CATEGORIES:Art,Teen Programs
ATTACH;FMTTYPE=image/jpeg:https://www.myepl.org/wp-content/uploads/2022/10/Teen-Program-Painting.jpg
END:VEVENT
BEGIN:VEVENT
DTSTART;TZID=America/Indiana/Indianapolis:20231213T163000
DTEND;TZID=America/Indiana/Indianapolis:20231213T180000
DTSTAMP:20260424T054616
CREATED:20230925T140625Z
LAST-MODIFIED:20231122T205907Z
UID:39703-1702485000-1702490400@www.myepl.org
SUMMARY:Snowman Ornaments for Teens
DESCRIPTION:Celebrate this holiday season (or make a last-minute gift) with hand-painted snowman ornaments.
URL:https://www.myepl.org/event/snowman-ornaments-for-teens/
LOCATION:Downtown Library\, 300 S. Second St.\, Elkhart\, IN\, 46516\, United States
CATEGORIES:Crafts,Teen Programs
ATTACH;FMTTYPE=image/png:https://www.myepl.org/wp-content/uploads/2023/09/snowmanornaments-calendar.png
END:VEVENT
BEGIN:VEVENT
DTSTART;TZID=America/Indiana/Indianapolis:20231116T163000
DTEND;TZID=America/Indiana/Indianapolis:20231116T183000
DTSTAMP:20260424T054616
CREATED:20230925T143422Z
LAST-MODIFIED:20230925T144233Z
UID:39719-1700152200-1700159400@www.myepl.org
SUMMARY:Cookies and Canvas for Tweens and Teens
DESCRIPTION:Learn new techniques while painting with acrylics. \nRegistration for this program opens Oct. 1.
URL:https://www.myepl.org/event/cookies-and-canvas-for-tweens-and-teens-6/
LOCATION:Downtown Library\, 300 S. Second St.\, Elkhart\, IN\, 46516\, United States
CATEGORIES:Art,Teen Programs
ATTACH;FMTTYPE=image/jpeg:https://www.myepl.org/wp-content/uploads/2022/12/Teen-painting-2.jpg
END:VEVENT
BEGIN:VEVENT
DTSTART;TZID=America/Indiana/Indianapolis:20231116T160000
DTEND;TZID=America/Indiana/Indianapolis:20231116T170000
DTSTAMP:20260424T054616
CREATED:20230926T130812Z
LAST-MODIFIED:20231031T160600Z
UID:39934-1700150400-1700154000@www.myepl.org
SUMMARY:Wheel of Prizes
DESCRIPTION:Teens will spin the wheel\, guess a letter and figure out the word. Enjoy snacks while we play and compete for prizes.
URL:https://www.myepl.org/event/wheel-of-prizes/
LOCATION:Osolo Branch\, 3429 E. Bristol St.\, Elkhart\, IN\, 46516\, United States
CATEGORIES:Just for Fun,Teen Programs
ATTACH;FMTTYPE=image/png:https://www.myepl.org/wp-content/uploads/2023/09/Tween-and-Teen-Prize-Wheel-Calendar.png
END:VEVENT
BEGIN:VEVENT
DTSTART;TZID=America/Indiana/Indianapolis:20231115T163000
DTEND;TZID=America/Indiana/Indianapolis:20231115T180000
DTSTAMP:20260424T054616
CREATED:20230925T135652Z
LAST-MODIFIED:20231031T160626Z
UID:39699-1700065800-1700071200@www.myepl.org
SUMMARY:Karaoke for Teens
DESCRIPTION:Bring your friends and belt out your favorite songs.
URL:https://www.myepl.org/event/karaoke-for-teens/
LOCATION:Downtown Library\, 300 S. Second St.\, Elkhart\, IN\, 46516\, United States
CATEGORIES:Music,Teen Programs
ATTACH;FMTTYPE=image/png:https://www.myepl.org/wp-content/uploads/2023/09/Karaoke-Teens-Screens_calendar.png
END:VEVENT
END:VCALENDAR