BEGIN:VCALENDAR
VERSION:2.0
PRODID:-//Elkhart Public Library - ECPv6.15.20//NONSGML v1.0//EN
CALSCALE:GREGORIAN
METHOD:PUBLISH
X-ORIGINAL-URL:https://www.myepl.org
X-WR-CALDESC:Events for Elkhart Public Library
REFRESH-INTERVAL;VALUE=DURATION:PT1H
X-Robots-Tag:noindex
X-PUBLISHED-TTL:PT1H
BEGIN:VTIMEZONE
TZID:America/Indiana/Indianapolis
BEGIN:DAYLIGHT
TZOFFSETFROM:-0500
TZOFFSETTO:-0400
TZNAME:EDT
DTSTART:20220313T070000
END:DAYLIGHT
BEGIN:STANDARD
TZOFFSETFROM:-0400
TZOFFSETTO:-0500
TZNAME:EST
DTSTART:20221106T060000
END:STANDARD
BEGIN:DAYLIGHT
TZOFFSETFROM:-0500
TZOFFSETTO:-0400
TZNAME:EDT
DTSTART:20230312T070000
END:DAYLIGHT
BEGIN:STANDARD
TZOFFSETFROM:-0400
TZOFFSETTO:-0500
TZNAME:EST
DTSTART:20231105T060000
END:STANDARD
BEGIN:DAYLIGHT
TZOFFSETFROM:-0500
TZOFFSETTO:-0400
TZNAME:EDT
DTSTART:20240310T070000
END:DAYLIGHT
BEGIN:STANDARD
TZOFFSETFROM:-0400
TZOFFSETTO:-0500
TZNAME:EST
DTSTART:20241103T060000
END:STANDARD
END:VTIMEZONE
BEGIN:VEVENT
DTSTART;TZID=America/Indiana/Indianapolis:20230814T133000
DTEND;TZID=America/Indiana/Indianapolis:20230814T150000
DTSTAMP:20260421T113821
CREATED:20230328T193430Z
LAST-MODIFIED:20230328T193521Z
UID:35780-1692019800-1692025200@www.myepl.org
SUMMARY:Readers Roundtable
DESCRIPTION:Share your latest reads and recommendations from other avid readers at this casual\, no-assigned-reading book club.
URL:https://www.myepl.org/event/readers-roundtable-7/
LOCATION:Cleveland Branch\, 53715 C.R. 1\, Elkhart\, IN\, 46514\, United States
CATEGORIES:Book Discussion
ATTACH;FMTTYPE=image/jpeg:https://www.myepl.org/wp-content/uploads/2023/03/Readers-Roundtable-05.jpg
END:VEVENT
BEGIN:VEVENT
DTSTART;TZID=America/Indiana/Indianapolis:20230809T110000
DTEND;TZID=America/Indiana/Indianapolis:20230809T114500
DTSTAMP:20260421T113821
CREATED:20221006T161325Z
LAST-MODIFIED:20230703T135643Z
UID:35951-1691578800-1691581500@www.myepl.org
SUMMARY:CANCELLED: Storytime at Cleveland
DESCRIPTION:(Due to scheduling changes\, this week’s Storytime has been cancelled.) Meet new friends and gain literacy and social skills through stories\, songs\, rhymes and more at the Cleveland Branch.
URL:https://www.myepl.org/event/storytime-at-cleveland-11-2023-08-09/
LOCATION:Cleveland Branch\, 53715 C.R. 1\, Elkhart\, IN\, 46514\, United States
CATEGORIES:Storytimes
ATTACH;FMTTYPE=image/jpeg:https://www.myepl.org/wp-content/uploads/2022/10/Cleveland-Storytime-04-scaled.jpg
END:VEVENT
BEGIN:VEVENT
DTSTART;TZID=America/Indiana/Indianapolis:20230714T180000
DTEND;TZID=America/Indiana/Indianapolis:20230714T190000
DTSTAMP:20260421T113821
CREATED:20230403T133604Z
LAST-MODIFIED:20230629T183425Z
UID:35990-1689357600-1689361200@www.myepl.org
SUMMARY:Family Fort Night
DESCRIPTION:Make a fort and read stories. Bring family and friends to “camp” in your tent at the library. We will supply tables\, chairs\, tenting materials\, books (of course)\, s’mores mix and more. Bring a flashlight and any of your own blankets\, sheets\, etc. Pajamas and stuffed animal are welcome!
URL:https://www.myepl.org/event/family-fort-night/
LOCATION:Cleveland Branch\, 53715 C.R. 1\, Elkhart\, IN\, 46514\, United States
CATEGORIES:Summer Reading
ATTACH;FMTTYPE=image/jpeg:https://www.myepl.org/wp-content/uploads/2023/04/Family-Reading-Fort.jpg
END:VEVENT
BEGIN:VEVENT
DTSTART;TZID=America/Indiana/Indianapolis:20230711T173000
DTEND;TZID=America/Indiana/Indianapolis:20230711T183000
DTSTAMP:20260421T113821
CREATED:20230403T125128Z
LAST-MODIFIED:20230629T180427Z
UID:35932-1689096600-1689100200@www.myepl.org
SUMMARY:Downsizing Your Treasures
DESCRIPTION:Clear up the clutter and learn ways to decide what to keep and what to let go. To register call 574-533-0554 or email fink24@purdue.edu.
URL:https://www.myepl.org/event/downsizing-your-treasures/
LOCATION:Cleveland Branch\, 53715 C.R. 1\, Elkhart\, IN\, 46514\, United States
CATEGORIES:Educational
ATTACH;FMTTYPE=image/png:https://www.myepl.org/wp-content/uploads/2023/04/Downsizing-Your-Treasures-Calendar.png
END:VEVENT
BEGIN:VEVENT
DTSTART;TZID=America/Indiana/Indianapolis:20230710T140000
DTEND;TZID=America/Indiana/Indianapolis:20230710T153000
DTSTAMP:20260421T113821
CREATED:20230328T192858Z
LAST-MODIFIED:20230328T192858Z
UID:35778-1688997600-1689003000@www.myepl.org
SUMMARY:Readers Roundtable
DESCRIPTION:Share your latest reads and recommendations from other avid readers at this casual\, no-assigned-reading book club.
URL:https://www.myepl.org/event/readers-roundtable-6/
LOCATION:Cleveland Branch\, 53715 C.R. 1\, Elkhart\, IN\, 46514\, United States
CATEGORIES:Book Discussion
ATTACH;FMTTYPE=image/jpeg:https://www.myepl.org/wp-content/uploads/2022/10/Readers-Roundtable-04.jpg
END:VEVENT
BEGIN:VEVENT
DTSTART;TZID=America/Indiana/Indianapolis:20230621T110000
DTEND;TZID=America/Indiana/Indianapolis:20230621T114500
DTSTAMP:20260421T113821
CREATED:20221006T161325Z
LAST-MODIFIED:20230620T205323Z
UID:35944-1687345200-1687347900@www.myepl.org
SUMMARY:Storytime with Miss Angie
DESCRIPTION:Meet new friends and gain literacy and social skills through stories\, songs\, rhymes and more at the Cleveland Branch.
URL:https://www.myepl.org/event/storytime-at-cleveland-11-2023-06-21/
LOCATION:Cleveland Branch\, 53715 C.R. 1\, Elkhart\, IN\, 46514\, United States
CATEGORIES:Storytimes
ATTACH;FMTTYPE=image/jpeg:https://www.myepl.org/wp-content/uploads/2022/10/Cleveland-Storytime-03-scaled.jpg
END:VEVENT
BEGIN:VEVENT
DTSTART;TZID=America/Indiana/Indianapolis:20230612T140000
DTEND;TZID=America/Indiana/Indianapolis:20230612T153000
DTSTAMP:20260421T113821
CREATED:20230328T192725Z
LAST-MODIFIED:20230328T192725Z
UID:35776-1686578400-1686583800@www.myepl.org
SUMMARY:Readers Roundtable
DESCRIPTION:Share your latest reads and recommendations from other avid readers at this casual\, no-assigned-reading book club.
URL:https://www.myepl.org/event/readers-roundtable-5/
LOCATION:Cleveland Branch\, 53715 C.R. 1\, Elkhart\, IN\, 46514\, United States
CATEGORIES:Book Discussion
ATTACH;FMTTYPE=image/jpeg:https://www.myepl.org/wp-content/uploads/2022/10/Readers-Roundtable-04.jpg
END:VEVENT
BEGIN:VEVENT
DTSTART;TZID=America/Indiana/Indianapolis:20230606T130000
DTEND;TZID=America/Indiana/Indianapolis:20230606T150000
DTSTAMP:20260421T113821
CREATED:20230403T133204Z
LAST-MODIFIED:20230629T193143Z
UID:35986-1686056400-1686063600@www.myepl.org
SUMMARY:Movie and Popcorn
DESCRIPTION:Join us monthly for a free movie and popcorn. \nJune 6 – DC League of Super-Pets\nJuly 11 – Puss in Boots: The Last Wish\nAug. 8 – Minions: The Rise of Gru
URL:https://www.myepl.org/event/movie-and-popcorn/2023-06-06/
LOCATION:Cleveland Branch\, 53715 C.R. 1\, Elkhart\, IN\, 46514\, United States
CATEGORIES:Movies
ATTACH;FMTTYPE=image/png:https://www.myepl.org/wp-content/uploads/2023/04/Movie-and-Popcorn-Calendar.png
END:VEVENT
BEGIN:VEVENT
DTSTART;VALUE=DATE:20230605
DTEND;VALUE=DATE:20230611
DTSTAMP:20260421T113821
CREATED:20230403T122909Z
LAST-MODIFIED:20230602T125757Z
UID:35927-1685923200-1686441599@www.myepl.org
SUMMARY:Engineering Table - STEM Challenges
DESCRIPTION:Take a new STEM challenge during open hours. Learn how things work with hands-on experiments. Challenge changes every two weeks.
URL:https://www.myepl.org/event/engineering-table-stem-challenges/
LOCATION:Cleveland Branch\, 53715 C.R. 1\, Elkhart\, IN\, 46514\, United States
END:VEVENT
BEGIN:VEVENT
DTSTART;TZID=America/Indiana/Indianapolis:20230520T110000
DTEND;TZID=America/Indiana/Indianapolis:20230520T130000
DTSTAMP:20260421T113821
CREATED:20230403T134559Z
LAST-MODIFIED:20230508T145510Z
UID:35996-1684580400-1684587600@www.myepl.org
SUMMARY:Ice Cream Social
DESCRIPTION:Create an ice cream sundae\, make a craft and learn about the Summer Reading Challenge.
URL:https://www.myepl.org/event/ice-cream-social-2/
LOCATION:Cleveland Branch\, 53715 C.R. 1\, Elkhart\, IN\, 46514\, United States
CATEGORIES:Just for Fun,Summer Reading
END:VEVENT
BEGIN:VEVENT
DTSTART;TZID=America/Indiana/Indianapolis:20230518T173000
DTEND;TZID=America/Indiana/Indianapolis:20230518T190000
DTSTAMP:20260421T113821
CREATED:20230328T201404Z
LAST-MODIFIED:20230707T154608Z
UID:35784-1684431000-1684436400@www.myepl.org
SUMMARY:Cleveland Café
DESCRIPTION:Enjoy live\, local music at the Cleveland Branch. Upcoming performers: \nMay 18 – Anna Hagen\, harpist\nJune 15 – La Monte Heflic and Brenda Horein\, guitar/keyboard duo\nJuly 20 – Cool Change\, vocal/guitar duo
URL:https://www.myepl.org/event/cleveland-cafe-7/2023-05-18/
LOCATION:Cleveland Branch\, 53715 C.R. 1\, Elkhart\, IN\, 46514\, United States
CATEGORIES:Music
ATTACH;FMTTYPE=image/png:https://www.myepl.org/wp-content/uploads/2023/03/Calendar-Cleveland-Cafe.png
END:VEVENT
BEGIN:VEVENT
DTSTART;TZID=America/Indiana/Indianapolis:20230407T090000
DTEND;TZID=America/Indiana/Indianapolis:20230407T180000
DTSTAMP:20260421T113821
CREATED:20230323T132816Z
LAST-MODIFIED:20230323T190028Z
UID:35725-1680858000-1680890400@www.myepl.org
SUMMARY:Peeps Diorama Contest
DESCRIPTION:Make a diorama with marshmallow Peeps anytime during open hours. Use paint\, paper\, beads\, markers and more to create your diorama. Make it themed or after a favorite book. \nEntries will be displayed for voting Monday\, April 10-Thursday\, April 20 and the winners will be announced Friday\, April 21.
URL:https://www.myepl.org/event/peeps-diorama-contest/
LOCATION:Cleveland Branch\, 53715 C.R. 1\, Elkhart\, IN\, 46514\, United States
CATEGORIES:Just for Fun
ATTACH;FMTTYPE=image/png:https://www.myepl.org/wp-content/uploads/2023/03/Peeps-Diorama-Contest-Calendar.png
END:VEVENT
BEGIN:VEVENT
DTSTART;TZID=America/Indiana/Indianapolis:20230405T130000
DTEND;TZID=America/Indiana/Indianapolis:20230405T150000
DTSTAMP:20260421T113821
CREATED:20230309T155225Z
LAST-MODIFIED:20230329T151855Z
UID:35534-1680699600-1680706800@www.myepl.org
SUMMARY:Free Spring Break Movie: Lyle\, Lyle Crocodile
DESCRIPTION:Enjoy free popcorn and a showing of “Lyle\, Lyle Crocodile.” The movie is rated PG and is 1 hour\, 46 minutes.
URL:https://www.myepl.org/event/free-spring-break-movie-lyle-lyle-crocodile/
LOCATION:Cleveland Branch\, 53715 C.R. 1\, Elkhart\, IN\, 46514\, United States
CATEGORIES:Movies
END:VEVENT
BEGIN:VEVENT
DTSTART;TZID=America/Indiana/Indianapolis:20230321T173000
DTEND;TZID=America/Indiana/Indianapolis:20230321T183000
DTSTAMP:20260421T113821
CREATED:20230106T164136Z
LAST-MODIFIED:20230228T141015Z
UID:34640-1679419800-1679423400@www.myepl.org
SUMMARY:Severe Weather Safety
DESCRIPTION:Learn about the severe weather we get in Northern Indiana\, how to stay safe and the role of the National Weather Service from meteorologist Rachel Cobb.
URL:https://www.myepl.org/event/severe-weather-safety/
LOCATION:Cleveland Branch\, 53715 C.R. 1\, Elkhart\, IN\, 46514\, United States
CATEGORIES:Educational
ATTACH;FMTTYPE=image/png:https://www.myepl.org/wp-content/uploads/2023/01/Severe-Weather-Safety-_-Calendar.png
END:VEVENT
BEGIN:VEVENT
DTSTART;TZID=America/Indiana/Indianapolis:20230211T110000
DTEND;TZID=America/Indiana/Indianapolis:20230211T123000
DTSTAMP:20260421T113821
CREATED:20230106T164810Z
LAST-MODIFIED:20230125T165128Z
UID:34642-1676113200-1676118600@www.myepl.org
SUMMARY:Knitting 101
DESCRIPTION:Learn knitting basics\, casting on and off\, knit and purl stitches and pattern reading. Bring size 7 or 8 straight needles and worsted-weight yarn. Best for ages 12 and up. 
URL:https://www.myepl.org/event/knitting-101/
LOCATION:Cleveland Branch\, 53715 C.R. 1\, Elkhart\, IN\, 46514\, United States
CATEGORIES:Crafts
ATTACH;FMTTYPE=image/png:https://www.myepl.org/wp-content/uploads/2023/01/Knitting-101-Calendar.png
END:VEVENT
END:VCALENDAR