BEGIN:VCALENDAR
VERSION:2.0
PRODID:-//Elkhart Public Library - ECPv6.15.20//NONSGML v1.0//EN
CALSCALE:GREGORIAN
METHOD:PUBLISH
X-ORIGINAL-URL:https://www.myepl.org
X-WR-CALDESC:Events for Elkhart Public Library
REFRESH-INTERVAL;VALUE=DURATION:PT1H
X-Robots-Tag:noindex
X-PUBLISHED-TTL:PT1H
BEGIN:VTIMEZONE
TZID:America/Indiana/Indianapolis
BEGIN:DAYLIGHT
TZOFFSETFROM:-0500
TZOFFSETTO:-0400
TZNAME:EDT
DTSTART:20250309T070000
END:DAYLIGHT
BEGIN:STANDARD
TZOFFSETFROM:-0400
TZOFFSETTO:-0500
TZNAME:EST
DTSTART:20251102T060000
END:STANDARD
BEGIN:DAYLIGHT
TZOFFSETFROM:-0500
TZOFFSETTO:-0400
TZNAME:EDT
DTSTART:20260308T070000
END:DAYLIGHT
BEGIN:STANDARD
TZOFFSETFROM:-0400
TZOFFSETTO:-0500
TZNAME:EST
DTSTART:20261101T060000
END:STANDARD
BEGIN:DAYLIGHT
TZOFFSETFROM:-0500
TZOFFSETTO:-0400
TZNAME:EDT
DTSTART:20270314T070000
END:DAYLIGHT
BEGIN:STANDARD
TZOFFSETFROM:-0400
TZOFFSETTO:-0500
TZNAME:EST
DTSTART:20271107T060000
END:STANDARD
END:VTIMEZONE
BEGIN:VEVENT
DTSTART;TZID=America/Indiana/Indianapolis:20260602T163000
DTEND;TZID=America/Indiana/Indianapolis:20260602T180000
DTSTAMP:20260423T135932
CREATED:20230621T172139Z
LAST-MODIFIED:20230621T172139Z
UID:55392-1780417800-1780423200@www.myepl.org
SUMMARY:Teen Anime Club
DESCRIPTION:Enjoy anime and manga with other fans. We’ll share Japanese snacks and make crafts\, too.
URL:https://www.myepl.org/event/teen-anime-club-5/2026-06-02/
LOCATION:Downtown Library\, 300 S. Second St.\, Elkhart\, IN\, 46516\, United States
CATEGORIES:Just for Fun,Teen Programs
ATTACH;FMTTYPE=image/png:https://www.myepl.org/wp-content/uploads/2021/09/Calendar-_-Anime-Club-01-1.png
END:VEVENT
BEGIN:VEVENT
DTSTART;TZID=America/Indiana/Indianapolis:20260603T093000
DTEND;TZID=America/Indiana/Indianapolis:20260603T101500
DTSTAMP:20260423T135932
CREATED:20241003T133502Z
LAST-MODIFIED:20241003T133502Z
UID:55741-1780479000-1780481700@www.myepl.org
SUMMARY:Baby & Me
DESCRIPTION:Miss Allison leads this early introduction to books and literacy – it’s a special storytime for the littlest ones\, ages 0-24 months. Expect songs\, rhymes and stories\, along with a fun playtime to wrap things up.
URL:https://www.myepl.org/event/baby-and-me-2/2026-06-03/
LOCATION:Downtown Library\, 300 S. Second St.\, Elkhart\, IN\, 46516\, United States
CATEGORIES:Infant Programs,Storytimes
ATTACH;FMTTYPE=image/jpeg:https://www.myepl.org/wp-content/uploads/2024/10/Baby-and-Me-01-scaled.jpg
END:VEVENT
BEGIN:VEVENT
DTSTART;TZID=America/Indiana/Indianapolis:20260603T103000
DTEND;TZID=America/Indiana/Indianapolis:20260603T111500
DTSTAMP:20260423T135932
CREATED:20241003T133502Z
LAST-MODIFIED:20241003T133502Z
UID:55742-1780482600-1780485300@www.myepl.org
SUMMARY:Baby & Me
DESCRIPTION:Miss Allison leads this early introduction to books and literacy – it’s a special storytime for the littlest ones\, ages 0-24 months. Expect songs\, rhymes and stories\, along with a fun playtime to wrap things up.
URL:https://www.myepl.org/event/baby-and-me-2/2026-06-03/65/
LOCATION:Downtown Library\, 300 S. Second St.\, Elkhart\, IN\, 46516\, United States
CATEGORIES:Infant Programs,Storytimes
ATTACH;FMTTYPE=image/jpeg:https://www.myepl.org/wp-content/uploads/2024/10/Baby-and-Me-01-scaled.jpg
END:VEVENT
BEGIN:VEVENT
DTSTART;TZID=America/Indiana/Indianapolis:20260603T163000
DTEND;TZID=America/Indiana/Indianapolis:20260603T180000
DTSTAMP:20260423T135932
CREATED:20260106T185444Z
LAST-MODIFIED:20260106T185444Z
UID:55512-1780504200-1780509600@www.myepl.org
SUMMARY:Adult Anime Club
DESCRIPTION:Watch and discuss anime\, make a craft and enjoy snacks.
URL:https://www.myepl.org/event/adult-anime-club/2026-06-03/
LOCATION:Downtown Library\, 300 S. Second St.\, Elkhart\, IN\, 46516\, United States
CATEGORIES:Adult Programs,Just for Fun
ATTACH;FMTTYPE=image/png:https://www.myepl.org/wp-content/uploads/2025/06/adultanimeclub_Calendar.png
END:VEVENT
BEGIN:VEVENT
DTSTART;TZID=America/Indiana/Indianapolis:20260604T100000
DTEND;TZID=America/Indiana/Indianapolis:20260604T110000
DTSTAMP:20260423T135932
CREATED:20230922T172730Z
LAST-MODIFIED:20230922T172730Z
UID:55359-1780567200-1780570800@www.myepl.org
SUMMARY:Little Explorers
DESCRIPTION:Early literacy fun through experiencing music\, stories and hands-on activities. Please note\, Little Explorers will pause on Dec. 25 and Jan. 1 for the holidays.
URL:https://www.myepl.org/event/little-explorers/2026-06-04/
LOCATION:Downtown Library\, 300 S. Second St.\, Elkhart\, IN\, 46516\, United States
CATEGORIES:Preschool Programs,Storytimes
ATTACH;FMTTYPE=image/jpeg:https://www.myepl.org/wp-content/uploads/2023/09/Little-Explorers-1.jpg
END:VEVENT
BEGIN:VEVENT
DTSTART;TZID=America/Indiana/Indianapolis:20260605T100000
DTEND;TZID=America/Indiana/Indianapolis:20260605T110000
DTSTAMP:20260423T135932
CREATED:20250618T162100Z
LAST-MODIFIED:20260330T131455Z
UID:55351-1780653600-1780657200@www.myepl.org
SUMMARY:Sensory Playdate
DESCRIPTION:Come in play clothes and let little ones explore and learn through sensory play.
URL:https://www.myepl.org/event/sensory-playdate/2026-06-05/
LOCATION:Downtown Library\, 300 S. Second St.\, Elkhart\, IN\, 46516\, United States
CATEGORIES:Just for Fun,Preschool Programs
ATTACH;FMTTYPE=image/jpeg:https://www.myepl.org/wp-content/uploads/2025/06/Messy-Play-Day-scaled.jpg
END:VEVENT
BEGIN:VEVENT
DTSTART;TZID=America/Indiana/Indianapolis:20260605T160000
DTEND;TZID=America/Indiana/Indianapolis:20260605T170000
DTSTAMP:20260423T135932
CREATED:20260318T123959Z
LAST-MODIFIED:20260319T122906Z
UID:55505-1780675200-1780678800@www.myepl.org
SUMMARY:Art Contest Studio Day
DESCRIPTION:Using our art supplies\, create a piece to enter the Summer Art Contest.
URL:https://www.myepl.org/event/art-contest-studio-day/2026-06-05/
LOCATION:Downtown Library\, 300 S. Second St.\, Elkhart\, IN\, 46516\, United States
CATEGORIES:Art,Preschool Programs,School Age Programs,Teen Programs
ATTACH;FMTTYPE=image/jpeg:https://www.myepl.org/wp-content/uploads/2026/03/Art-paint-web.jpg
END:VEVENT
BEGIN:VEVENT
DTSTART;TZID=America/Indiana/Indianapolis:20260605T190000
DTEND;TZID=America/Indiana/Indianapolis:20260605T213000
DTSTAMP:20260423T135932
CREATED:20260410T181557Z
LAST-MODIFIED:20260410T181557Z
UID:55960-1780686000-1780695000@www.myepl.org
SUMMARY:Curbside Concerts: The Erly
DESCRIPTION:The Erly returns to the roof with their brand of Americana rock as the seventh season of Curbside Concerts rolls on June 5. \nCurbside Concerts are free to attend. Food and beverages are available for purchase – That Guys Gourmet Ribs and Tropicana Ice Cream Shop will be here with us along with Shirley’s Gourmet Popcorn. Bring a camp chair\, bring a blanket\, bring your ready-for-the-weekend mood. \nThe “Well Crafted” events have the support of the Elkhart County Convention and Visitors Bureau. Check out MyEPL.org/curbside for all the series info.
URL:https://www.myepl.org/event/curbside-concerts-the-erly/
LOCATION:Downtown Library\, 300 S. Second St.\, Elkhart\, IN\, 46516\, United States
CATEGORIES:Featured,Music
ATTACH;FMTTYPE=image/jpeg:https://www.myepl.org/wp-content/uploads/2026/04/The-Erly-1-scaled.jpg
END:VEVENT
BEGIN:VEVENT
DTSTART;TZID=America/Indiana/Indianapolis:20260606T090000
DTEND;TZID=America/Indiana/Indianapolis:20260606T143000
DTSTAMP:20260423T135932
CREATED:20260130T160437Z
LAST-MODIFIED:20260130T160437Z
UID:54440-1780736400-1780756200@www.myepl.org
SUMMARY:Friends of EPL Book Sale
DESCRIPTION:Join the Friends of Elkhart Public Library for the monthly used book sale on the first Saturday of each month. Specials are announced on Facebook.
URL:https://www.myepl.org/event/friends-of-epl-book-sale-2/2026-06-06/
LOCATION:Downtown Library\, 300 S. Second St.\, Elkhart\, IN\, 46516\, United States
CATEGORIES:Book Sale
ATTACH;FMTTYPE=image/png:https://www.myepl.org/wp-content/uploads/2021/08/friends-300x276-1.png
END:VEVENT
BEGIN:VEVENT
DTSTART;TZID=America/Indiana/Indianapolis:20260608T160000
DTEND;TZID=America/Indiana/Indianapolis:20260608T173000
DTSTAMP:20260423T135932
CREATED:20260325T115640Z
LAST-MODIFIED:20260325T115640Z
UID:55797-1780934400-1780939800@www.myepl.org
SUMMARY:Fun Family Movie
DESCRIPTION:Enjoy free popcorn while we watch “GOAT” (PG\, 1:33).
URL:https://www.myepl.org/event/fun-family-movie-27/
LOCATION:Downtown Library\, 300 S. Second St.\, Elkhart\, IN\, 46516\, United States
CATEGORIES:Movies
END:VEVENT
BEGIN:VEVENT
DTSTART;TZID=America/Indiana/Indianapolis:20260609T143000
DTEND;TZID=America/Indiana/Indianapolis:20260609T163000
DTSTAMP:20260423T135932
CREATED:20260311T201952Z
LAST-MODIFIED:20260311T201952Z
UID:55104-1781015400-1781022600@www.myepl.org
SUMMARY:Computer One-on-One
DESCRIPTION:Reserve 30 minutes of stress-free basic computer help from our experts. From saving a file to accessing library resources\, we can help. Sessions start at 2:30\, 3\, 3:30 and 4 p.m.
URL:https://www.myepl.org/event/computer-one-on-one-27/
LOCATION:Downtown Library\, 300 S. Second St.\, Elkhart\, IN\, 46516\, United States
CATEGORIES:Adult Programs,Computer Classes
ATTACH;FMTTYPE=image/jpeg:https://www.myepl.org/wp-content/uploads/2023/01/Computer-class-scaled.jpg
END:VEVENT
BEGIN:VEVENT
DTSTART;TZID=America/Indiana/Indianapolis:20260609T153000
DTEND;TZID=America/Indiana/Indianapolis:20260609T163000
DTSTAMP:20260423T135932
CREATED:20260306T215205Z
LAST-MODIFIED:20260306T215205Z
UID:55000-1781019000-1781022600@www.myepl.org
SUMMARY:Coffee and Canvas for Adults
DESCRIPTION:Follow local artist Linda Pieri as we create a new painting each month. \nRegistration for this program opens May 1.
URL:https://www.myepl.org/event/coffee-and-canvas-for-adults-44/
LOCATION:Downtown Library\, 300 S. Second St.\, Elkhart\, IN\, 46516\, United States
CATEGORIES:Adult Programs,Art
ATTACH;FMTTYPE=image/jpeg:https://www.myepl.org/wp-content/uploads/2026/03/new-sapling-scaled.jpg
END:VEVENT
BEGIN:VEVENT
DTSTART;TZID=America/Indiana/Indianapolis:20260609T163000
DTEND;TZID=America/Indiana/Indianapolis:20260609T180000
DTSTAMP:20260423T135932
CREATED:20260316T171714Z
LAST-MODIFIED:20260316T171714Z
UID:55402-1781022600-1781028000@www.myepl.org
SUMMARY:What's Inside?
DESCRIPTION:Join us to do some reverse engineering on old electronics and toys to see what’s inside and how they work. This program is geared for teens.
URL:https://www.myepl.org/event/whats-inside/
LOCATION:Downtown Library\, 300 S. Second St.\, Elkhart\, IN\, 46516\, United States
CATEGORIES:Just for Fun,Teen Programs
END:VEVENT
BEGIN:VEVENT
DTSTART;TZID=America/Indiana/Indianapolis:20260609T173000
DTEND;TZID=America/Indiana/Indianapolis:20260609T183000
DTSTAMP:20260423T135932
CREATED:20260318T194235Z
LAST-MODIFIED:20260318T194235Z
UID:55602-1781026200-1781029800@www.myepl.org
SUMMARY:Coffee and Canvas for Adults
DESCRIPTION:Follow along with artist Linda Pieri to create a unique painting. \nRegistration for this program opens May 1.
URL:https://www.myepl.org/event/coffee-and-canvas-for-adults-45/
LOCATION:Downtown Library\, 300 S. Second St.\, Elkhart\, IN\, 46516\, United States
CATEGORIES:Adult Programs,Art
ATTACH;FMTTYPE=image/jpeg:https://www.myepl.org/wp-content/uploads/2026/03/new-sapling-scaled.jpg
END:VEVENT
BEGIN:VEVENT
DTSTART;TZID=America/Indiana/Indianapolis:20260610T093000
DTEND;TZID=America/Indiana/Indianapolis:20260610T101500
DTSTAMP:20260423T135932
CREATED:20241003T133502Z
LAST-MODIFIED:20241003T133502Z
UID:55743-1781083800-1781086500@www.myepl.org
SUMMARY:Baby & Me
DESCRIPTION:Miss Allison leads this early introduction to books and literacy – it’s a special storytime for the littlest ones\, ages 0-24 months. Expect songs\, rhymes and stories\, along with a fun playtime to wrap things up.
URL:https://www.myepl.org/event/baby-and-me-2/2026-06-10/
LOCATION:Downtown Library\, 300 S. Second St.\, Elkhart\, IN\, 46516\, United States
CATEGORIES:Infant Programs,Storytimes
ATTACH;FMTTYPE=image/jpeg:https://www.myepl.org/wp-content/uploads/2024/10/Baby-and-Me-01-scaled.jpg
END:VEVENT
BEGIN:VEVENT
DTSTART;TZID=America/Indiana/Indianapolis:20260610T103000
DTEND;TZID=America/Indiana/Indianapolis:20260610T111500
DTSTAMP:20260423T135932
CREATED:20241003T133502Z
LAST-MODIFIED:20241003T133502Z
UID:55744-1781087400-1781090100@www.myepl.org
SUMMARY:Baby & Me
DESCRIPTION:Miss Allison leads this early introduction to books and literacy – it’s a special storytime for the littlest ones\, ages 0-24 months. Expect songs\, rhymes and stories\, along with a fun playtime to wrap things up.
URL:https://www.myepl.org/event/baby-and-me-2/2026-06-10/66/
LOCATION:Downtown Library\, 300 S. Second St.\, Elkhart\, IN\, 46516\, United States
CATEGORIES:Infant Programs,Storytimes
ATTACH;FMTTYPE=image/jpeg:https://www.myepl.org/wp-content/uploads/2024/10/Baby-and-Me-01-scaled.jpg
END:VEVENT
BEGIN:VEVENT
DTSTART;TZID=America/Indiana/Indianapolis:20260611T100000
DTEND;TZID=America/Indiana/Indianapolis:20260611T110000
DTSTAMP:20260423T135932
CREATED:20230922T172730Z
LAST-MODIFIED:20230922T172730Z
UID:55360-1781172000-1781175600@www.myepl.org
SUMMARY:Little Explorers
DESCRIPTION:Early literacy fun through experiencing music\, stories and hands-on activities. Please note\, Little Explorers will pause on Dec. 25 and Jan. 1 for the holidays.
URL:https://www.myepl.org/event/little-explorers/2026-06-11/
LOCATION:Downtown Library\, 300 S. Second St.\, Elkhart\, IN\, 46516\, United States
CATEGORIES:Preschool Programs,Storytimes
ATTACH;FMTTYPE=image/jpeg:https://www.myepl.org/wp-content/uploads/2023/09/Little-Explorers-1.jpg
END:VEVENT
BEGIN:VEVENT
DTSTART;TZID=America/Indiana/Indianapolis:20260611T143000
DTEND;TZID=America/Indiana/Indianapolis:20260611T163000
DTSTAMP:20260423T135932
CREATED:20260311T202202Z
LAST-MODIFIED:20260311T202202Z
UID:55106-1781188200-1781195400@www.myepl.org
SUMMARY:Computer One-on-One
DESCRIPTION:Reserve 30 minutes of stress-free basic computer help from our experts. From saving a file to accessing library resources\, we can help. Sessions start at 2:30\, 3\, 3:30 and 4 p.m.
URL:https://www.myepl.org/event/computer-one-on-one-28/
LOCATION:Downtown Library\, 300 S. Second St.\, Elkhart\, IN\, 46516\, United States
CATEGORIES:Adult Programs,Computer Classes
ATTACH;FMTTYPE=image/jpeg:https://www.myepl.org/wp-content/uploads/2023/01/Computer-class-scaled.jpg
END:VEVENT
BEGIN:VEVENT
DTSTART;TZID=America/Indiana/Indianapolis:20260612T100000
DTEND;TZID=America/Indiana/Indianapolis:20260612T110000
DTSTAMP:20260423T135932
CREATED:20260316T173706Z
LAST-MODIFIED:20260316T173706Z
UID:55414-1781258400-1781262000@www.myepl.org
SUMMARY:Building Block Preschool Party
DESCRIPTION:Explore and build with DUPLOs\, Magna-Tiles\, wooden blocks and more.
URL:https://www.myepl.org/event/building-block-preschool-party/
LOCATION:Downtown Library\, 300 S. Second St.\, Elkhart\, IN\, 46516\, United States
CATEGORIES:Just for Fun,Preschool Programs
END:VEVENT
BEGIN:VEVENT
DTSTART;TZID=America/Indiana/Indianapolis:20260612T190000
DTEND;TZID=America/Indiana/Indianapolis:20260612T213000
DTSTAMP:20260423T135932
CREATED:20260410T181808Z
LAST-MODIFIED:20260410T183118Z
UID:55964-1781290800-1781299800@www.myepl.org
SUMMARY:Curbside Concerts: Starlord
DESCRIPTION:There are bands. And then there are bands that musicians take the night off to go see play. Welcome\, Starlord\, to the roof. Come see these prog rock legends on June 12. \nCurbside Concerts are free to attend. Food and beverages are available for purchase – Tropicana Ice Cream Shop will be here with us along with Shirley’s Gourmet Popcorn. Bring a camp chair\, bring a blanket\, bring your ready-for-the-weekend mood. \nThe “Well Crafted” events have the support of the Elkhart County Convention and Visitors Bureau. Check out MyEPL.org/curbside for all the series info.
URL:https://www.myepl.org/event/curbside-concerts-starlord/
LOCATION:Downtown Library\, 300 S. Second St.\, Elkhart\, IN\, 46516\, United States
CATEGORIES:Featured,Music
ATTACH;FMTTYPE=image/jpeg:https://www.myepl.org/wp-content/uploads/2026/04/starlord2.jpg
END:VEVENT
BEGIN:VEVENT
DTSTART;TZID=America/Indiana/Indianapolis:20260615T160000
DTEND;TZID=America/Indiana/Indianapolis:20260615T170000
DTSTAMP:20260423T135932
CREATED:20260316T161937Z
LAST-MODIFIED:20260316T161937Z
UID:55380-1781539200-1781542800@www.myepl.org
SUMMARY:Clay Monster Sculptures
DESCRIPTION:Use air-dry clay to make a monster to take home.
URL:https://www.myepl.org/event/clay-monster-sculptures/
LOCATION:Downtown Library\, 300 S. Second St.\, Elkhart\, IN\, 46516\, United States
CATEGORIES:Art,School Age Programs
END:VEVENT
BEGIN:VEVENT
DTSTART;TZID=America/Indiana/Indianapolis:20260616T160000
DTEND;TZID=America/Indiana/Indianapolis:20260616T174500
DTSTAMP:20260423T135932
CREATED:20260316T162728Z
LAST-MODIFIED:20260422T181444Z
UID:55382-1781625600-1781631900@www.myepl.org
SUMMARY:Teen Movie: Five Nights at Freddy's 2
DESCRIPTION:Bring your friends to hang out and watch “Five Nights at Freddy’s 2” (PG-13\, 1:44).
URL:https://www.myepl.org/event/teen-movie-five-nights-at-freddys-2/
LOCATION:Downtown Library\, 300 S. Second St.\, Elkhart\, IN\, 46516\, United States
CATEGORIES:Movies,Teen Programs
END:VEVENT
BEGIN:VEVENT
DTSTART;TZID=America/Indiana/Indianapolis:20260617T093000
DTEND;TZID=America/Indiana/Indianapolis:20260617T101500
DTSTAMP:20260423T135932
CREATED:20241003T133502Z
LAST-MODIFIED:20241003T133502Z
UID:55745-1781688600-1781691300@www.myepl.org
SUMMARY:Baby & Me
DESCRIPTION:Miss Allison leads this early introduction to books and literacy – it’s a special storytime for the littlest ones\, ages 0-24 months. Expect songs\, rhymes and stories\, along with a fun playtime to wrap things up.
URL:https://www.myepl.org/event/baby-and-me-2/2026-06-17/
LOCATION:Downtown Library\, 300 S. Second St.\, Elkhart\, IN\, 46516\, United States
CATEGORIES:Infant Programs,Storytimes
ATTACH;FMTTYPE=image/jpeg:https://www.myepl.org/wp-content/uploads/2024/10/Baby-and-Me-01-scaled.jpg
END:VEVENT
BEGIN:VEVENT
DTSTART;TZID=America/Indiana/Indianapolis:20260617T103000
DTEND;TZID=America/Indiana/Indianapolis:20260617T111500
DTSTAMP:20260423T135932
CREATED:20241003T133502Z
LAST-MODIFIED:20241003T133502Z
UID:55746-1781692200-1781694900@www.myepl.org
SUMMARY:Baby & Me
DESCRIPTION:Miss Allison leads this early introduction to books and literacy – it’s a special storytime for the littlest ones\, ages 0-24 months. Expect songs\, rhymes and stories\, along with a fun playtime to wrap things up.
URL:https://www.myepl.org/event/baby-and-me-2/2026-06-17/67/
LOCATION:Downtown Library\, 300 S. Second St.\, Elkhart\, IN\, 46516\, United States
CATEGORIES:Infant Programs,Storytimes
ATTACH;FMTTYPE=image/jpeg:https://www.myepl.org/wp-content/uploads/2024/10/Baby-and-Me-01-scaled.jpg
END:VEVENT
BEGIN:VEVENT
DTSTART;TZID=America/Indiana/Indianapolis:20260617T143000
DTEND;TZID=America/Indiana/Indianapolis:20260617T163000
DTSTAMP:20260423T135932
CREATED:20260311T202404Z
LAST-MODIFIED:20260311T202404Z
UID:55108-1781706600-1781713800@www.myepl.org
SUMMARY:Computer One-on-One
DESCRIPTION:Call 574.294.2847 or come in to the downtown Computer Center to reserve 30 minutes of stress-free basic computer help from our experts. From saving a file to accessing library resources\, we can help. Sessions start at 2:30\, 3\, 3:30 and 4 p.m.
URL:https://www.myepl.org/event/computer-one-on-one-29/
LOCATION:Downtown Library\, 300 S. Second St.\, Elkhart\, IN\, 46516\, United States
CATEGORIES:Adult Programs,Computer Classes
ATTACH;FMTTYPE=image/jpeg:https://www.myepl.org/wp-content/uploads/2023/01/Computer-class-scaled.jpg
END:VEVENT
BEGIN:VEVENT
DTSTART;TZID=America/Indiana/Indianapolis:20260617T160000
DTEND;TZID=America/Indiana/Indianapolis:20260617T180000
DTSTAMP:20260423T135932
CREATED:20250612T140303Z
LAST-MODIFIED:20260407T185048Z
UID:54978-1781712000-1781719200@www.myepl.org
SUMMARY:Downtown Crafternoons for Adults
DESCRIPTION:Meet others while learning new craft skills and getting creative.   \nUpcoming projects:\n• April 15 – Birdhouse painting or decorating\n• May 20 – Birds and bees vintage bookmark\n• June 17 – Diamond art
URL:https://www.myepl.org/event/downtown-crafternoons-for-adults-2026-03-18-2026-05-20/2026-06-17/
LOCATION:Downtown Library\, 300 S. Second St.\, Elkhart\, IN\, 46516\, United States
CATEGORIES:Adult Programs,Crafts
ATTACH;FMTTYPE=image/jpeg:https://www.myepl.org/wp-content/uploads/2025/06/Adult-Craft-scaled.jpg
END:VEVENT
BEGIN:VEVENT
DTSTART;TZID=America/Indiana/Indianapolis:20260617T180000
DTEND;TZID=America/Indiana/Indianapolis:20260617T190000
DTSTAMP:20260423T135932
CREATED:20260212T191931Z
LAST-MODIFIED:20260212T191931Z
UID:55668-1781719200-1781722800@www.myepl.org
SUMMARY:Friends of EPL Board Meeting
DESCRIPTION:The Friends of Elkhart Public Library have a monthly meeting to discuss business and upcoming events. For more information on becoming a member or attending a book sale\, please see MyEPL.org/friends.
URL:https://www.myepl.org/event/friends-of-epl-board-meeting-3/2026-06-17/
LOCATION:Downtown Library\, 300 S. Second St.\, Elkhart\, IN\, 46516\, United States
CATEGORIES:Board Meetings
ATTACH;FMTTYPE=image/png:https://www.myepl.org/wp-content/uploads/2021/08/friends-300x276-1.png
END:VEVENT
BEGIN:VEVENT
DTSTART;TZID=America/Indiana/Indianapolis:20260618T093000
DTEND;TZID=America/Indiana/Indianapolis:20260618T110000
DTSTAMP:20260423T135932
CREATED:20251205T203235Z
LAST-MODIFIED:20251205T203235Z
UID:55143-1781775000-1781780400@www.myepl.org
SUMMARY:Open Doors: A community for adults with disabilities
DESCRIPTION:Join us for fun and enriching activities to build a community supporting adults with intellectual disabilities. Explore creativity\, build skills and connect.
URL:https://www.myepl.org/event/open-doors-a-community-for-adults-with-disabilities/2026-06-18/
LOCATION:Downtown Library\, 300 S. Second St.\, Elkhart\, IN\, 46516\, United States
CATEGORIES:Adult Programs,Just for Fun
ATTACH;FMTTYPE=image/png:https://www.myepl.org/wp-content/uploads/2025/12/open-doors.png
END:VEVENT
BEGIN:VEVENT
DTSTART;TZID=America/Indiana/Indianapolis:20260618T100000
DTEND;TZID=America/Indiana/Indianapolis:20260618T110000
DTSTAMP:20260423T135932
CREATED:20230922T172730Z
LAST-MODIFIED:20230922T172730Z
UID:55361-1781776800-1781780400@www.myepl.org
SUMMARY:Little Explorers
DESCRIPTION:Early literacy fun through experiencing music\, stories and hands-on activities. Please note\, Little Explorers will pause on Dec. 25 and Jan. 1 for the holidays.
URL:https://www.myepl.org/event/little-explorers/2026-06-18/
LOCATION:Downtown Library\, 300 S. Second St.\, Elkhart\, IN\, 46516\, United States
CATEGORIES:Preschool Programs,Storytimes
ATTACH;FMTTYPE=image/jpeg:https://www.myepl.org/wp-content/uploads/2023/09/Little-Explorers-1.jpg
END:VEVENT
BEGIN:VEVENT
DTSTART;TZID=America/Indiana/Indianapolis:20260618T170000
DTEND;TZID=America/Indiana/Indianapolis:20260618T200000
DTSTAMP:20260423T135932
CREATED:20260310T153651Z
LAST-MODIFIED:20260310T153651Z
UID:55008-1781802000-1781812800@www.myepl.org
SUMMARY:100 Black Sons present Juneteenth
DESCRIPTION:Bring the family to celebrate with live music\, vendors and more.
URL:https://www.myepl.org/event/100-black-sons-present-juneteenth/
LOCATION:Downtown Library\, 300 S. Second St.\, Elkhart\, IN\, 46516\, United States
CATEGORIES:Educational,Featured
ATTACH;FMTTYPE=image/jpeg:https://www.myepl.org/wp-content/uploads/2026/03/Juneteenth-06-scaled.jpg
END:VEVENT
END:VCALENDAR