BEGIN:VCALENDAR
VERSION:2.0
PRODID:-//Elkhart Public Library - ECPv6.15.20//NONSGML v1.0//EN
CALSCALE:GREGORIAN
METHOD:PUBLISH
X-WR-CALNAME:Elkhart Public Library
X-ORIGINAL-URL:https://www.myepl.org
X-WR-CALDESC:Events for Elkhart Public Library
REFRESH-INTERVAL;VALUE=DURATION:PT1H
X-Robots-Tag:noindex
X-PUBLISHED-TTL:PT1H
BEGIN:VTIMEZONE
TZID:America/Indiana/Indianapolis
BEGIN:DAYLIGHT
TZOFFSETFROM:-0500
TZOFFSETTO:-0400
TZNAME:EDT
DTSTART:20230312T070000
END:DAYLIGHT
BEGIN:STANDARD
TZOFFSETFROM:-0400
TZOFFSETTO:-0500
TZNAME:EST
DTSTART:20231105T060000
END:STANDARD
BEGIN:DAYLIGHT
TZOFFSETFROM:-0500
TZOFFSETTO:-0400
TZNAME:EDT
DTSTART:20240310T070000
END:DAYLIGHT
BEGIN:STANDARD
TZOFFSETFROM:-0400
TZOFFSETTO:-0500
TZNAME:EST
DTSTART:20241103T060000
END:STANDARD
BEGIN:DAYLIGHT
TZOFFSETFROM:-0500
TZOFFSETTO:-0400
TZNAME:EDT
DTSTART:20250309T070000
END:DAYLIGHT
BEGIN:STANDARD
TZOFFSETFROM:-0400
TZOFFSETTO:-0500
TZNAME:EST
DTSTART:20251102T060000
END:STANDARD
END:VTIMEZONE
BEGIN:VEVENT
DTSTART;TZID=America/Indiana/Indianapolis:20241209T100000
DTEND;TZID=America/Indiana/Indianapolis:20241209T103000
DTSTAMP:20260419T180636
CREATED:20240904T131120Z
LAST-MODIFIED:20240904T131120Z
UID:45298-1733738400-1733740200@www.myepl.org
SUMMARY:Music Together Demo Class
DESCRIPTION:Try a free preview class of Goshen College’s popular Music Together class. These fun and interactive music classes are kids ages 0 to 5. \nMusic together is based on child development research and uses movement\, singing and fun with rhythm instruments and includes caregivers to make it a whole family experence. \n\n\n\n\n\n\n\nMusic Together de Goshen College ofrece clases económicas\, divertidas\, e interactivas de música para las familias con niños de 0-5 años de edad. \nBasado en las investigaciones sobre el desarrollo de los niños\, Music Together promueve la idea que todos los niños son musicales y que aprender la música ayuda con todo el aprendizaje. Venga a cantar\, bailar\, y tocar instrumentos de percusión.\n\n\n\n\n\n\n\nClick here to register for this demo class.
URL:https://www.myepl.org/event/music-together-demo-class-4/
LOCATION:Osolo Branch\, 3429 E. Bristol St.\, Elkhart\, IN\, 46516\, United States
CATEGORIES:Educational,Music
ATTACH;FMTTYPE=image/jpeg:https://www.myepl.org/wp-content/uploads/2023/08/Music-Together-03.jpg
END:VEVENT
BEGIN:VEVENT
DTSTART;TZID=America/Indiana/Indianapolis:20241209T090000
DTEND;TZID=America/Indiana/Indianapolis:20241209T190000
DTSTAMP:20260419T180636
CREATED:20240904T132513Z
LAST-MODIFIED:20240904T132919Z
UID:45301-1733734800-1733770800@www.myepl.org
SUMMARY:Elf on the Shelf
DESCRIPTION:Find our elf hiding on the shelves\, take one of his cards to the front desk and pick out a prize.
URL:https://www.myepl.org/event/elf-on-the-shelf-2/2024-12-09/
LOCATION:Osolo Branch\, 3429 E. Bristol St.\, Elkhart\, IN\, 46516\, United States
ATTACH;FMTTYPE=image/jpeg:https://www.myepl.org/wp-content/uploads/2024/09/Osolo-Elf-scaled.jpg
END:VEVENT
BEGIN:VEVENT
DTSTART;TZID=America/Indiana/Indianapolis:20241202T090000
DTEND;TZID=America/Indiana/Indianapolis:20241202T190000
DTSTAMP:20260419T180636
CREATED:20240904T132513Z
LAST-MODIFIED:20240904T132919Z
UID:45300-1733130000-1733166000@www.myepl.org
SUMMARY:Elf on the Shelf
DESCRIPTION:Find our elf hiding on the shelves\, take one of his cards to the front desk and pick out a prize.
URL:https://www.myepl.org/event/elf-on-the-shelf-2/2024-12-02/
LOCATION:Osolo Branch\, 3429 E. Bristol St.\, Elkhart\, IN\, 46516\, United States
ATTACH;FMTTYPE=image/jpeg:https://www.myepl.org/wp-content/uploads/2024/09/Osolo-Elf-scaled.jpg
END:VEVENT
BEGIN:VEVENT
DTSTART;TZID=America/Indiana/Indianapolis:20241121T153000
DTEND;TZID=America/Indiana/Indianapolis:20241121T163000
DTSTAMP:20260419T180636
CREATED:20240904T141059Z
LAST-MODIFIED:20241009T170738Z
UID:45317-1732203000-1732206600@www.myepl.org
SUMMARY:Turkey Time
DESCRIPTION:Celebrate turkeys with stories\, songs and crafts all involving our favorite seasonal bird.
URL:https://www.myepl.org/event/turkey-time/
LOCATION:Osolo Branch\, 3429 E. Bristol St.\, Elkhart\, IN\, 46516\, United States
CATEGORIES:Just for Fun,Storytimes
ATTACH;FMTTYPE=image/png:https://www.myepl.org/wp-content/uploads/2024/09/turkeytime-cal.png
END:VEVENT
BEGIN:VEVENT
DTSTART;TZID=America/Indiana/Indianapolis:20241112T180000
DTEND;TZID=America/Indiana/Indianapolis:20241112T190000
DTSTAMP:20260419T180636
CREATED:20241009T132356Z
LAST-MODIFIED:20241010T152947Z
UID:46237-1731434400-1731438000@www.myepl.org
SUMMARY:Amateur Radio
DESCRIPTION:Learn about the exciting hobby of ham radio with a demonstration from members of the Michiana Amateur Radio Club.
URL:https://www.myepl.org/event/amateur-radio/
LOCATION:Osolo Branch\, 3429 E. Bristol St.\, Elkhart\, IN\, 46516\, United States
CATEGORIES:Educational,Just for Fun
ATTACH;FMTTYPE=image/png:https://www.myepl.org/wp-content/uploads/2024/10/AmateurRadio_Calendar.png
END:VEVENT
BEGIN:VEVENT
DTSTART;TZID=America/Indiana/Indianapolis:20241104T163000
DTEND;TZID=America/Indiana/Indianapolis:20241104T173000
DTSTAMP:20260419T180636
CREATED:20240904T142221Z
LAST-MODIFIED:20241023T141937Z
UID:45320-1730737800-1730741400@www.myepl.org
SUMMARY:Tween and Teen PopSockets
DESCRIPTION:Drop in to Osolo and design a cover for your PopSocket with our available supplies.
URL:https://www.myepl.org/event/tween-and-teen-popsockets/
LOCATION:Osolo Branch\, 3429 E. Bristol St.\, Elkhart\, IN\, 46516\, United States
CATEGORIES:Crafts,Teen Programs
ATTACH;FMTTYPE=image/jpeg:https://www.myepl.org/wp-content/uploads/2024/09/PopSocket2-660x400-1.jpg
END:VEVENT
BEGIN:VEVENT
DTSTART;TZID=America/Indiana/Indianapolis:20241022T180000
DTEND;TZID=America/Indiana/Indianapolis:20241022T190000
DTSTAMP:20260419T180636
CREATED:20240717T205805Z
LAST-MODIFIED:20240801T130257Z
UID:44849-1729620000-1729623600@www.myepl.org
SUMMARY:Family Craft Night
DESCRIPTION:Spend time together as a family making something cool.
URL:https://www.myepl.org/event/family-craft-night/2024-10-22/
LOCATION:Osolo Branch\, 3429 E. Bristol St.\, Elkhart\, IN\, 46516\, United States
CATEGORIES:Crafts
ATTACH;FMTTYPE=image/jpeg:https://www.myepl.org/wp-content/uploads/2024/07/Family-Craft-Night-01.jpg
END:VEVENT
BEGIN:VEVENT
DTSTART;TZID=America/Indiana/Indianapolis:20241017T153000
DTEND;TZID=America/Indiana/Indianapolis:20241017T163000
DTSTAMP:20260419T180636
CREATED:20240709T132332Z
LAST-MODIFIED:20241007T121447Z
UID:44672-1729179000-1729182600@www.myepl.org
SUMMARY:Slime Time
DESCRIPTION:Make your own slime to take home with you. This program is best for children ages 6 and up.
URL:https://www.myepl.org/event/slime-time/
LOCATION:Osolo Branch\, 3429 E. Bristol St.\, Elkhart\, IN\, 46516\, United States
CATEGORIES:Just for Fun
ATTACH;FMTTYPE=image/jpeg:https://www.myepl.org/wp-content/uploads/2019/03/Slime-08-e1552680228407.jpg
END:VEVENT
BEGIN:VEVENT
DTSTART;TZID=America/Indiana/Indianapolis:20241007T090000
DTEND;TZID=America/Indiana/Indianapolis:20241007T190000
DTSTAMP:20260419T180636
CREATED:20240709T181418Z
LAST-MODIFIED:20240709T181418Z
UID:46185-1728291600-1728327600@www.myepl.org
SUMMARY:Tiny Art Show
DESCRIPTION:(We have run out of kits! Thanks for your enthusiasm and keep watching for more great activities. Return completed works to Osolo Branch by Oct. 14.) \nPick up your tiny art kit from Oct. 1 to 14 during open hours while supplies last. Works need to be returned by Oct. 18 to display for voting Oct. 21 to Nov. 8. 
URL:https://www.myepl.org/event/tiny-art-show/2024-10-07/
LOCATION:Osolo Branch\, 3429 E. Bristol St.\, Elkhart\, IN\, 46516\, United States
CATEGORIES:Art
ATTACH;FMTTYPE=image/png:https://www.myepl.org/wp-content/uploads/2023/12/teenminipainting_calendar.png
END:VEVENT
BEGIN:VEVENT
DTSTART;TZID=America/Indiana/Indianapolis:20241005T090000
DTEND;TZID=America/Indiana/Indianapolis:20241005T150000
DTSTAMP:20260419T180636
CREATED:20240709T181418Z
LAST-MODIFIED:20240709T181418Z
UID:46184-1728118800-1728140400@www.myepl.org
SUMMARY:Tiny Art Show
DESCRIPTION:(We have run out of kits! Thanks for your enthusiasm and keep watching for more great activities. Return completed works to Osolo Branch by Oct. 14.) \nPick up your tiny art kit from Oct. 1 to 14 during open hours while supplies last. Works need to be returned by Oct. 18 to display for voting Oct. 21 to Nov. 8. 
URL:https://www.myepl.org/event/tiny-art-show/2024-10-05/
LOCATION:Osolo Branch\, 3429 E. Bristol St.\, Elkhart\, IN\, 46516\, United States
CATEGORIES:Art
ATTACH;FMTTYPE=image/png:https://www.myepl.org/wp-content/uploads/2023/12/teenminipainting_calendar.png
END:VEVENT
BEGIN:VEVENT
DTSTART;TZID=America/Indiana/Indianapolis:20241004T090000
DTEND;TZID=America/Indiana/Indianapolis:20241004T180000
DTSTAMP:20260419T180636
CREATED:20240709T181418Z
LAST-MODIFIED:20240709T181418Z
UID:46183-1728032400-1728064800@www.myepl.org
SUMMARY:Tiny Art Show
DESCRIPTION:(We have run out of kits! Thanks for your enthusiasm and keep watching for more great activities. Return completed works to Osolo Branch by Oct. 14.) \nPick up your tiny art kit from Oct. 1 to 14 during open hours while supplies last. Works need to be returned by Oct. 18 to display for voting Oct. 21 to Nov. 8. 
URL:https://www.myepl.org/event/tiny-art-show/2024-10-04/
LOCATION:Osolo Branch\, 3429 E. Bristol St.\, Elkhart\, IN\, 46516\, United States
CATEGORIES:Art
ATTACH;FMTTYPE=image/png:https://www.myepl.org/wp-content/uploads/2023/12/teenminipainting_calendar.png
END:VEVENT
BEGIN:VEVENT
DTSTART;TZID=America/Indiana/Indianapolis:20241001T180000
DTEND;TZID=America/Indiana/Indianapolis:20241001T190000
DTSTAMP:20260419T180636
CREATED:20240719T155853Z
LAST-MODIFIED:20240925T173752Z
UID:44913-1727805600-1727809200@www.myepl.org
SUMMARY:Without a Will
DESCRIPTION:An expert from Purdue Extension shares how to prepare a will and what it should include. To register\, call Jenn at (574) 533-0554 or email fink24@purdue.edu.
URL:https://www.myepl.org/event/without-a-will-3/
LOCATION:Osolo Branch\, 3429 E. Bristol St.\, Elkhart\, IN\, 46516\, United States
CATEGORIES:Educational
ATTACH;FMTTYPE=image/png:https://www.myepl.org/wp-content/uploads/2024/04/WithoutaWill_calendar.png
END:VEVENT
BEGIN:VEVENT
DTSTART;TZID=America/Indiana/Indianapolis:20241001T090000
DTEND;TZID=America/Indiana/Indianapolis:20241001T190000
DTSTAMP:20260419T180636
CREATED:20240709T181418Z
LAST-MODIFIED:20241007T195156Z
UID:44732-1727773200-1727809200@www.myepl.org
SUMMARY:Tiny Art Show
DESCRIPTION:(We have run out of kits! Thanks for your enthusiasm and keep watching for more great activities. Return completed works to Osolo Branch by Oct. 14.) \nPick up your tiny art kit from Oct. 1 to 14 during open hours while supplies last. Works need to be returned by Oct. 18 to display for voting Oct. 21 to Nov. 8. 
URL:https://www.myepl.org/event/tiny-art-show/2024-10-01/
LOCATION:Osolo Branch\, 3429 E. Bristol St.\, Elkhart\, IN\, 46516\, United States
CATEGORIES:Art
ATTACH;FMTTYPE=image/png:https://www.myepl.org/wp-content/uploads/2023/12/teenminipainting_calendar.png
END:VEVENT
BEGIN:VEVENT
DTSTART;TZID=America/Indiana/Indianapolis:20240927T150000
DTEND;TZID=America/Indiana/Indianapolis:20240927T160000
DTSTAMP:20260419T180636
CREATED:20240918T192156Z
LAST-MODIFIED:20240918T192156Z
UID:45524-1727449200-1727452800@www.myepl.org
SUMMARY:Osolo Branch Meeting Room Dedication
DESCRIPTION:Join us as we dedicate the meeting rooms inside the Osolo Branch. One room will honor Max and Elizabeth Walker\, who donated the land for Walker Park and the Osolo Branch library. The other will honor longtime educator Levar Johnson.
URL:https://www.myepl.org/event/osolo-branch-meeting-room-dedication/
LOCATION:Osolo Branch\, 3429 E. Bristol St.\, Elkhart\, IN\, 46516\, United States
CATEGORIES:Educational,Featured
ATTACH;FMTTYPE=image/jpeg:https://www.myepl.org/wp-content/uploads/2024/09/Walkers-Johnson.jpg
END:VEVENT
BEGIN:VEVENT
DTSTART;TZID=America/Indiana/Indianapolis:20240924T180000
DTEND;TZID=America/Indiana/Indianapolis:20240924T190000
DTSTAMP:20260419T180636
CREATED:20240717T205805Z
LAST-MODIFIED:20240801T130257Z
UID:44848-1727200800-1727204400@www.myepl.org
SUMMARY:Family Craft Night
DESCRIPTION:Spend time together as a family making something cool.
URL:https://www.myepl.org/event/family-craft-night/2024-09-24/
LOCATION:Osolo Branch\, 3429 E. Bristol St.\, Elkhart\, IN\, 46516\, United States
CATEGORIES:Crafts
ATTACH;FMTTYPE=image/jpeg:https://www.myepl.org/wp-content/uploads/2024/07/Family-Craft-Night-01.jpg
END:VEVENT
BEGIN:VEVENT
DTSTART;TZID=America/Indiana/Indianapolis:20240923T163000
DTEND;TZID=America/Indiana/Indianapolis:20240923T173000
DTSTAMP:20260419T180636
CREATED:20240709T131036Z
LAST-MODIFIED:20240919T163358Z
UID:44650-1727109000-1727112600@www.myepl.org
SUMMARY:Tween and Teen Bag Designs
DESCRIPTION:Decorate a canvas bag to take home with pastel dye sticks and enjoy a snack while you create.
URL:https://www.myepl.org/event/tween-and-teen-bag-designs/
LOCATION:Osolo Branch\, 3429 E. Bristol St.\, Elkhart\, IN\, 46516\, United States
CATEGORIES:Crafts
ATTACH;FMTTYPE=image/jpeg:https://www.myepl.org/wp-content/uploads/2024/07/ideas_main_how-to-paint-on-a-canvas-tote-bag.jpg
END:VEVENT
BEGIN:VEVENT
DTSTART;TZID=America/Indiana/Indianapolis:20240827T180000
DTEND;TZID=America/Indiana/Indianapolis:20240827T190000
DTSTAMP:20260419T180636
CREATED:20240717T205805Z
LAST-MODIFIED:20240801T130257Z
UID:44847-1724781600-1724785200@www.myepl.org
SUMMARY:Family Craft Night
DESCRIPTION:Spend time together as a family making something cool.
URL:https://www.myepl.org/event/family-craft-night/2024-08-27/
LOCATION:Osolo Branch\, 3429 E. Bristol St.\, Elkhart\, IN\, 46516\, United States
CATEGORIES:Crafts
ATTACH;FMTTYPE=image/jpeg:https://www.myepl.org/wp-content/uploads/2024/07/Family-Craft-Night-01.jpg
END:VEVENT
BEGIN:VEVENT
DTSTART;TZID=America/Indiana/Indianapolis:20240820T173000
DTEND;TZID=America/Indiana/Indianapolis:20240820T190000
DTSTAMP:20260419T180636
CREATED:20240108T195352Z
LAST-MODIFIED:20240710T135216Z
UID:41714-1724175000-1724180400@www.myepl.org
SUMMARY:Board of Trustees Meeting
DESCRIPTION:The Elkhart Public Library meets the third Tuesday of each month to discuss library business. Learn more about the board and upcoming meeting here.
URL:https://www.myepl.org/event/board-of-trustees-meeting-2024-08-20/
LOCATION:Osolo Branch\, 3429 E. Bristol St.\, Elkhart\, IN\, 46516\, United States
CATEGORIES:Board Meetings
ATTACH;FMTTYPE=image/jpeg:https://www.myepl.org/wp-content/uploads/2021/05/downtown-library-exterior-1024x587-1.jpeg
END:VEVENT
BEGIN:VEVENT
DTSTART;TZID=America/Indiana/Indianapolis:20240730T110000
DTEND;TZID=America/Indiana/Indianapolis:20240730T114500
DTSTAMP:20260419T180636
CREATED:20240422T154348Z
LAST-MODIFIED:20240709T131847Z
UID:43491-1722337200-1722339900@www.myepl.org
SUMMARY:Storytime with Miss Janell
DESCRIPTION:Stories and puppet fun with Miss Janell. Enjoy rhymes\, songs\, crafts and more to build literacy skills. \nMiss Janell has added another session\, with the same stories and activities\, at 9:30 a.m. to accommodate more families!
URL:https://www.myepl.org/event/storytime-with-miss-janell-4/2024-07-30/
LOCATION:Osolo Branch\, 3429 E. Bristol St.\, Elkhart\, IN\, 46516\, United States
CATEGORIES:Storytimes
ATTACH;FMTTYPE=image/jpeg:https://www.myepl.org/wp-content/uploads/2022/10/Miss-Janell.jpg
END:VEVENT
BEGIN:VEVENT
DTSTART;TZID=America/Indiana/Indianapolis:20240730T093000
DTEND;TZID=America/Indiana/Indianapolis:20240730T101500
DTSTAMP:20260419T180636
CREATED:20240422T154218Z
LAST-MODIFIED:20240422T154708Z
UID:43481-1722331800-1722334500@www.myepl.org
SUMMARY:Storytime with Miss Janell
DESCRIPTION:Stories and puppet fun with Miss Janell. Enjoy rhymes\, songs\, crafts and more to build literacy skills. \nMiss Janell has added another session\, with the same stories and activities\, at 11 a.m. to accommodate more families!
URL:https://www.myepl.org/event/storytime-with-miss-janell-3/2024-07-30/
LOCATION:Osolo Branch\, 3429 E. Bristol St.\, Elkhart\, IN\, 46516\, United States
CATEGORIES:Storytimes
ATTACH;FMTTYPE=image/jpeg:https://www.myepl.org/wp-content/uploads/2022/10/Miss-Janell.jpg
END:VEVENT
BEGIN:VEVENT
DTSTART;TZID=America/Indiana/Indianapolis:20240723T110000
DTEND;TZID=America/Indiana/Indianapolis:20240723T114500
DTSTAMP:20260419T180636
CREATED:20240422T154348Z
LAST-MODIFIED:20240709T131847Z
UID:43490-1721732400-1721735100@www.myepl.org
SUMMARY:Storytime with Miss Janell
DESCRIPTION:Stories and puppet fun with Miss Janell. Enjoy rhymes\, songs\, crafts and more to build literacy skills. \nMiss Janell has added another session\, with the same stories and activities\, at 9:30 a.m. to accommodate more families!
URL:https://www.myepl.org/event/storytime-with-miss-janell-4/2024-07-23/
LOCATION:Osolo Branch\, 3429 E. Bristol St.\, Elkhart\, IN\, 46516\, United States
CATEGORIES:Storytimes
ATTACH;FMTTYPE=image/jpeg:https://www.myepl.org/wp-content/uploads/2022/10/Miss-Janell.jpg
END:VEVENT
BEGIN:VEVENT
DTSTART;TZID=America/Indiana/Indianapolis:20240723T093000
DTEND;TZID=America/Indiana/Indianapolis:20240723T101500
DTSTAMP:20260419T180636
CREATED:20240422T154218Z
LAST-MODIFIED:20240422T154708Z
UID:43480-1721727000-1721729700@www.myepl.org
SUMMARY:Storytime with Miss Janell
DESCRIPTION:Stories and puppet fun with Miss Janell. Enjoy rhymes\, songs\, crafts and more to build literacy skills. \nMiss Janell has added another session\, with the same stories and activities\, at 11 a.m. to accommodate more families!
URL:https://www.myepl.org/event/storytime-with-miss-janell-3/2024-07-23/
LOCATION:Osolo Branch\, 3429 E. Bristol St.\, Elkhart\, IN\, 46516\, United States
CATEGORIES:Storytimes
ATTACH;FMTTYPE=image/jpeg:https://www.myepl.org/wp-content/uploads/2022/10/Miss-Janell.jpg
END:VEVENT
BEGIN:VEVENT
DTSTART;TZID=America/Indiana/Indianapolis:20240716T110000
DTEND;TZID=America/Indiana/Indianapolis:20240716T114500
DTSTAMP:20260419T180636
CREATED:20240422T154348Z
LAST-MODIFIED:20240709T131847Z
UID:43489-1721127600-1721130300@www.myepl.org
SUMMARY:Storytime with Miss Janell
DESCRIPTION:Stories and puppet fun with Miss Janell. Enjoy rhymes\, songs\, crafts and more to build literacy skills. \nMiss Janell has added another session\, with the same stories and activities\, at 9:30 a.m. to accommodate more families!
URL:https://www.myepl.org/event/storytime-with-miss-janell-4/2024-07-16/
LOCATION:Osolo Branch\, 3429 E. Bristol St.\, Elkhart\, IN\, 46516\, United States
CATEGORIES:Storytimes
ATTACH;FMTTYPE=image/jpeg:https://www.myepl.org/wp-content/uploads/2022/10/Miss-Janell.jpg
END:VEVENT
BEGIN:VEVENT
DTSTART;TZID=America/Indiana/Indianapolis:20240716T093000
DTEND;TZID=America/Indiana/Indianapolis:20240716T101500
DTSTAMP:20260419T180636
CREATED:20240422T154218Z
LAST-MODIFIED:20240422T154707Z
UID:43479-1721122200-1721124900@www.myepl.org
SUMMARY:Storytime with Miss Janell
DESCRIPTION:Stories and puppet fun with Miss Janell. Enjoy rhymes\, songs\, crafts and more to build literacy skills. \nMiss Janell has added another session\, with the same stories and activities\, at 11 a.m. to accommodate more families!
URL:https://www.myepl.org/event/storytime-with-miss-janell-3/2024-07-16/
LOCATION:Osolo Branch\, 3429 E. Bristol St.\, Elkhart\, IN\, 46516\, United States
CATEGORIES:Storytimes
ATTACH;FMTTYPE=image/jpeg:https://www.myepl.org/wp-content/uploads/2022/10/Miss-Janell.jpg
END:VEVENT
BEGIN:VEVENT
DTSTART;TZID=America/Indiana/Indianapolis:20240713T090000
DTEND;TZID=America/Indiana/Indianapolis:20240713T150000
DTSTAMP:20260419T180636
CREATED:20240322T190301Z
LAST-MODIFIED:20240701T144856Z
UID:42910-1720861200-1720882800@www.myepl.org
SUMMARY:Drop in Summer Crafts
DESCRIPTION:Stop into Osolo anytime July 1-13 and make a craft with the available supplies in the Children’s Room.
URL:https://www.myepl.org/event/drop-in-summer-crafts/2024-07-13/
LOCATION:Osolo Branch\, 3429 E. Bristol St.\, Elkhart\, IN\, 46516\, United States
CATEGORIES:Crafts
ATTACH;FMTTYPE=image/jpeg:https://www.myepl.org/wp-content/uploads/2024/03/Preschool-Programs.jpg
END:VEVENT
BEGIN:VEVENT
DTSTART;TZID=America/Indiana/Indianapolis:20240712T090000
DTEND;TZID=America/Indiana/Indianapolis:20240712T180000
DTSTAMP:20260419T180636
CREATED:20240322T190301Z
LAST-MODIFIED:20240701T144855Z
UID:42909-1720774800-1720807200@www.myepl.org
SUMMARY:Drop in Summer Crafts
DESCRIPTION:Stop into Osolo anytime July 1-13 and make a craft with the available supplies in the Children’s Room.
URL:https://www.myepl.org/event/drop-in-summer-crafts/2024-07-12/
LOCATION:Osolo Branch\, 3429 E. Bristol St.\, Elkhart\, IN\, 46516\, United States
CATEGORIES:Crafts
ATTACH;FMTTYPE=image/jpeg:https://www.myepl.org/wp-content/uploads/2024/03/Preschool-Programs.jpg
END:VEVENT
BEGIN:VEVENT
DTSTART;TZID=America/Indiana/Indianapolis:20240711T090000
DTEND;TZID=America/Indiana/Indianapolis:20240711T190000
DTSTAMP:20260419T180636
CREATED:20240322T190301Z
LAST-MODIFIED:20240701T144851Z
UID:42945-1720688400-1720724400@www.myepl.org
SUMMARY:Drop in Summer Crafts
DESCRIPTION:Stop into Osolo anytime July 1-13 and make a craft with the available supplies in the Children’s Room.
URL:https://www.myepl.org/event/drop-in-summer-crafts/2024-07-11/
LOCATION:Osolo Branch\, 3429 E. Bristol St.\, Elkhart\, IN\, 46516\, United States
CATEGORIES:Crafts
ATTACH;FMTTYPE=image/jpeg:https://www.myepl.org/wp-content/uploads/2024/03/Preschool-Programs.jpg
END:VEVENT
BEGIN:VEVENT
DTSTART;TZID=America/Indiana/Indianapolis:20240710T090000
DTEND;TZID=America/Indiana/Indianapolis:20240710T190000
DTSTAMP:20260419T180636
CREATED:20240322T190301Z
LAST-MODIFIED:20240701T144850Z
UID:42940-1720602000-1720638000@www.myepl.org
SUMMARY:Drop in Summer Crafts
DESCRIPTION:Stop into Osolo anytime July 1-13 and make a craft with the available supplies in the Children’s Room.
URL:https://www.myepl.org/event/drop-in-summer-crafts/2024-07-10/
LOCATION:Osolo Branch\, 3429 E. Bristol St.\, Elkhart\, IN\, 46516\, United States
CATEGORIES:Crafts
ATTACH;FMTTYPE=image/jpeg:https://www.myepl.org/wp-content/uploads/2024/03/Preschool-Programs.jpg
END:VEVENT
BEGIN:VEVENT
DTSTART;TZID=America/Indiana/Indianapolis:20240709T180000
DTEND;TZID=America/Indiana/Indianapolis:20240709T190000
DTSTAMP:20260419T180636
CREATED:20240327T172127Z
LAST-MODIFIED:20240626T125807Z
UID:43074-1720548000-1720551600@www.myepl.org
SUMMARY:Game Night
DESCRIPTION:Bring friends and family for new and classic board games. We’ll add a twist\, too.
URL:https://www.myepl.org/event/game-night-2/
LOCATION:Osolo Branch\, 3429 E. Bristol St.\, Elkhart\, IN\, 46516\, United States
CATEGORIES:Just for Fun
ATTACH;FMTTYPE=image/png:https://www.myepl.org/wp-content/uploads/2024/03/Game-Night-Mixed-Bag-02.png
END:VEVENT
BEGIN:VEVENT
DTSTART;TZID=America/Indiana/Indianapolis:20240709T110000
DTEND;TZID=America/Indiana/Indianapolis:20240709T114500
DTSTAMP:20260419T180636
CREATED:20240422T154348Z
LAST-MODIFIED:20240709T131844Z
UID:43483-1720522800-1720525500@www.myepl.org
SUMMARY:Storytime with Miss Janell
DESCRIPTION:Stories and puppet fun with Miss Janell. Enjoy rhymes\, songs\, crafts and more to build literacy skills. \nMiss Janell has added another session\, with the same stories and activities\, at 9:30 a.m. to accommodate more families!
URL:https://www.myepl.org/event/storytime-with-miss-janell-4/2024-07-09/
LOCATION:Osolo Branch\, 3429 E. Bristol St.\, Elkhart\, IN\, 46516\, United States
CATEGORIES:Storytimes
ATTACH;FMTTYPE=image/jpeg:https://www.myepl.org/wp-content/uploads/2022/10/Miss-Janell.jpg
END:VEVENT
END:VCALENDAR