BEGIN:VCALENDAR
VERSION:2.0
PRODID:-//Elkhart Public Library - ECPv6.15.20//NONSGML v1.0//EN
CALSCALE:GREGORIAN
METHOD:PUBLISH
X-WR-CALNAME:Elkhart Public Library
X-ORIGINAL-URL:https://www.myepl.org
X-WR-CALDESC:Events for Elkhart Public Library
REFRESH-INTERVAL;VALUE=DURATION:PT1H
X-Robots-Tag:noindex
X-PUBLISHED-TTL:PT1H
BEGIN:VTIMEZONE
TZID:America/Indiana/Indianapolis
BEGIN:DAYLIGHT
TZOFFSETFROM:-0500
TZOFFSETTO:-0400
TZNAME:EDT
DTSTART:20220313T070000
END:DAYLIGHT
BEGIN:STANDARD
TZOFFSETFROM:-0400
TZOFFSETTO:-0500
TZNAME:EST
DTSTART:20221106T060000
END:STANDARD
BEGIN:DAYLIGHT
TZOFFSETFROM:-0500
TZOFFSETTO:-0400
TZNAME:EDT
DTSTART:20230312T070000
END:DAYLIGHT
BEGIN:STANDARD
TZOFFSETFROM:-0400
TZOFFSETTO:-0500
TZNAME:EST
DTSTART:20231105T060000
END:STANDARD
BEGIN:DAYLIGHT
TZOFFSETFROM:-0500
TZOFFSETTO:-0400
TZNAME:EDT
DTSTART:20240310T070000
END:DAYLIGHT
BEGIN:STANDARD
TZOFFSETFROM:-0400
TZOFFSETTO:-0500
TZNAME:EST
DTSTART:20241103T060000
END:STANDARD
END:VTIMEZONE
BEGIN:VEVENT
DTSTART;TZID=America/Indiana/Indianapolis:20231218T140000
DTEND;TZID=America/Indiana/Indianapolis:20231218T150000
DTSTAMP:20260422T143755
CREATED:20230928T132252Z
LAST-MODIFIED:20231215T142815Z
UID:40006-1702908000-1702911600@www.myepl.org
SUMMARY:Adult Crafternoon: Santa Ornament/Wall Decor
DESCRIPTION:(Registration for this event is now closed. Keep watching for more great activities.) \nLearn new skills\, tap into your creative side and meet new people. This month\, we’re making a Santa wall decor or ornament.
URL:https://www.myepl.org/event/adult-crafternoon-santa-ornament-wall-decor/
LOCATION:Osolo Branch\, 3429 E. Bristol St.\, Elkhart\, IN\, 46516\, United States
CATEGORIES:Crafts
END:VEVENT
BEGIN:VEVENT
DTSTART;TZID=America/Indiana/Indianapolis:20231214T153000
DTEND;TZID=America/Indiana/Indianapolis:20231214T170000
DTSTAMP:20260422T143755
CREATED:20230925T201015Z
LAST-MODIFIED:20231206T153605Z
UID:39926-1702567800-1702573200@www.myepl.org
SUMMARY:Santa's Elf Workshop
DESCRIPTION:Come into Osolo between 3:30 and 5 p.m. to create holiday decorations. Dress as an elf\, if you want.
URL:https://www.myepl.org/event/santas-elf-workshop/
LOCATION:Osolo Branch\, 3429 E. Bristol St.\, Elkhart\, IN\, 46516\, United States
CATEGORIES:Crafts,Just for Fun
END:VEVENT
BEGIN:VEVENT
DTSTART;TZID=America/Indiana/Indianapolis:20231204T090000
DTEND;TZID=America/Indiana/Indianapolis:20231204T190000
DTSTAMP:20260422T143755
CREATED:20230925T201302Z
LAST-MODIFIED:20231128T185651Z
UID:39928-1701680400-1701716400@www.myepl.org
SUMMARY:Elf on the Shelf
DESCRIPTION:Come in any time the week of Dec. 4 to 8 to find the Elf on the Shelf in the children’s room. When you find him\, take one of his cards and get a sweet treat at the desk.
URL:https://www.myepl.org/event/elf-on-the-shelf/2023-12-04/
LOCATION:Osolo Branch\, 3429 E. Bristol St.\, Elkhart\, IN\, 46516\, United States
CATEGORIES:Just for Fun
END:VEVENT
BEGIN:VEVENT
DTSTART;TZID=America/Indiana/Indianapolis:20231120T140000
DTEND;TZID=America/Indiana/Indianapolis:20231120T150000
DTSTAMP:20260422T143755
CREATED:20230928T133900Z
LAST-MODIFIED:20231107T185138Z
UID:40011-1700488800-1700492400@www.myepl.org
SUMMARY:Adult Crafternoon: Terra Cotta Essential Oil Diffuser
DESCRIPTION:Tap into your creative side\, meet others and make something. This month we’re making an essential oil diffuser. \nRegistration for this program opens Oct. 1.
URL:https://www.myepl.org/event/adult-crafternoon-terra-cotta-essential-oil-diffuser/
LOCATION:Osolo Branch\, 3429 E. Bristol St.\, Elkhart\, IN\, 46516\, United States
END:VEVENT
BEGIN:VEVENT
DTSTART;TZID=America/Indiana/Indianapolis:20231116T160000
DTEND;TZID=America/Indiana/Indianapolis:20231116T170000
DTSTAMP:20260422T143755
CREATED:20230926T130812Z
LAST-MODIFIED:20231031T160600Z
UID:39934-1700150400-1700154000@www.myepl.org
SUMMARY:Wheel of Prizes
DESCRIPTION:Teens will spin the wheel\, guess a letter and figure out the word. Enjoy snacks while we play and compete for prizes.
URL:https://www.myepl.org/event/wheel-of-prizes/
LOCATION:Osolo Branch\, 3429 E. Bristol St.\, Elkhart\, IN\, 46516\, United States
CATEGORIES:Just for Fun,Teen Programs
ATTACH;FMTTYPE=image/png:https://www.myepl.org/wp-content/uploads/2023/09/Tween-and-Teen-Prize-Wheel-Calendar.png
END:VEVENT
BEGIN:VEVENT
DTSTART;TZID=America/Indiana/Indianapolis:20231023T143000
DTEND;TZID=America/Indiana/Indianapolis:20231023T153000
DTSTAMP:20260422T143755
CREATED:20231010T140340Z
LAST-MODIFIED:20231016T125146Z
UID:40363-1698071400-1698075000@www.myepl.org
SUMMARY:Community Discussion: Library Strategic Plan
DESCRIPTION:Your ideas help Elkhart Public Library get better. Tell us how we’re doing and what we need to do to better serve the community. \nThese open\, one-hour discussions are all about you. Information discussed will be considered as part of EPL’s strategic planning process. \nMonday\, Oct. 23\, 2023\n• Dunlap – 10 a.m.\n• Pierre Moran – Noon\n• Osolo – 2:30 p.m.\n• Downtown – 6 p.m. \nTuesday\, Oct. 24\, 2023• Cleveland – 11:30 a.m.• Pierre Moran – 6 p.m.
URL:https://www.myepl.org/event/community-discussion-library-strategic-plan-3/
LOCATION:Osolo Branch\, 3429 E. Bristol St.\, Elkhart\, IN\, 46516\, United States
CATEGORIES:Educational
ATTACH;FMTTYPE=image/png:https://www.myepl.org/wp-content/uploads/2023/10/Slider-Calendar.png
END:VEVENT
BEGIN:VEVENT
DTSTART;TZID=America/Indiana/Indianapolis:20231016T140000
DTEND;TZID=America/Indiana/Indianapolis:20231016T150000
DTSTAMP:20260422T143755
CREATED:20230710T124242Z
LAST-MODIFIED:20231009T134734Z
UID:37623-1697464800-1697468400@www.myepl.org
SUMMARY:Adult Crafternoon - Autumn Rag Wreath
DESCRIPTION:Bring out your creative side\, meet others and learn new skills. \nRegistration for this event opens Sept. 1.
URL:https://www.myepl.org/event/adult-crafternoon-autumn-rag-wreath/
LOCATION:Osolo Branch\, 3429 E. Bristol St.\, Elkhart\, IN\, 46516\, United States
CATEGORIES:Crafts
ATTACH;FMTTYPE=image/png:https://www.myepl.org/wp-content/uploads/2023/07/Rag-wreath-Calendar.png
END:VEVENT
BEGIN:VEVENT
DTSTART;TZID=America/Indiana/Indianapolis:20230926T183000
DTEND;TZID=America/Indiana/Indianapolis:20230926T193000
DTSTAMP:20260422T143755
CREATED:20230707T151419Z
LAST-MODIFIED:20230911T183653Z
UID:37489-1695753000-1695756600@www.myepl.org
SUMMARY:Liz Carpenter and Her Harps
DESCRIPTION:Local musical artist Liz Carpenter shares her collection of harps with music and stories. Take a turn playing the harp\, too.
URL:https://www.myepl.org/event/liz-carpenter-and-her-harps/
LOCATION:Osolo Branch\, 3429 E. Bristol St.\, Elkhart\, IN\, 46516\, United States
CATEGORIES:Music
END:VEVENT
BEGIN:VEVENT
DTSTART;TZID=America/Indiana/Indianapolis:20230921T160000
DTEND;TZID=America/Indiana/Indianapolis:20230921T170000
DTSTAMP:20260422T143755
CREATED:20230707T152321Z
LAST-MODIFIED:20230911T204551Z
UID:37491-1695312000-1695315600@www.myepl.org
SUMMARY:Tween and Teen Checkers Tournament
DESCRIPTION:Play checkers for prizes. We’ll teach you to play. Plus\, you can eat the pieces when we’re done.
URL:https://www.myepl.org/event/tween-and-teen-checkers-tournament/
LOCATION:Osolo Branch\, 3429 E. Bristol St.\, Elkhart\, IN\, 46516\, United States
CATEGORIES:Just for Fun
ATTACH;FMTTYPE=image/png:https://www.myepl.org/wp-content/uploads/2023/07/Tween-and-Teen-Checkers-Tournament-Calendar.png
END:VEVENT
BEGIN:VEVENT
DTSTART;TZID=America/Indiana/Indianapolis:20230918T140000
DTEND;TZID=America/Indiana/Indianapolis:20230918T150000
DTSTAMP:20260422T143755
CREATED:20230710T124842Z
LAST-MODIFIED:20230918T134146Z
UID:37629-1695045600-1695049200@www.myepl.org
SUMMARY:Adult Crafternoon - Recycled Book Planters
DESCRIPTION:Registration for this event is closed. Keep watching for more great activities. \nLearn new crafting skills while meeting others. This month we’re turning an old book into a planter.
URL:https://www.myepl.org/event/adult-crafternoon-recycled-book-planters/
LOCATION:Osolo Branch\, 3429 E. Bristol St.\, Elkhart\, IN\, 46516\, United States
CATEGORIES:Crafts
ATTACH;FMTTYPE=image/jpeg:https://www.myepl.org/wp-content/uploads/2023/07/Succulent-books-planter.jpg
END:VEVENT
BEGIN:VEVENT
DTSTART;TZID=America/Indiana/Indianapolis:20230831T153000
DTEND;TZID=America/Indiana/Indianapolis:20230831T170000
DTSTAMP:20260422T143755
CREATED:20230818T203628Z
LAST-MODIFIED:20230818T203629Z
UID:39219-1693495800-1693501200@www.myepl.org
SUMMARY:Tie-Dye T-Shirts
DESCRIPTION:Join us outside Osolo to create a tie-dye shirt! All shirts are free. Bring your own or we’ll have you S to L and adult M to XL. \nIf it rains\, it’s canceled.
URL:https://www.myepl.org/event/tie-dye-t-shirts/
LOCATION:Osolo Branch\, 3429 E. Bristol St.\, Elkhart\, IN\, 46516\, United States
CATEGORIES:Crafts,Just for Fun
ATTACH;FMTTYPE=image/jpeg:https://www.myepl.org/wp-content/uploads/2019/03/Tie-Dye-09.jpg
END:VEVENT
BEGIN:VEVENT
DTSTART;TZID=America/Indiana/Indianapolis:20230821T140000
DTEND;TZID=America/Indiana/Indianapolis:20230821T150000
DTSTAMP:20260422T143755
CREATED:20230710T124524Z
LAST-MODIFIED:20230818T131234Z
UID:37626-1692626400-1692630000@www.myepl.org
SUMMARY:Adult Crafternoon - Aromatherapy Neck Pillow
DESCRIPTION:(Registration for this event has ended. Keep watching for more great activities.) \nLearn new creative skills\, meet others and make something with your hands. This month we’re making a neck pillow that will help you relax.
URL:https://www.myepl.org/event/adult-crafternoon-aromatherapy-neck-pillow/
LOCATION:Osolo Branch\, 3429 E. Bristol St.\, Elkhart\, IN\, 46516\, United States
CATEGORIES:Crafts
END:VEVENT
BEGIN:VEVENT
DTSTART;TZID=America/Indiana/Indianapolis:20230719T153000
DTEND;TZID=America/Indiana/Indianapolis:20230719T163000
DTSTAMP:20260422T143755
CREATED:20230331T192441Z
LAST-MODIFIED:20230629T210209Z
UID:35884-1689780600-1689784200@www.myepl.org
SUMMARY:Return to Camp Read-A-Lot
DESCRIPTION:Return to Camp Read-A-Lot for another round of stories and songs around the campfire\, arts and crafts and tents to build and read inside.
URL:https://www.myepl.org/event/return-to-camp-read-a-lot/
LOCATION:Osolo Branch\, 3429 E. Bristol St.\, Elkhart\, IN\, 46516\, United States
CATEGORIES:Just for Fun,Summer Reading
ATTACH;FMTTYPE=image/png:https://www.myepl.org/wp-content/uploads/2023/03/Camp-Read-A-Lot-Calendar.png
END:VEVENT
BEGIN:VEVENT
DTSTART;TZID=America/Indiana/Indianapolis:20230717T140000
DTEND;TZID=America/Indiana/Indianapolis:20230717T153000
DTSTAMP:20260422T143755
CREATED:20230331T193013Z
LAST-MODIFIED:20230713T122615Z
UID:35886-1689602400-1689607800@www.myepl.org
SUMMARY:Adult Crafternoon - Canvas Embroidery
DESCRIPTION:Meet others while learning new crafting skills. This month we’re making a stretched canvas by painting\, poking and embroidering. \nRegistration for this event opens June 1.
URL:https://www.myepl.org/event/adult-crafternoon-canvas-embroidery/
LOCATION:Osolo Branch\, 3429 E. Bristol St.\, Elkhart\, IN\, 46516\, United States
CATEGORIES:Crafts
ATTACH;FMTTYPE=image/jpeg:https://www.myepl.org/wp-content/uploads/2023/03/Crafternoon-canvas-embroidery.jpg
END:VEVENT
BEGIN:VEVENT
DTSTART;TZID=America/Indiana/Indianapolis:20230712T100000
DTEND;TZID=America/Indiana/Indianapolis:20230712T110000
DTSTAMP:20260422T143755
CREATED:20230605T122429Z
LAST-MODIFIED:20230605T122616Z
UID:37018-1689156000-1689159600@www.myepl.org
SUMMARY:Return to Camp Read-A-Lot for Littles
DESCRIPTION:Join us for stories and songs around a campfire\, plus search for critters\, going fishing and a camp snack.
URL:https://www.myepl.org/event/return-to-camp-read-a-lot-for-littles/
LOCATION:Osolo Branch\, 3429 E. Bristol St.\, Elkhart\, IN\, 46516\, United States
CATEGORIES:Storytimes,Summer Reading
ATTACH;FMTTYPE=image/png:https://www.myepl.org/wp-content/uploads/2023/03/Camp-Read-A-Lot-for-Littles-Calendar.png
END:VEVENT
BEGIN:VEVENT
DTSTART;TZID=America/Indiana/Indianapolis:20230705T140000
DTEND;TZID=America/Indiana/Indianapolis:20230705T160000
DTSTAMP:20260422T143755
CREATED:20230403T134832Z
LAST-MODIFIED:20230626T153331Z
UID:35998-1688565600-1688572800@www.myepl.org
SUMMARY:Readers Spin to Win
DESCRIPTION:Come into Osolo\, show Miss Janell any three books you have read for the Summer Reading Challenge and spin the wheel to get a prize.
URL:https://www.myepl.org/event/readers-spin-to-win/
LOCATION:Osolo Branch\, 3429 E. Bristol St.\, Elkhart\, IN\, 46516\, United States
CATEGORIES:Just for Fun,Summer Reading
END:VEVENT
BEGIN:VEVENT
DTSTART;TZID=America/Indiana/Indianapolis:20230621T160000
DTEND;TZID=America/Indiana/Indianapolis:20230621T170000
DTSTAMP:20260422T143755
CREATED:20230403T160312Z
LAST-MODIFIED:20230613T165144Z
UID:36002-1687363200-1687366800@www.myepl.org
SUMMARY:Tween and Teen Mandalas
DESCRIPTION:Create a circular mandala art out of nature items we find. Then we’ll make another mandala that you can eat out of food.
URL:https://www.myepl.org/event/tween-and-teen-mandalas/
LOCATION:Osolo Branch\, 3429 E. Bristol St.\, Elkhart\, IN\, 46516\, United States
CATEGORIES:Art
ATTACH;FMTTYPE=image/jpeg:https://www.myepl.org/wp-content/uploads/2023/04/Mandalas.jpg
END:VEVENT
BEGIN:VEVENT
DTSTART;TZID=America/Indiana/Indianapolis:20230619T140000
DTEND;TZID=America/Indiana/Indianapolis:20230619T150000
DTSTAMP:20260422T143755
CREATED:20230331T193402Z
LAST-MODIFIED:20230616T184442Z
UID:35890-1687183200-1687186800@www.myepl.org
SUMMARY:Adult Crafternoon - Glass Marble Sun Catchers
DESCRIPTION:(This event is full. Keep watching for more great activities.) \nMeet others and learn new craft skills. This month we’re making an eye-catching sun catcher with patterned glass marbles.
URL:https://www.myepl.org/event/adult-crafternoon-glass-marble-sun-catchers/
LOCATION:Osolo Branch\, 3429 E. Bristol St.\, Elkhart\, IN\, 46516\, United States
CATEGORIES:Crafts
ATTACH;FMTTYPE=image/jpeg:https://www.myepl.org/wp-content/uploads/2023/03/crafternoon-glass-sun-catcher.jpg
END:VEVENT
BEGIN:VEVENT
DTSTART;TZID=America/Indiana/Indianapolis:20230614T153000
DTEND;TZID=America/Indiana/Indianapolis:20230614T163000
DTSTAMP:20260422T143755
CREATED:20230331T154757Z
LAST-MODIFIED:20230606T204513Z
UID:35878-1686756600-1686760200@www.myepl.org
SUMMARY:Camp Read-A-Lot
DESCRIPTION:Join our camp for stories and songs around the campfire\, a bear hunt\, fishing in the pond\, tent construction and a special camp treat!
URL:https://www.myepl.org/event/camp-read-a-lot/
LOCATION:Osolo Branch\, 3429 E. Bristol St.\, Elkhart\, IN\, 46516\, United States
CATEGORIES:Just for Fun,Summer Reading
ATTACH;FMTTYPE=image/png:https://www.myepl.org/wp-content/uploads/2023/03/Camp-Read-A-Lot-Calendar.png
END:VEVENT
BEGIN:VEVENT
DTSTART;TZID=America/Indiana/Indianapolis:20230607T100000
DTEND;TZID=America/Indiana/Indianapolis:20230607T110000
DTSTAMP:20260422T143755
CREATED:20230331T193824Z
LAST-MODIFIED:20230524T143906Z
UID:35893-1686132000-1686135600@www.myepl.org
SUMMARY:Camp Read-A-Lot for Littles
DESCRIPTION:Join Miss Janell in Camp Read-A-Lot. Share stories and songs around the campfire\, go on a bear hunt\, make a craft and set up a tent.
URL:https://www.myepl.org/event/camp-read-a-lot-for-littles-2/
LOCATION:Osolo Branch\, 3429 E. Bristol St.\, Elkhart\, IN\, 46516\, United States
CATEGORIES:Just for Fun,Summer Reading
ATTACH;FMTTYPE=image/png:https://www.myepl.org/wp-content/uploads/2023/03/Camp-Read-A-Lot-for-Littles-Calendar.png
END:VEVENT
BEGIN:VEVENT
DTSTART;TZID=America/Indiana/Indianapolis:20230601T100000
DTEND;TZID=America/Indiana/Indianapolis:20230601T110000
DTSTAMP:20260422T143755
CREATED:20230331T175331Z
LAST-MODIFIED:20230522T191338Z
UID:35882-1685613600-1685617200@www.myepl.org
SUMMARY:Dusty the Dog: A Handwashing Program
DESCRIPTION:Join Dusty the Dog\, Sneezy Sam and Madison from the Elkhart County Health Department for an informative and hands-on program about germs and how to fight them.
URL:https://www.myepl.org/event/dusty-the-dog-a-handwashing-program/
LOCATION:Osolo Branch\, 3429 E. Bristol St.\, Elkhart\, IN\, 46516\, United States
CATEGORIES:Educational
ATTACH;FMTTYPE=image/png:https://www.myepl.org/wp-content/uploads/2023/03/Dusty-the-Dog-A-Handwashing-Program-Calendar.png
END:VEVENT
BEGIN:VEVENT
DTSTART;TZID=America/Indiana/Indianapolis:20230522T160000
DTEND;TZID=America/Indiana/Indianapolis:20230522T170000
DTSTAMP:20260422T143755
CREATED:20230403T135341Z
LAST-MODIFIED:20230502T143831Z
UID:36000-1684771200-1684774800@www.myepl.org
SUMMARY:Tween and Teen BINGO
DESCRIPTION:Play BINGO\, win prizes and eat the BINGO markers between each round.
URL:https://www.myepl.org/event/tween-and-teen-bingo/
LOCATION:Osolo Branch\, 3429 E. Bristol St.\, Elkhart\, IN\, 46516\, United States
CATEGORIES:Just for Fun
ATTACH;FMTTYPE=image/jpeg:https://www.myepl.org/wp-content/uploads/2023/04/Bingo.jpg
END:VEVENT
BEGIN:VEVENT
DTSTART;TZID=America/Indiana/Indianapolis:20230520T100000
DTEND;TZID=America/Indiana/Indianapolis:20230520T120000
DTSTAMP:20260422T143755
CREATED:20230403T124638Z
LAST-MODIFIED:20230509T205508Z
UID:35929-1684576800-1684584000@www.myepl.org
SUMMARY:Summer Reading Bags
DESCRIPTION:Start the Summer Reading Challenge by decorating your own bag for books! Drop in between 10 a.m. and noon to create your own design that will be ironed onto the bag\, while supplies last.
URL:https://www.myepl.org/event/summer-reading-bags/
LOCATION:Osolo Branch\, 3429 E. Bristol St.\, Elkhart\, IN\, 46516\, United States
CATEGORIES:Crafts,Summer Reading
END:VEVENT
BEGIN:VEVENT
DTSTART;TZID=America/Indiana/Indianapolis:20230515T140000
DTEND;TZID=America/Indiana/Indianapolis:20230515T150000
DTSTAMP:20260422T143755
CREATED:20230328T191816Z
LAST-MODIFIED:20230331T194055Z
UID:35771-1684159200-1684162800@www.myepl.org
SUMMARY:Adult Crafternoon - Ladybug
DESCRIPTION:Bring out your creative side\, meet others and learn new skills. This month we’re painting a circle pattern mandala to create a ladybug.
URL:https://www.myepl.org/event/adult-crafternoon-ladybug/
LOCATION:Osolo Branch\, 3429 E. Bristol St.\, Elkhart\, IN\, 46516\, United States
CATEGORIES:Crafts
ATTACH;FMTTYPE=image/jpeg:https://www.myepl.org/wp-content/uploads/2023/03/crafternoon-ladybug-mandala-painted-rock.jpg
END:VEVENT
BEGIN:VEVENT
DTSTART;TZID=America/Indiana/Indianapolis:20230417T133000
DTEND;TZID=America/Indiana/Indianapolis:20230417T143000
DTSTAMP:20260422T143755
CREATED:20230103T172333Z
LAST-MODIFIED:20230329T201405Z
UID:34514-1681738200-1681741800@www.myepl.org
SUMMARY:Adult Crafternoon - Spring Flowerpot Gnome
DESCRIPTION:(This event is full. Keep watching for more great activities.) \nCrafternoons are a monthly program for adults to bring out their creative side and learn new skills while meeting others. This month\, make a flowerpot gnome. Register below as space is limited.
URL:https://www.myepl.org/event/adult-crafternoon-spring-flowerpot-gnome/
LOCATION:Osolo Branch\, 3429 E. Bristol St.\, Elkhart\, IN\, 46516\, United States
CATEGORIES:Crafts
END:VEVENT
BEGIN:VEVENT
DTSTART;TZID=America/Indiana/Indianapolis:20230411T160000
DTEND;TZID=America/Indiana/Indianapolis:20230411T170000
DTSTAMP:20260422T143755
CREATED:20230110T161450Z
LAST-MODIFIED:20230110T161450Z
UID:34829-1681228800-1681232400@www.myepl.org
SUMMARY:Tween and Teen Book Hunt
DESCRIPTION:Come to Osolo between 4 and 5 p.m. for a book-hunting challenge. Follow the clues and find the books. Prizes are awarded to those who can complete the challenge.
URL:https://www.myepl.org/event/tween-and-teen-book-hunt/
LOCATION:Osolo Branch\, 3429 E. Bristol St.\, Elkhart\, IN\, 46516\, United States
CATEGORIES:Just for Fun
ATTACH;FMTTYPE=image/jpeg:https://www.myepl.org/wp-content/uploads/2023/01/Teen-book-hunt.jpg
END:VEVENT
BEGIN:VEVENT
DTSTART;TZID=America/Indiana/Indianapolis:20230406T183000
DTEND;TZID=America/Indiana/Indianapolis:20230406T193000
DTSTAMP:20260422T143755
CREATED:20230103T173106Z
LAST-MODIFIED:20230307T154710Z
UID:34520-1680805800-1680809400@www.myepl.org
SUMMARY:Osolo Family BINGO
DESCRIPTION:Play BINGO with a twist. Bring the family and play for fun and prizes.
URL:https://www.myepl.org/event/osolo-family-bingo/
LOCATION:Osolo Branch\, 3429 E. Bristol St.\, Elkhart\, IN\, 46516\, United States
CATEGORIES:Just for Fun
ATTACH;FMTTYPE=image/png:https://www.myepl.org/wp-content/uploads/2023/01/Osolo-Family-BINGO-_-Calendar.png
END:VEVENT
BEGIN:VEVENT
DTSTART;TZID=America/Indiana/Indianapolis:20230405T100000
DTEND;TZID=America/Indiana/Indianapolis:20230405T110000
DTSTAMP:20260422T143755
CREATED:20230109T144155Z
LAST-MODIFIED:20230109T144714Z
UID:34704-1680688800-1680692400@www.myepl.org
SUMMARY:Spring Break Story Break
DESCRIPTION:Take a break from spring break with Elephant\, Piggie and Miss Janell. Enjoy the Elephant and Piggie stories from Mo Willems\, create Elephant and Piggie masks and act like them. Keep an eye out for Pigeon\, too.
URL:https://www.myepl.org/event/spring-break-story-break/
LOCATION:Osolo Branch\, 3429 E. Bristol St.\, Elkhart\, IN\, 46516\, United States
CATEGORIES:Crafts,Just for Fun
ATTACH;FMTTYPE=image/jpeg:https://www.myepl.org/wp-content/uploads/2019/09/100_3209-scaled.jpg
END:VEVENT
BEGIN:VEVENT
DTSTART;TZID=America/Indiana/Indianapolis:20230403T090000
DTEND;TZID=America/Indiana/Indianapolis:20230403T190000
DTSTAMP:20260422T143755
CREATED:20230109T143348Z
LAST-MODIFIED:20230109T143348Z
UID:34698-1680512400-1680548400@www.myepl.org
SUMMARY:Scavenger Hunt
DESCRIPTION:Pop in during open hours during spring break for a scavenger hunt. Find the clues and earn a prize.
URL:https://www.myepl.org/event/scavenger-hunt-3/2023-04-03/
LOCATION:Osolo Branch\, 3429 E. Bristol St.\, Elkhart\, IN\, 46516\, United States
CATEGORIES:Just for Fun
END:VEVENT
BEGIN:VEVENT
DTSTART;TZID=America/Indiana/Indianapolis:20230321T160000
DTEND;TZID=America/Indiana/Indianapolis:20230321T170000
DTSTAMP:20260422T143755
CREATED:20230110T161600Z
LAST-MODIFIED:20230307T151025Z
UID:34832-1679414400-1679418000@www.myepl.org
SUMMARY:Tween and Teen Prize Wheel
DESCRIPTION:Spin the wheel\, solve word puzzles and earn snacks and prizes.
URL:https://www.myepl.org/event/tween-and-teen-prize-wheel/
LOCATION:Osolo Branch\, 3429 E. Bristol St.\, Elkhart\, IN\, 46516\, United States
CATEGORIES:Just for Fun
ATTACH;FMTTYPE=image/png:https://www.myepl.org/wp-content/uploads/2023/01/Tween-and-Teen-Prize-Wheel-_-Calendar.png
END:VEVENT
END:VCALENDAR