BEGIN:VCALENDAR
VERSION:2.0
PRODID:-//Elkhart Public Library - ECPv6.15.20//NONSGML v1.0//EN
CALSCALE:GREGORIAN
METHOD:PUBLISH
X-WR-CALNAME:Elkhart Public Library
X-ORIGINAL-URL:https://www.myepl.org
X-WR-CALDESC:Events for Elkhart Public Library
REFRESH-INTERVAL;VALUE=DURATION:PT1H
X-Robots-Tag:noindex
X-PUBLISHED-TTL:PT1H
BEGIN:VTIMEZONE
TZID:America/Indiana/Indianapolis
BEGIN:DAYLIGHT
TZOFFSETFROM:-0500
TZOFFSETTO:-0400
TZNAME:EDT
DTSTART:20250309T070000
END:DAYLIGHT
BEGIN:STANDARD
TZOFFSETFROM:-0400
TZOFFSETTO:-0500
TZNAME:EST
DTSTART:20251102T060000
END:STANDARD
BEGIN:DAYLIGHT
TZOFFSETFROM:-0500
TZOFFSETTO:-0400
TZNAME:EDT
DTSTART:20260308T070000
END:DAYLIGHT
BEGIN:STANDARD
TZOFFSETFROM:-0400
TZOFFSETTO:-0500
TZNAME:EST
DTSTART:20261101T060000
END:STANDARD
BEGIN:DAYLIGHT
TZOFFSETFROM:-0500
TZOFFSETTO:-0400
TZNAME:EDT
DTSTART:20270314T070000
END:DAYLIGHT
BEGIN:STANDARD
TZOFFSETFROM:-0400
TZOFFSETTO:-0500
TZNAME:EST
DTSTART:20271107T060000
END:STANDARD
END:VTIMEZONE
BEGIN:VEVENT
DTSTART;TZID=America/Indiana/Indianapolis:20260505T093000
DTEND;TZID=America/Indiana/Indianapolis:20260505T101500
DTSTAMP:20260420T035933
CREATED:20240709T131622Z
LAST-MODIFIED:20240709T131622Z
UID:55056-1777973400-1777976100@www.myepl.org
SUMMARY:Storytime with Miss Janell
DESCRIPTION:Join Miss Janell and her puppets for an active Storytime of songs\, stories\, rhymes and creativity. Two 45-minute programs are offered for your convenience\, 9:30 and 11 a.m. 
URL:https://www.myepl.org/event/storytime-with-miss-janell-5/2026-05-05/
LOCATION:Osolo Branch\, 3429 E. Bristol St.\, Elkhart\, IN\, 46516\, United States
CATEGORIES:Storytimes
ATTACH;FMTTYPE=image/jpeg:https://www.myepl.org/wp-content/uploads/2022/10/Miss-Janell.jpg
END:VEVENT
BEGIN:VEVENT
DTSTART;TZID=America/Indiana/Indianapolis:20260505T110000
DTEND;TZID=America/Indiana/Indianapolis:20260505T114500
DTSTAMP:20260420T035933
CREATED:20240709T131747Z
LAST-MODIFIED:20260311T173241Z
UID:55012-1777978800-1777981500@www.myepl.org
SUMMARY:Storytime with Miss Janell
DESCRIPTION:Join Miss Janell and her puppets for an active Storytime of songs\, stories\, rhymes and creativity. Two 45-minute programs are offered for your convenience\, 9:30 and 11 a.m. 
URL:https://www.myepl.org/event/storytime-at-miss-janell/2026-05-05/
LOCATION:Osolo Branch\, 3429 E. Bristol St.\, Elkhart\, IN\, 46516\, United States
CATEGORIES:Storytimes
ATTACH;FMTTYPE=image/jpeg:https://www.myepl.org/wp-content/uploads/2022/10/Miss-Janell.jpg
END:VEVENT
BEGIN:VEVENT
DTSTART;VALUE=DATE:20260506
DTEND;VALUE=DATE:20260507
DTSTAMP:20260420T035933
CREATED:20260318T202726Z
LAST-MODIFIED:20260318T202726Z
UID:55620-1778025600-1778111999@www.myepl.org
SUMMARY:Appreciation Card Workshop
DESCRIPTION:Drop in anytime during open hours to create a heartfelt card of appreciation for a grown-up in your life.
URL:https://www.myepl.org/event/appreciation-card-workshop/2026-05-06/
LOCATION:Osolo Branch\, 3429 E. Bristol St.\, Elkhart\, IN\, 46516\, United States
CATEGORIES:Crafts,Preschool Programs,School Age Programs
END:VEVENT
BEGIN:VEVENT
DTSTART;VALUE=DATE:20260507
DTEND;VALUE=DATE:20260508
DTSTAMP:20260420T035933
CREATED:20260318T202726Z
LAST-MODIFIED:20260318T202726Z
UID:55621-1778112000-1778198399@www.myepl.org
SUMMARY:Appreciation Card Workshop
DESCRIPTION:Drop in anytime during open hours to create a heartfelt card of appreciation for a grown-up in your life.
URL:https://www.myepl.org/event/appreciation-card-workshop/2026-05-07/
LOCATION:Osolo Branch\, 3429 E. Bristol St.\, Elkhart\, IN\, 46516\, United States
CATEGORIES:Crafts,Preschool Programs,School Age Programs
END:VEVENT
BEGIN:VEVENT
DTSTART;TZID=America/Indiana/Indianapolis:20260507T153000
DTEND;TZID=America/Indiana/Indianapolis:20260507T163000
DTSTAMP:20260420T035933
CREATED:20230315T150933Z
LAST-MODIFIED:20230315T150933Z
UID:55147-1778167800-1778171400@www.myepl.org
SUMMARY:Osolo LEGO Club
DESCRIPTION:Build with our LEGOs at Osolo. Come in and we’ll challenge you to build something and share it with the group.
URL:https://www.myepl.org/event/osolo-lego-club/2026-05-07/
LOCATION:Osolo Branch\, 3429 E. Bristol St.\, Elkhart\, IN\, 46516\, United States
CATEGORIES:Just for Fun
ATTACH;FMTTYPE=image/jpeg:https://www.myepl.org/wp-content/uploads/2023/03/LEGO-Challenge.jpg
END:VEVENT
BEGIN:VEVENT
DTSTART;VALUE=DATE:20260508
DTEND;VALUE=DATE:20260509
DTSTAMP:20260420T035933
CREATED:20260318T202726Z
LAST-MODIFIED:20260318T202726Z
UID:55622-1778198400-1778284799@www.myepl.org
SUMMARY:Appreciation Card Workshop
DESCRIPTION:Drop in anytime during open hours to create a heartfelt card of appreciation for a grown-up in your life.
URL:https://www.myepl.org/event/appreciation-card-workshop/2026-05-08/
LOCATION:Osolo Branch\, 3429 E. Bristol St.\, Elkhart\, IN\, 46516\, United States
CATEGORIES:Crafts,Preschool Programs,School Age Programs
END:VEVENT
BEGIN:VEVENT
DTSTART;TZID=America/Indiana/Indianapolis:20260508T163000
DTEND;TZID=America/Indiana/Indianapolis:20260508T173000
DTSTAMP:20260420T035933
CREATED:20260320T140747Z
LAST-MODIFIED:20260320T140747Z
UID:55677-1778257800-1778261400@www.myepl.org
SUMMARY:Friday Night Bingo
DESCRIPTION:Enjoy themed bingo for the whole family. Win snacks and prizes. \nMay 8 – Ocean creature bingo\nJune 19 – Playing card bingo\nJuly 10 – State trivia bingo
URL:https://www.myepl.org/event/friday-night-bingo-2/2026-05-08/
LOCATION:Osolo Branch\, 3429 E. Bristol St.\, Elkhart\, IN\, 46516\, United States
CATEGORIES:Adult Programs,Just for Fun,Preschool Programs,School Age Programs,Teen Programs
ATTACH;FMTTYPE=image/jpeg:https://www.myepl.org/wp-content/uploads/2025/12/Friday-Night-Bingo_Calendar.jpg
END:VEVENT
BEGIN:VEVENT
DTSTART;VALUE=DATE:20260509
DTEND;VALUE=DATE:20260510
DTSTAMP:20260420T035933
CREATED:20260318T202726Z
LAST-MODIFIED:20260318T202726Z
UID:55623-1778284800-1778371199@www.myepl.org
SUMMARY:Appreciation Card Workshop
DESCRIPTION:Drop in anytime during open hours to create a heartfelt card of appreciation for a grown-up in your life.
URL:https://www.myepl.org/event/appreciation-card-workshop/2026-05-09/
LOCATION:Osolo Branch\, 3429 E. Bristol St.\, Elkhart\, IN\, 46516\, United States
CATEGORIES:Crafts,Preschool Programs,School Age Programs
END:VEVENT
BEGIN:VEVENT
DTSTART;TZID=America/Indiana/Indianapolis:20260511T150000
DTEND;TZID=America/Indiana/Indianapolis:20260511T160000
DTSTAMP:20260420T035933
CREATED:20230109T210131Z
LAST-MODIFIED:20260316T135100Z
UID:55266-1778511600-1778515200@www.myepl.org
SUMMARY:Osolo Page Turners
DESCRIPTION:Join our monthly book discussions at the Osolo Branch. Upcoming titles:\n\n 	\n\n 	March 9 – Any book about Amelia Earhart\n 	April 13 – “The Clinic” by Cate Quinn\n 	May 11 – “Someone Knows” by Lisa Scottoline\n 	June 8 – “The Spectacular” by Fiona Davis\n 	July 13 – “My Friends” by Frederik Backman
URL:https://www.myepl.org/event/osolo-page-turners-23/2026-05-11/
LOCATION:Osolo Branch\, 3429 E. Bristol St.\, Elkhart\, IN\, 46516\, United States
CATEGORIES:Book Discussion
ATTACH;FMTTYPE=image/png:https://www.myepl.org/wp-content/uploads/2023/01/Osolo-Page-Turners-Calendar-01.png
END:VEVENT
BEGIN:VEVENT
DTSTART;TZID=America/Indiana/Indianapolis:20260512T093000
DTEND;TZID=America/Indiana/Indianapolis:20260512T101500
DTSTAMP:20260420T035933
CREATED:20240709T131622Z
LAST-MODIFIED:20240709T131622Z
UID:55057-1778578200-1778580900@www.myepl.org
SUMMARY:Storytime with Miss Janell
DESCRIPTION:Join Miss Janell and her puppets for an active Storytime of songs\, stories\, rhymes and creativity. Two 45-minute programs are offered for your convenience\, 9:30 and 11 a.m. 
URL:https://www.myepl.org/event/storytime-with-miss-janell-5/2026-05-12/
LOCATION:Osolo Branch\, 3429 E. Bristol St.\, Elkhart\, IN\, 46516\, United States
CATEGORIES:Storytimes
ATTACH;FMTTYPE=image/jpeg:https://www.myepl.org/wp-content/uploads/2022/10/Miss-Janell.jpg
END:VEVENT
BEGIN:VEVENT
DTSTART;TZID=America/Indiana/Indianapolis:20260512T110000
DTEND;TZID=America/Indiana/Indianapolis:20260512T114500
DTSTAMP:20260420T035933
CREATED:20240709T131747Z
LAST-MODIFIED:20260311T173241Z
UID:55013-1778583600-1778586300@www.myepl.org
SUMMARY:Storytime with Miss Janell
DESCRIPTION:Join Miss Janell and her puppets for an active Storytime of songs\, stories\, rhymes and creativity. Two 45-minute programs are offered for your convenience\, 9:30 and 11 a.m. 
URL:https://www.myepl.org/event/storytime-at-miss-janell/2026-05-12/
LOCATION:Osolo Branch\, 3429 E. Bristol St.\, Elkhart\, IN\, 46516\, United States
CATEGORIES:Storytimes
ATTACH;FMTTYPE=image/jpeg:https://www.myepl.org/wp-content/uploads/2022/10/Miss-Janell.jpg
END:VEVENT
BEGIN:VEVENT
DTSTART;TZID=America/Indiana/Indianapolis:20260513T170000
DTEND;TZID=America/Indiana/Indianapolis:20260513T183000
DTSTAMP:20260420T035933
CREATED:20260312T131636Z
LAST-MODIFIED:20260318T135654Z
UID:55156-1778691600-1778697000@www.myepl.org
SUMMARY:Chapter Chasers
DESCRIPTION:Grab a copy of the book to read before we meet. Then\, discuss it with other readers and enjoy activities and socializing. Geared for kids ages 9 and up. \nMay 13 – “The Wild Robot” by Peter Brown\nJune 10 – “Front Desk” by Kelly Yang\nJuly 8 – “Number the Stars” by Lois Lowry 
URL:https://www.myepl.org/event/chapter-chasers/2026-05-13/
LOCATION:Osolo Branch\, 3429 E. Bristol St.\, Elkhart\, IN\, 46516\, United States
CATEGORIES:Book Discussion,Teen Programs
END:VEVENT
BEGIN:VEVENT
DTSTART;TZID=America/Indiana/Indianapolis:20260518T173000
DTEND;TZID=America/Indiana/Indianapolis:20260518T183000
DTSTAMP:20260420T035933
CREATED:20260319T121731Z
LAST-MODIFIED:20260319T121731Z
UID:55641-1779125400-1779129000@www.myepl.org
SUMMARY:Craft Night for Adults
DESCRIPTION:Get creative\, learn new skills and meet others. \nMay 18 – Upcycle Basket\nJune 15 – Mod Podge makeover\nJuly 20 – Pounded flower prints
URL:https://www.myepl.org/event/craft-night-for-adults-7/2026-05-18/
LOCATION:Osolo Branch\, 3429 E. Bristol St.\, Elkhart\, IN\, 46516\, United States
CATEGORIES:Adult Programs,Crafts
END:VEVENT
BEGIN:VEVENT
DTSTART;TZID=America/Indiana/Indianapolis:20260519T093000
DTEND;TZID=America/Indiana/Indianapolis:20260519T101500
DTSTAMP:20260420T035933
CREATED:20240709T131622Z
LAST-MODIFIED:20240709T131622Z
UID:55058-1779183000-1779185700@www.myepl.org
SUMMARY:Storytime with Miss Janell
DESCRIPTION:Join Miss Janell and her puppets for an active Storytime of songs\, stories\, rhymes and creativity. Two 45-minute programs are offered for your convenience\, 9:30 and 11 a.m. 
URL:https://www.myepl.org/event/storytime-with-miss-janell-5/2026-05-19/
LOCATION:Osolo Branch\, 3429 E. Bristol St.\, Elkhart\, IN\, 46516\, United States
CATEGORIES:Storytimes
ATTACH;FMTTYPE=image/jpeg:https://www.myepl.org/wp-content/uploads/2022/10/Miss-Janell.jpg
END:VEVENT
BEGIN:VEVENT
DTSTART;TZID=America/Indiana/Indianapolis:20260519T110000
DTEND;TZID=America/Indiana/Indianapolis:20260519T114500
DTSTAMP:20260420T035933
CREATED:20240709T131747Z
LAST-MODIFIED:20260311T173244Z
UID:55014-1779188400-1779191100@www.myepl.org
SUMMARY:Storytime with Miss Janell
DESCRIPTION:Join Miss Janell and her puppets for an active Storytime of songs\, stories\, rhymes and creativity. Two 45-minute programs are offered for your convenience\, 9:30 and 11 a.m. 
URL:https://www.myepl.org/event/storytime-at-miss-janell/2026-05-19/
LOCATION:Osolo Branch\, 3429 E. Bristol St.\, Elkhart\, IN\, 46516\, United States
CATEGORIES:Storytimes
ATTACH;FMTTYPE=image/jpeg:https://www.myepl.org/wp-content/uploads/2022/10/Miss-Janell.jpg
END:VEVENT
BEGIN:VEVENT
DTSTART;TZID=America/Indiana/Indianapolis:20260521T170000
DTEND;TZID=America/Indiana/Indianapolis:20260521T183000
DTSTAMP:20260420T035933
CREATED:20260318T202107Z
LAST-MODIFIED:20260318T202107Z
UID:55614-1779382800-1779388200@www.myepl.org
SUMMARY:Throwback Theatre
DESCRIPTION:Join us for free popcorn and a showing of a classic family movie. \nMay 21 – “Beethoven” (PG\, 1:27)\nJune 18 – “A Goofy Movie” (G\, 1:18)\nJuly 16 – “Free Willy” (PG\, 1:52)
URL:https://www.myepl.org/event/throwback-theatre-2/2026-05-21/
LOCATION:Osolo Branch\, 3429 E. Bristol St.\, Elkhart\, IN\, 46516\, United States
CATEGORIES:Movies
END:VEVENT
BEGIN:VEVENT
DTSTART;TZID=America/Indiana/Indianapolis:20260522T153000
DTEND;TZID=America/Indiana/Indianapolis:20260522T170000
DTSTAMP:20260420T035933
CREATED:20260316T152403Z
LAST-MODIFIED:20260316T152403Z
UID:55345-1779463800-1779469200@www.myepl.org
SUMMARY:Osolo Summer Reading Kickoff Party
DESCRIPTION:Get everything you need to start the Summer Reading Challenge. Pick up a gameboard or get registered on Beanstack. Plus\, snacks\, activities and more.
URL:https://www.myepl.org/event/osolo-summer-reading-kickoff-party/
LOCATION:Osolo Branch\, 3429 E. Bristol St.\, Elkhart\, IN\, 46516\, United States
CATEGORIES:Preschool Programs,School Age Programs,Summer Reading,Teen Programs
END:VEVENT
BEGIN:VEVENT
DTSTART;TZID=America/Indiana/Indianapolis:20260525T160000
DTEND;TZID=America/Indiana/Indianapolis:20260525T180000
DTSTAMP:20260420T035933
CREATED:20260320T155110Z
LAST-MODIFIED:20260320T155110Z
UID:55724-1779724800-1779732000@www.myepl.org
SUMMARY:Finals Week Wind Down
DESCRIPTION:Get away from the stress of finals week with different relaxing activities each evening.
URL:https://www.myepl.org/event/finals-week-wind-down/2026-05-25/
LOCATION:Osolo Branch\, 3429 E. Bristol St.\, Elkhart\, IN\, 46516\, United States
CATEGORIES:Just for Fun,Teen Programs
END:VEVENT
BEGIN:VEVENT
DTSTART;TZID=America/Indiana/Indianapolis:20260526T093000
DTEND;TZID=America/Indiana/Indianapolis:20260526T101500
DTSTAMP:20260420T035933
CREATED:20240709T131622Z
LAST-MODIFIED:20240709T131622Z
UID:55059-1779787800-1779790500@www.myepl.org
SUMMARY:Storytime with Miss Janell
DESCRIPTION:Join Miss Janell and her puppets for an active Storytime of songs\, stories\, rhymes and creativity. Two 45-minute programs are offered for your convenience\, 9:30 and 11 a.m. 
URL:https://www.myepl.org/event/storytime-with-miss-janell-5/2026-05-26/
LOCATION:Osolo Branch\, 3429 E. Bristol St.\, Elkhart\, IN\, 46516\, United States
CATEGORIES:Storytimes
ATTACH;FMTTYPE=image/jpeg:https://www.myepl.org/wp-content/uploads/2022/10/Miss-Janell.jpg
END:VEVENT
BEGIN:VEVENT
DTSTART;TZID=America/Indiana/Indianapolis:20260526T110000
DTEND;TZID=America/Indiana/Indianapolis:20260526T114500
DTSTAMP:20260420T035933
CREATED:20240709T131747Z
LAST-MODIFIED:20260311T173244Z
UID:55015-1779793200-1779795900@www.myepl.org
SUMMARY:Storytime with Miss Janell
DESCRIPTION:Join Miss Janell and her puppets for an active Storytime of songs\, stories\, rhymes and creativity. Two 45-minute programs are offered for your convenience\, 9:30 and 11 a.m. 
URL:https://www.myepl.org/event/storytime-at-miss-janell/2026-05-26/
LOCATION:Osolo Branch\, 3429 E. Bristol St.\, Elkhart\, IN\, 46516\, United States
CATEGORIES:Storytimes
ATTACH;FMTTYPE=image/jpeg:https://www.myepl.org/wp-content/uploads/2022/10/Miss-Janell.jpg
END:VEVENT
BEGIN:VEVENT
DTSTART;TZID=America/Indiana/Indianapolis:20260526T160000
DTEND;TZID=America/Indiana/Indianapolis:20260526T180000
DTSTAMP:20260420T035933
CREATED:20260320T155110Z
LAST-MODIFIED:20260320T155110Z
UID:55725-1779811200-1779818400@www.myepl.org
SUMMARY:Finals Week Wind Down
DESCRIPTION:Get away from the stress of finals week with different relaxing activities each evening.
URL:https://www.myepl.org/event/finals-week-wind-down/2026-05-26/
LOCATION:Osolo Branch\, 3429 E. Bristol St.\, Elkhart\, IN\, 46516\, United States
CATEGORIES:Just for Fun,Teen Programs
END:VEVENT
BEGIN:VEVENT
DTSTART;TZID=America/Indiana/Indianapolis:20260526T173000
DTEND;TZID=America/Indiana/Indianapolis:20260526T183000
DTSTAMP:20260420T035933
CREATED:20260312T130540Z
LAST-MODIFIED:20260312T130648Z
UID:55153-1779816600-1779820200@www.myepl.org
SUMMARY:Teen DIY: Yarn Wrapped Letters
DESCRIPTION:Create a customized wrapped letter with colored yarn. These are a great way to decorate your space.
URL:https://www.myepl.org/event/teen-diy-yarn-wrapped-letters/
LOCATION:Osolo Branch\, 3429 E. Bristol St.\, Elkhart\, IN\, 46516\, United States
CATEGORIES:Crafts,Teen Programs
END:VEVENT
BEGIN:VEVENT
DTSTART;TZID=America/Indiana/Indianapolis:20260527T160000
DTEND;TZID=America/Indiana/Indianapolis:20260527T180000
DTSTAMP:20260420T035933
CREATED:20260320T155110Z
LAST-MODIFIED:20260320T155110Z
UID:55726-1779897600-1779904800@www.myepl.org
SUMMARY:Finals Week Wind Down
DESCRIPTION:Get away from the stress of finals week with different relaxing activities each evening.
URL:https://www.myepl.org/event/finals-week-wind-down/2026-05-27/
LOCATION:Osolo Branch\, 3429 E. Bristol St.\, Elkhart\, IN\, 46516\, United States
CATEGORIES:Just for Fun,Teen Programs
END:VEVENT
BEGIN:VEVENT
DTSTART;TZID=America/Indiana/Indianapolis:20260527T170000
DTEND;TZID=America/Indiana/Indianapolis:20260527T183000
DTSTAMP:20260420T035933
CREATED:20260320T203652Z
LAST-MODIFIED:20260320T203652Z
UID:55767-1779901200-1779906600@www.myepl.org
SUMMARY:Sit & Stitch
DESCRIPTION:Bring any needlework project to work on with other enthusiasts. Beginners welcome.
URL:https://www.myepl.org/event/sit-stitch-4/2026-05-27/
LOCATION:Osolo Branch\, 3429 E. Bristol St.\, Elkhart\, IN\, 46516\, United States
CATEGORIES:Adult Programs,Crafts
ATTACH;FMTTYPE=image/png:https://www.myepl.org/wp-content/uploads/2026/01/SitStitch_Calendar.png
END:VEVENT
BEGIN:VEVENT
DTSTART;TZID=America/Indiana/Indianapolis:20260528T140000
DTEND;TZID=America/Indiana/Indianapolis:20260528T160000
DTSTAMP:20260420T035933
CREATED:20260320T195300Z
LAST-MODIFIED:20260320T195300Z
UID:55759-1779976800-1779984000@www.myepl.org
SUMMARY:Mid-Day Matinees
DESCRIPTION:Enjoy popcorn and a free movie. We’re watching “The Spongebob Squarepants Movie: Search for Squarepants” (PG\, 1:28).
URL:https://www.myepl.org/event/mid-day-matinees/
LOCATION:Osolo Branch\, 3429 E. Bristol St.\, Elkhart\, IN\, 46516\, United States
CATEGORIES:Movies,Preschool Programs,School Age Programs,Teen Programs
END:VEVENT
BEGIN:VEVENT
DTSTART;TZID=America/Indiana/Indianapolis:20260528T160000
DTEND;TZID=America/Indiana/Indianapolis:20260528T180000
DTSTAMP:20260420T035933
CREATED:20260320T155110Z
LAST-MODIFIED:20260320T155110Z
UID:55727-1779984000-1779991200@www.myepl.org
SUMMARY:Finals Week Wind Down
DESCRIPTION:Get away from the stress of finals week with different relaxing activities each evening.
URL:https://www.myepl.org/event/finals-week-wind-down/2026-05-28/
LOCATION:Osolo Branch\, 3429 E. Bristol St.\, Elkhart\, IN\, 46516\, United States
CATEGORIES:Just for Fun,Teen Programs
END:VEVENT
BEGIN:VEVENT
DTSTART;TZID=America/Indiana/Indianapolis:20260528T160000
DTEND;TZID=America/Indiana/Indianapolis:20260528T180000
DTSTAMP:20260420T035933
CREATED:20260320T195444Z
LAST-MODIFIED:20260320T195444Z
UID:55761-1779984000-1779991200@www.myepl.org
SUMMARY:Mid-Day Matinee
DESCRIPTION:Enjoy free popcorn and a movie. We’re watching “Zootopia 2” (PG\, 1:48).
URL:https://www.myepl.org/event/mid-day-matinee/
LOCATION:Osolo Branch\, 3429 E. Bristol St.\, Elkhart\, IN\, 46516\, United States
CATEGORIES:Movies,Preschool Programs,School Age Programs,Teen Programs
ATTACH;FMTTYPE=image/jpeg:https://www.myepl.org/wp-content/uploads/2025/12/zootopia2-button-replacement-1759237213360.jpg
END:VEVENT
BEGIN:VEVENT
DTSTART;TZID=America/Indiana/Indianapolis:20260529T090000
DTEND;TZID=America/Indiana/Indianapolis:20260529T170000
DTSTAMP:20260420T035933
CREATED:20260415T160526Z
LAST-MODIFIED:20260415T160526Z
UID:56006-1780045200-1780074000@www.myepl.org
SUMMARY:Family Movie Marathon
DESCRIPTION:Drop into Osolo for an end-of-school all-day movie marathon of family favorites. \nMovies are:\nLyle\, Lyle\, Crocodile (PG\, 1:46)\nHarold and the Purple Crayon (PG\, 1:34)\nDog Man (PG\, 1:33)\nThe Wild Robot (PG\, 1:41)\nThe Bad Guys (PG\, 1:40)
URL:https://www.myepl.org/event/family-movie-marathon-2/
LOCATION:Osolo Branch\, 3429 E. Bristol St.\, Elkhart\, IN\, 46516\, United States
CATEGORIES:Adult Programs,Movies,Preschool Programs,School Age Programs,Teen Programs
END:VEVENT
BEGIN:VEVENT
DTSTART;TZID=America/Indiana/Indianapolis:20260529T160000
DTEND;TZID=America/Indiana/Indianapolis:20260529T180000
DTSTAMP:20260420T035933
CREATED:20260320T155110Z
LAST-MODIFIED:20260320T155110Z
UID:55728-1780070400-1780077600@www.myepl.org
SUMMARY:Finals Week Wind Down
DESCRIPTION:Get away from the stress of finals week with different relaxing activities each evening.
URL:https://www.myepl.org/event/finals-week-wind-down/2026-05-29/
LOCATION:Osolo Branch\, 3429 E. Bristol St.\, Elkhart\, IN\, 46516\, United States
CATEGORIES:Just for Fun,Teen Programs
END:VEVENT
BEGIN:VEVENT
DTSTART;TZID=America/Indiana/Indianapolis:20260601T153000
DTEND;TZID=America/Indiana/Indianapolis:20260601T170000
DTSTAMP:20260420T035933
CREATED:20260318T153240Z
LAST-MODIFIED:20260318T154209Z
UID:55541-1780327800-1780333200@www.myepl.org
SUMMARY:Fun in the Sun
DESCRIPTION:Join us at each neighborhood branch on Mondays in June for games\, activities\, the Book Bus\, prizes and free Kona Ice. The Friends of EPL supports this program.  \nJune 1 – Osolo\nJune 8 – Cleveland\nJune 15 – Pierre Moran\nJune 22 – Dunlap
URL:https://www.myepl.org/event/fun-in-the-sun-2/
LOCATION:Osolo Branch\, 3429 E. Bristol St.\, Elkhart\, IN\, 46516\, United States
CATEGORIES:Infant Programs,Just for Fun,Preschool Programs,School Age Programs,Summer Reading,Teen Programs
ATTACH;FMTTYPE=image/jpeg:https://www.myepl.org/wp-content/uploads/2026/03/Fun-in-the-Sun-PMB-04-scaled.jpg
END:VEVENT
END:VCALENDAR