BEGIN:VCALENDAR
VERSION:2.0
PRODID:-//Elkhart Public Library - ECPv6.15.20//NONSGML v1.0//EN
CALSCALE:GREGORIAN
METHOD:PUBLISH
X-WR-CALNAME:Elkhart Public Library
X-ORIGINAL-URL:https://www.myepl.org
X-WR-CALDESC:Events for Elkhart Public Library
REFRESH-INTERVAL;VALUE=DURATION:PT1H
X-Robots-Tag:noindex
X-PUBLISHED-TTL:PT1H
BEGIN:VTIMEZONE
TZID:America/Indiana/Indianapolis
BEGIN:DAYLIGHT
TZOFFSETFROM:-0500
TZOFFSETTO:-0400
TZNAME:EDT
DTSTART:20250309T070000
END:DAYLIGHT
BEGIN:STANDARD
TZOFFSETFROM:-0400
TZOFFSETTO:-0500
TZNAME:EST
DTSTART:20251102T060000
END:STANDARD
BEGIN:DAYLIGHT
TZOFFSETFROM:-0500
TZOFFSETTO:-0400
TZNAME:EDT
DTSTART:20260308T070000
END:DAYLIGHT
BEGIN:STANDARD
TZOFFSETFROM:-0400
TZOFFSETTO:-0500
TZNAME:EST
DTSTART:20261101T060000
END:STANDARD
BEGIN:DAYLIGHT
TZOFFSETFROM:-0500
TZOFFSETTO:-0400
TZNAME:EDT
DTSTART:20270314T070000
END:DAYLIGHT
BEGIN:STANDARD
TZOFFSETFROM:-0400
TZOFFSETTO:-0500
TZNAME:EST
DTSTART:20271107T060000
END:STANDARD
END:VTIMEZONE
BEGIN:VEVENT
DTSTART;VALUE=DATE:20260615
DTEND;VALUE=DATE:20260616
DTSTAMP:20260422T094542
CREATED:20260318T202918Z
LAST-MODIFIED:20260318T202918Z
UID:55625-1781481600-1781567999@www.myepl.org
SUMMARY:Appreciation Card Workshop
DESCRIPTION:Drop in anytime during open hours and use our available supplies to create a heartfelt card for a grown-up in your life.
URL:https://www.myepl.org/event/appreciation-card-workshop-2/2026-06-15/
LOCATION:Osolo Branch\, 3429 E. Bristol St.\, Elkhart\, IN\, 46516\, United States
CATEGORIES:Crafts,Preschool Programs,School Age Programs
END:VEVENT
BEGIN:VEVENT
DTSTART;TZID=America/Indiana/Indianapolis:20260615T173000
DTEND;TZID=America/Indiana/Indianapolis:20260615T183000
DTSTAMP:20260422T094542
CREATED:20260319T121731Z
LAST-MODIFIED:20260319T121731Z
UID:55643-1781544600-1781548200@www.myepl.org
SUMMARY:Craft Night for Adults
DESCRIPTION:Get creative\, learn new skills and meet others. \nMay 18 – Upcycle Basket\nJune 15 – Mod Podge makeover\nJuly 20 – Pounded flower prints
URL:https://www.myepl.org/event/craft-night-for-adults-7/2026-06-15/
LOCATION:Osolo Branch\, 3429 E. Bristol St.\, Elkhart\, IN\, 46516\, United States
CATEGORIES:Adult Programs,Crafts
END:VEVENT
BEGIN:VEVENT
DTSTART;VALUE=DATE:20260616
DTEND;VALUE=DATE:20260617
DTSTAMP:20260422T094542
CREATED:20260318T202918Z
LAST-MODIFIED:20260318T202918Z
UID:55626-1781568000-1781654399@www.myepl.org
SUMMARY:Appreciation Card Workshop
DESCRIPTION:Drop in anytime during open hours and use our available supplies to create a heartfelt card for a grown-up in your life.
URL:https://www.myepl.org/event/appreciation-card-workshop-2/2026-06-16/
LOCATION:Osolo Branch\, 3429 E. Bristol St.\, Elkhart\, IN\, 46516\, United States
CATEGORIES:Crafts,Preschool Programs,School Age Programs
END:VEVENT
BEGIN:VEVENT
DTSTART;TZID=America/Indiana/Indianapolis:20260616T093000
DTEND;TZID=America/Indiana/Indianapolis:20260616T101500
DTSTAMP:20260422T094542
CREATED:20240709T131622Z
LAST-MODIFIED:20240709T131622Z
UID:55062-1781602200-1781604900@www.myepl.org
SUMMARY:Storytime with Miss Janell
DESCRIPTION:Join Miss Janell and her puppets for an active Storytime of songs\, stories\, rhymes and creativity. Two 45-minute programs are offered for your convenience\, 9:30 and 11 a.m. 
URL:https://www.myepl.org/event/storytime-with-miss-janell-5/2026-06-16/
LOCATION:Osolo Branch\, 3429 E. Bristol St.\, Elkhart\, IN\, 46516\, United States
CATEGORIES:Storytimes
ATTACH;FMTTYPE=image/jpeg:https://www.myepl.org/wp-content/uploads/2022/10/Miss-Janell.jpg
END:VEVENT
BEGIN:VEVENT
DTSTART;TZID=America/Indiana/Indianapolis:20260616T110000
DTEND;TZID=America/Indiana/Indianapolis:20260616T114500
DTSTAMP:20260422T094542
CREATED:20240709T131747Z
LAST-MODIFIED:20260311T173245Z
UID:55018-1781607600-1781610300@www.myepl.org
SUMMARY:Storytime with Miss Janell
DESCRIPTION:Join Miss Janell and her puppets for an active Storytime of songs\, stories\, rhymes and creativity. Two 45-minute programs are offered for your convenience\, 9:30 and 11 a.m. 
URL:https://www.myepl.org/event/storytime-at-miss-janell/2026-06-16/
LOCATION:Osolo Branch\, 3429 E. Bristol St.\, Elkhart\, IN\, 46516\, United States
CATEGORIES:Storytimes
ATTACH;FMTTYPE=image/jpeg:https://www.myepl.org/wp-content/uploads/2022/10/Miss-Janell.jpg
END:VEVENT
BEGIN:VEVENT
DTSTART;VALUE=DATE:20260617
DTEND;VALUE=DATE:20260618
DTSTAMP:20260422T094542
CREATED:20260318T202918Z
LAST-MODIFIED:20260318T202918Z
UID:55627-1781654400-1781740799@www.myepl.org
SUMMARY:Appreciation Card Workshop
DESCRIPTION:Drop in anytime during open hours and use our available supplies to create a heartfelt card for a grown-up in your life.
URL:https://www.myepl.org/event/appreciation-card-workshop-2/2026-06-17/
LOCATION:Osolo Branch\, 3429 E. Bristol St.\, Elkhart\, IN\, 46516\, United States
CATEGORIES:Crafts,Preschool Programs,School Age Programs
END:VEVENT
BEGIN:VEVENT
DTSTART;TZID=America/Indiana/Indianapolis:20260617T103000
DTEND;TZID=America/Indiana/Indianapolis:20260617T113000
DTSTAMP:20260422T094542
CREATED:20260311T174301Z
LAST-MODIFIED:20260311T174301Z
UID:55077-1781692200-1781695800@www.myepl.org
SUMMARY:Ranger Quest
DESCRIPTION:Ranger Nhim from Elkhart City Parks will join us for an outdoor quest in Walker Park\, leaving from the branch. We finish with a story and a snack back at the Osolo Branch. \nRegistration for this program opens May 1.
URL:https://www.myepl.org/event/ranger-quest/
LOCATION:Osolo Branch\, 3429 E. Bristol St.\, Elkhart\, IN\, 46516\, United States
CATEGORIES:Educational,School Age Programs
END:VEVENT
BEGIN:VEVENT
DTSTART;VALUE=DATE:20260618
DTEND;VALUE=DATE:20260619
DTSTAMP:20260422T094542
CREATED:20260318T202918Z
LAST-MODIFIED:20260318T202918Z
UID:55628-1781740800-1781827199@www.myepl.org
SUMMARY:Appreciation Card Workshop
DESCRIPTION:Drop in anytime during open hours and use our available supplies to create a heartfelt card for a grown-up in your life.
URL:https://www.myepl.org/event/appreciation-card-workshop-2/2026-06-18/
LOCATION:Osolo Branch\, 3429 E. Bristol St.\, Elkhart\, IN\, 46516\, United States
CATEGORIES:Crafts,Preschool Programs,School Age Programs
END:VEVENT
BEGIN:VEVENT
DTSTART;TZID=America/Indiana/Indianapolis:20260618T170000
DTEND;TZID=America/Indiana/Indianapolis:20260618T183000
DTSTAMP:20260422T094542
CREATED:20260318T202107Z
LAST-MODIFIED:20260318T202107Z
UID:55615-1781802000-1781807400@www.myepl.org
SUMMARY:Throwback Theatre
DESCRIPTION:Join us for free popcorn and a showing of a classic family movie. \nMay 21 – “Beethoven” (PG\, 1:27)\nJune 18 – “A Goofy Movie” (G\, 1:18)\nJuly 16 – “Free Willy” (PG\, 1:52)
URL:https://www.myepl.org/event/throwback-theatre-2/2026-06-18/
LOCATION:Osolo Branch\, 3429 E. Bristol St.\, Elkhart\, IN\, 46516\, United States
CATEGORIES:Movies
END:VEVENT
BEGIN:VEVENT
DTSTART;VALUE=DATE:20260619
DTEND;VALUE=DATE:20260620
DTSTAMP:20260422T094542
CREATED:20260318T202918Z
LAST-MODIFIED:20260318T202918Z
UID:55629-1781827200-1781913599@www.myepl.org
SUMMARY:Appreciation Card Workshop
DESCRIPTION:Drop in anytime during open hours and use our available supplies to create a heartfelt card for a grown-up in your life.
URL:https://www.myepl.org/event/appreciation-card-workshop-2/2026-06-19/
LOCATION:Osolo Branch\, 3429 E. Bristol St.\, Elkhart\, IN\, 46516\, United States
CATEGORIES:Crafts,Preschool Programs,School Age Programs
END:VEVENT
BEGIN:VEVENT
DTSTART;TZID=America/Indiana/Indianapolis:20260619T140000
DTEND;TZID=America/Indiana/Indianapolis:20260619T154000
DTSTAMP:20260422T094542
CREATED:20260320T200604Z
LAST-MODIFIED:20260320T200604Z
UID:55763-1781877600-1781883600@www.myepl.org
SUMMARY:Mid-Day Matinee
DESCRIPTION:Join us for free popcorn and a movie. We’re watching “GOAT” (PG\, 1:40).
URL:https://www.myepl.org/event/mid-day-matinee-2/
LOCATION:Osolo Branch\, 3429 E. Bristol St.\, Elkhart\, IN\, 46516\, United States
CATEGORIES:Movies,Preschool Programs,School Age Programs,Teen Programs
END:VEVENT
BEGIN:VEVENT
DTSTART;TZID=America/Indiana/Indianapolis:20260619T163000
DTEND;TZID=America/Indiana/Indianapolis:20260619T173000
DTSTAMP:20260422T094542
CREATED:20260320T140747Z
LAST-MODIFIED:20260320T140747Z
UID:55678-1781886600-1781890200@www.myepl.org
SUMMARY:Friday Night Bingo
DESCRIPTION:Enjoy themed bingo for the whole family. Win snacks and prizes. \nMay 8 – Ocean creature bingo\nJune 19 – Playing card bingo\nJuly 10 – State trivia bingo
URL:https://www.myepl.org/event/friday-night-bingo-2/2026-06-19/
LOCATION:Osolo Branch\, 3429 E. Bristol St.\, Elkhart\, IN\, 46516\, United States
CATEGORIES:Adult Programs,Just for Fun,Preschool Programs,School Age Programs,Teen Programs
ATTACH;FMTTYPE=image/jpeg:https://www.myepl.org/wp-content/uploads/2025/12/Friday-Night-Bingo_Calendar.jpg
END:VEVENT
BEGIN:VEVENT
DTSTART;VALUE=DATE:20260620
DTEND;VALUE=DATE:20260621
DTSTAMP:20260422T094542
CREATED:20260318T202918Z
LAST-MODIFIED:20260318T202918Z
UID:55630-1781913600-1781999999@www.myepl.org
SUMMARY:Appreciation Card Workshop
DESCRIPTION:Drop in anytime during open hours and use our available supplies to create a heartfelt card for a grown-up in your life.
URL:https://www.myepl.org/event/appreciation-card-workshop-2/2026-06-20/
LOCATION:Osolo Branch\, 3429 E. Bristol St.\, Elkhart\, IN\, 46516\, United States
CATEGORIES:Crafts,Preschool Programs,School Age Programs
END:VEVENT
BEGIN:VEVENT
DTSTART;TZID=America/Indiana/Indianapolis:20260623T093000
DTEND;TZID=America/Indiana/Indianapolis:20260623T101500
DTSTAMP:20260422T094542
CREATED:20240709T131622Z
LAST-MODIFIED:20240709T131622Z
UID:55063-1782207000-1782209700@www.myepl.org
SUMMARY:Storytime with Miss Janell
DESCRIPTION:Join Miss Janell and her puppets for an active Storytime of songs\, stories\, rhymes and creativity. Two 45-minute programs are offered for your convenience\, 9:30 and 11 a.m. 
URL:https://www.myepl.org/event/storytime-with-miss-janell-5/2026-06-23/
LOCATION:Osolo Branch\, 3429 E. Bristol St.\, Elkhart\, IN\, 46516\, United States
CATEGORIES:Storytimes
ATTACH;FMTTYPE=image/jpeg:https://www.myepl.org/wp-content/uploads/2022/10/Miss-Janell.jpg
END:VEVENT
BEGIN:VEVENT
DTSTART;TZID=America/Indiana/Indianapolis:20260623T110000
DTEND;TZID=America/Indiana/Indianapolis:20260623T114500
DTSTAMP:20260422T094542
CREATED:20240709T131747Z
LAST-MODIFIED:20260311T173245Z
UID:55019-1782212400-1782215100@www.myepl.org
SUMMARY:Storytime with Miss Janell
DESCRIPTION:Join Miss Janell and her puppets for an active Storytime of songs\, stories\, rhymes and creativity. Two 45-minute programs are offered for your convenience\, 9:30 and 11 a.m. 
URL:https://www.myepl.org/event/storytime-at-miss-janell/2026-06-23/
LOCATION:Osolo Branch\, 3429 E. Bristol St.\, Elkhart\, IN\, 46516\, United States
CATEGORIES:Storytimes
ATTACH;FMTTYPE=image/jpeg:https://www.myepl.org/wp-content/uploads/2022/10/Miss-Janell.jpg
END:VEVENT
BEGIN:VEVENT
DTSTART;TZID=America/Indiana/Indianapolis:20260624T170000
DTEND;TZID=America/Indiana/Indianapolis:20260624T183000
DTSTAMP:20260422T094542
CREATED:20260320T203652Z
LAST-MODIFIED:20260320T203652Z
UID:55768-1782320400-1782325800@www.myepl.org
SUMMARY:Sit & Stitch
DESCRIPTION:Bring any needlework project to work on with other enthusiasts. Beginners welcome.
URL:https://www.myepl.org/event/sit-stitch-4/2026-06-24/
LOCATION:Osolo Branch\, 3429 E. Bristol St.\, Elkhart\, IN\, 46516\, United States
CATEGORIES:Adult Programs,Crafts
ATTACH;FMTTYPE=image/png:https://www.myepl.org/wp-content/uploads/2026/01/SitStitch_Calendar.png
END:VEVENT
BEGIN:VEVENT
DTSTART;VALUE=DATE:20260629
DTEND;VALUE=DATE:20260630
DTSTAMP:20260422T094542
CREATED:20260316T151852Z
LAST-MODIFIED:20260316T151852Z
UID:55339-1782691200-1782777599@www.myepl.org
SUMMARY:Children's Summer Craft
DESCRIPTION:Drop in during open hours from June 29 to July 3 and make a season craft with available supplies in the children’s room.
URL:https://www.myepl.org/event/childrens-summer-craft/2026-06-29/
LOCATION:Osolo Branch\, 3429 E. Bristol St.\, Elkhart\, IN\, 46516\, United States
CATEGORIES:Crafts,School Age Programs
END:VEVENT
BEGIN:VEVENT
DTSTART;VALUE=DATE:20260630
DTEND;VALUE=DATE:20260701
DTSTAMP:20260422T094542
CREATED:20260316T151852Z
LAST-MODIFIED:20260316T151852Z
UID:55340-1782777600-1782863999@www.myepl.org
SUMMARY:Children's Summer Craft
DESCRIPTION:Drop in during open hours from June 29 to July 3 and make a season craft with available supplies in the children’s room.
URL:https://www.myepl.org/event/childrens-summer-craft/2026-06-30/
LOCATION:Osolo Branch\, 3429 E. Bristol St.\, Elkhart\, IN\, 46516\, United States
CATEGORIES:Crafts,School Age Programs
END:VEVENT
BEGIN:VEVENT
DTSTART;TZID=America/Indiana/Indianapolis:20260630T093000
DTEND;TZID=America/Indiana/Indianapolis:20260630T101500
DTSTAMP:20260422T094542
CREATED:20240709T131622Z
LAST-MODIFIED:20240709T131622Z
UID:55064-1782811800-1782814500@www.myepl.org
SUMMARY:Storytime with Miss Janell
DESCRIPTION:Join Miss Janell and her puppets for an active Storytime of songs\, stories\, rhymes and creativity. Two 45-minute programs are offered for your convenience\, 9:30 and 11 a.m. 
URL:https://www.myepl.org/event/storytime-with-miss-janell-5/2026-06-30/
LOCATION:Osolo Branch\, 3429 E. Bristol St.\, Elkhart\, IN\, 46516\, United States
CATEGORIES:Storytimes
ATTACH;FMTTYPE=image/jpeg:https://www.myepl.org/wp-content/uploads/2022/10/Miss-Janell.jpg
END:VEVENT
BEGIN:VEVENT
DTSTART;TZID=America/Indiana/Indianapolis:20260630T110000
DTEND;TZID=America/Indiana/Indianapolis:20260630T114500
DTSTAMP:20260422T094542
CREATED:20240709T131747Z
LAST-MODIFIED:20260311T173245Z
UID:55020-1782817200-1782819900@www.myepl.org
SUMMARY:Storytime with Miss Janell
DESCRIPTION:Join Miss Janell and her puppets for an active Storytime of songs\, stories\, rhymes and creativity. Two 45-minute programs are offered for your convenience\, 9:30 and 11 a.m. 
URL:https://www.myepl.org/event/storytime-at-miss-janell/2026-06-30/
LOCATION:Osolo Branch\, 3429 E. Bristol St.\, Elkhart\, IN\, 46516\, United States
CATEGORIES:Storytimes
ATTACH;FMTTYPE=image/jpeg:https://www.myepl.org/wp-content/uploads/2022/10/Miss-Janell.jpg
END:VEVENT
BEGIN:VEVENT
DTSTART;TZID=America/Indiana/Indianapolis:20260630T163000
DTEND;TZID=America/Indiana/Indianapolis:20260630T173000
DTSTAMP:20260422T094542
CREATED:20260318T203555Z
LAST-MODIFIED:20260318T203555Z
UID:55632-1782837000-1782840600@www.myepl.org
SUMMARY:Teen Zine Workshop
DESCRIPTION:Explore your creativity and self-expression by designing a zine. We’ll have everything you need to express yourself with a mini publication to share. \nRegistration for this program opens May 1.
URL:https://www.myepl.org/event/teen-zine-workshop/
LOCATION:Osolo Branch\, 3429 E. Bristol St.\, Elkhart\, IN\, 46516\, United States
CATEGORIES:Crafts,Teen Programs
END:VEVENT
BEGIN:VEVENT
DTSTART;VALUE=DATE:20260701
DTEND;VALUE=DATE:20260702
DTSTAMP:20260422T094542
CREATED:20260316T151852Z
LAST-MODIFIED:20260316T151852Z
UID:55341-1782864000-1782950399@www.myepl.org
SUMMARY:Children's Summer Craft
DESCRIPTION:Drop in during open hours from June 29 to July 3 and make a season craft with available supplies in the children’s room.
URL:https://www.myepl.org/event/childrens-summer-craft/2026-07-01/
LOCATION:Osolo Branch\, 3429 E. Bristol St.\, Elkhart\, IN\, 46516\, United States
CATEGORIES:Crafts,School Age Programs
END:VEVENT
BEGIN:VEVENT
DTSTART;VALUE=DATE:20260702
DTEND;VALUE=DATE:20260703
DTSTAMP:20260422T094542
CREATED:20260316T151852Z
LAST-MODIFIED:20260316T151852Z
UID:55342-1782950400-1783036799@www.myepl.org
SUMMARY:Children's Summer Craft
DESCRIPTION:Drop in during open hours from June 29 to July 3 and make a season craft with available supplies in the children’s room.
URL:https://www.myepl.org/event/childrens-summer-craft/2026-07-02/
LOCATION:Osolo Branch\, 3429 E. Bristol St.\, Elkhart\, IN\, 46516\, United States
CATEGORIES:Crafts,School Age Programs
END:VEVENT
BEGIN:VEVENT
DTSTART;TZID=America/Indiana/Indianapolis:20260702T153000
DTEND;TZID=America/Indiana/Indianapolis:20260702T163000
DTSTAMP:20260422T094542
CREATED:20230315T150933Z
LAST-MODIFIED:20230315T150933Z
UID:55149-1783006200-1783009800@www.myepl.org
SUMMARY:Osolo LEGO Club
DESCRIPTION:Build with our LEGOs at Osolo. Come in and we’ll challenge you to build something and share it with the group.
URL:https://www.myepl.org/event/osolo-lego-club/2026-07-02/
LOCATION:Osolo Branch\, 3429 E. Bristol St.\, Elkhart\, IN\, 46516\, United States
CATEGORIES:Just for Fun
ATTACH;FMTTYPE=image/jpeg:https://www.myepl.org/wp-content/uploads/2023/03/LEGO-Challenge.jpg
END:VEVENT
BEGIN:VEVENT
DTSTART;VALUE=DATE:20260703
DTEND;VALUE=DATE:20260704
DTSTAMP:20260422T094542
CREATED:20260316T151852Z
LAST-MODIFIED:20260316T151852Z
UID:55343-1783036800-1783123199@www.myepl.org
SUMMARY:Children's Summer Craft
DESCRIPTION:Drop in during open hours from June 29 to July 3 and make a season craft with available supplies in the children’s room.
URL:https://www.myepl.org/event/childrens-summer-craft/2026-07-03/
LOCATION:Osolo Branch\, 3429 E. Bristol St.\, Elkhart\, IN\, 46516\, United States
CATEGORIES:Crafts,School Age Programs
END:VEVENT
BEGIN:VEVENT
DTSTART;TZID=America/Indiana/Indianapolis:20260706T140000
DTEND;TZID=America/Indiana/Indianapolis:20260706T160000
DTSTAMP:20260422T094542
CREATED:20260320T200733Z
LAST-MODIFIED:20260320T200733Z
UID:55765-1783346400-1783353600@www.myepl.org
SUMMARY:Mid-Day Matinee
DESCRIPTION:Join us for free popcorn and a movie in the afternoon. We’re watching “Hoppers” (PG\, 1:44).
URL:https://www.myepl.org/event/mid-day-matinee-3/
LOCATION:Osolo Branch\, 3429 E. Bristol St.\, Elkhart\, IN\, 46516\, United States
CATEGORIES:Movies,Preschool Programs,School Age Programs,Teen Programs
END:VEVENT
BEGIN:VEVENT
DTSTART;TZID=America/Indiana/Indianapolis:20260707T093000
DTEND;TZID=America/Indiana/Indianapolis:20260707T101500
DTSTAMP:20260422T094542
CREATED:20240709T131622Z
LAST-MODIFIED:20240709T131622Z
UID:55065-1783416600-1783419300@www.myepl.org
SUMMARY:Storytime with Miss Janell
DESCRIPTION:Join Miss Janell and her puppets for an active Storytime of songs\, stories\, rhymes and creativity. Two 45-minute programs are offered for your convenience\, 9:30 and 11 a.m. 
URL:https://www.myepl.org/event/storytime-with-miss-janell-5/2026-07-07/
LOCATION:Osolo Branch\, 3429 E. Bristol St.\, Elkhart\, IN\, 46516\, United States
CATEGORIES:Storytimes
ATTACH;FMTTYPE=image/jpeg:https://www.myepl.org/wp-content/uploads/2022/10/Miss-Janell.jpg
END:VEVENT
BEGIN:VEVENT
DTSTART;TZID=America/Indiana/Indianapolis:20260707T110000
DTEND;TZID=America/Indiana/Indianapolis:20260707T114500
DTSTAMP:20260422T094542
CREATED:20240709T131747Z
LAST-MODIFIED:20260311T173245Z
UID:55021-1783422000-1783424700@www.myepl.org
SUMMARY:Storytime with Miss Janell
DESCRIPTION:Join Miss Janell and her puppets for an active Storytime of songs\, stories\, rhymes and creativity. Two 45-minute programs are offered for your convenience\, 9:30 and 11 a.m. 
URL:https://www.myepl.org/event/storytime-at-miss-janell/2026-07-07/
LOCATION:Osolo Branch\, 3429 E. Bristol St.\, Elkhart\, IN\, 46516\, United States
CATEGORIES:Storytimes
ATTACH;FMTTYPE=image/jpeg:https://www.myepl.org/wp-content/uploads/2022/10/Miss-Janell.jpg
END:VEVENT
BEGIN:VEVENT
DTSTART;TZID=America/Indiana/Indianapolis:20260708T170000
DTEND;TZID=America/Indiana/Indianapolis:20260708T183000
DTSTAMP:20260422T094542
CREATED:20260312T131636Z
LAST-MODIFIED:20260318T135654Z
UID:55158-1783530000-1783535400@www.myepl.org
SUMMARY:Chapter Chasers
DESCRIPTION:Grab a copy of the book to read before we meet. Then\, discuss it with other readers and enjoy activities and socializing. Geared for kids ages 9 and up. \nMay 13 – “The Wild Robot” by Peter Brown\nJune 10 – “Front Desk” by Kelly Yang\nJuly 8 – “Number the Stars” by Lois Lowry 
URL:https://www.myepl.org/event/chapter-chasers/2026-07-08/
LOCATION:Osolo Branch\, 3429 E. Bristol St.\, Elkhart\, IN\, 46516\, United States
CATEGORIES:Book Discussion,Teen Programs
END:VEVENT
BEGIN:VEVENT
DTSTART;TZID=America/Indiana/Indianapolis:20260709T100000
DTEND;TZID=America/Indiana/Indianapolis:20260709T110000
DTSTAMP:20260422T094542
CREATED:20260312T155901Z
LAST-MODIFIED:20260312T155901Z
UID:55164-1783591200-1783594800@www.myepl.org
SUMMARY:Worms! Worms! Worms!
DESCRIPTION:Learn all about how important these squirmy creatures are to our planet. Hear stories\, examine live worms and create a model in an earth habitat. \nRegistration for this program starts June 1.
URL:https://www.myepl.org/event/worms-worms-worms/
LOCATION:Osolo Branch\, 3429 E. Bristol St.\, Elkhart\, IN\, 46516\, United States
CATEGORIES:Educational,Just for Fun
END:VEVENT
END:VCALENDAR