BEGIN:VCALENDAR
VERSION:2.0
PRODID:-//Elkhart Public Library - ECPv6.15.20//NONSGML v1.0//EN
CALSCALE:GREGORIAN
METHOD:PUBLISH
X-ORIGINAL-URL:https://www.myepl.org
X-WR-CALDESC:Events for Elkhart Public Library
REFRESH-INTERVAL;VALUE=DURATION:PT1H
X-Robots-Tag:noindex
X-PUBLISHED-TTL:PT1H
BEGIN:VTIMEZONE
TZID:America/Indiana/Indianapolis
BEGIN:DAYLIGHT
TZOFFSETFROM:-0500
TZOFFSETTO:-0400
TZNAME:EDT
DTSTART:20230312T070000
END:DAYLIGHT
BEGIN:STANDARD
TZOFFSETFROM:-0400
TZOFFSETTO:-0500
TZNAME:EST
DTSTART:20231105T060000
END:STANDARD
BEGIN:DAYLIGHT
TZOFFSETFROM:-0500
TZOFFSETTO:-0400
TZNAME:EDT
DTSTART:20240310T070000
END:DAYLIGHT
BEGIN:STANDARD
TZOFFSETFROM:-0400
TZOFFSETTO:-0500
TZNAME:EST
DTSTART:20241103T060000
END:STANDARD
BEGIN:DAYLIGHT
TZOFFSETFROM:-0500
TZOFFSETTO:-0400
TZNAME:EDT
DTSTART:20250309T070000
END:DAYLIGHT
BEGIN:STANDARD
TZOFFSETFROM:-0400
TZOFFSETTO:-0500
TZNAME:EST
DTSTART:20251102T060000
END:STANDARD
END:VTIMEZONE
BEGIN:VEVENT
DTSTART;TZID=America/Indiana/Indianapolis:20240105T130000
DTEND;TZID=America/Indiana/Indianapolis:20240105T143000
DTSTAMP:20260421T164941
CREATED:20230928T133014Z
LAST-MODIFIED:20231207T181741Z
UID:40009-1704459600-1704465000@www.myepl.org
SUMMARY:Books and Boots
DESCRIPTION:Miss Debbie and a naturalist from Elkhart County Parks host a book discussion aimed at children ages 8-12\, but the whole family is welcome. This time we’re discussing “The Wild Robot Protects.” The discussion will be followed by an activity led by the naturalist. We might even sled. In case of inclement weather\, meet at Dunlap Branch.
URL:https://www.myepl.org/event/books-and-boots-4/
LOCATION:Ox Bow County Park\, 23427 C.R. 45\, Goshen\, IN\, 46528\, United States
CATEGORIES:Book Discussion
ATTACH;FMTTYPE=image/png:https://www.myepl.org/wp-content/uploads/2022/02/Calender-Books-and-Boots.png
END:VEVENT
END:VCALENDAR