BEGIN:VCALENDAR
VERSION:2.0
PRODID:-//Elkhart Public Library - ECPv6.15.20//NONSGML v1.0//EN
CALSCALE:GREGORIAN
METHOD:PUBLISH
X-WR-CALNAME:Elkhart Public Library
X-ORIGINAL-URL:https://www.myepl.org
X-WR-CALDESC:Events for Elkhart Public Library
REFRESH-INTERVAL;VALUE=DURATION:PT1H
X-Robots-Tag:noindex
X-PUBLISHED-TTL:PT1H
BEGIN:VTIMEZONE
TZID:America/Indiana/Indianapolis
BEGIN:DAYLIGHT
TZOFFSETFROM:-0500
TZOFFSETTO:-0400
TZNAME:EDT
DTSTART:20220313T070000
END:DAYLIGHT
BEGIN:STANDARD
TZOFFSETFROM:-0400
TZOFFSETTO:-0500
TZNAME:EST
DTSTART:20221106T060000
END:STANDARD
BEGIN:DAYLIGHT
TZOFFSETFROM:-0500
TZOFFSETTO:-0400
TZNAME:EDT
DTSTART:20230312T070000
END:DAYLIGHT
BEGIN:STANDARD
TZOFFSETFROM:-0400
TZOFFSETTO:-0500
TZNAME:EST
DTSTART:20231105T060000
END:STANDARD
BEGIN:DAYLIGHT
TZOFFSETFROM:-0500
TZOFFSETTO:-0400
TZNAME:EDT
DTSTART:20240310T070000
END:DAYLIGHT
BEGIN:STANDARD
TZOFFSETFROM:-0400
TZOFFSETTO:-0500
TZNAME:EST
DTSTART:20241103T060000
END:STANDARD
BEGIN:DAYLIGHT
TZOFFSETFROM:-0500
TZOFFSETTO:-0400
TZNAME:EDT
DTSTART:20250309T070000
END:DAYLIGHT
BEGIN:STANDARD
TZOFFSETFROM:-0400
TZOFFSETTO:-0500
TZNAME:EST
DTSTART:20251102T060000
END:STANDARD
END:VTIMEZONE
BEGIN:VEVENT
DTSTART;TZID=America/Indiana/Indianapolis:20240503T153000
DTEND;TZID=America/Indiana/Indianapolis:20240503T173000
DTSTAMP:20260421T142455
CREATED:20240108T212202Z
LAST-MODIFIED:20240423T130429Z
UID:41759-1714750200-1714757400@www.myepl.org
SUMMARY:Celebrate El Día de los Niños
DESCRIPTION:El Día de los Niños is a holiday celebration for children with games\, prizes\, free books\, snacks and more.
URL:https://www.myepl.org/event/celebrate-el-dia-de-los-ninos/
LOCATION:Pierre Moran Branch\, 2400 Benham Ave\, Elkhart\, IN\, 46517\, United States
CATEGORIES:Just for Fun
ATTACH;FMTTYPE=image/jpeg:https://www.myepl.org/wp-content/uploads/2024/01/Dia-de-los-ninos-22-scaled.jpg
END:VEVENT
BEGIN:VEVENT
DTSTART;TZID=America/Indiana/Indianapolis:20240313T160000
DTEND;TZID=America/Indiana/Indianapolis:20240313T170000
DTSTAMP:20260421T142455
CREATED:20240110T153342Z
LAST-MODIFIED:20240223T132923Z
UID:41848-1710345600-1710349200@www.myepl.org
SUMMARY:Peeps Science
DESCRIPTION:Experiment with everyone’s favorite marshmallow treat! Get hands-on and see what happens when a Peep is frozen\, find out if they float and more.
URL:https://www.myepl.org/event/peeps-science/
LOCATION:Pierre Moran Branch\, 2400 Benham Ave\, Elkhart\, IN\, 46517\, United States
CATEGORIES:Educational,Just for Fun
ATTACH;FMTTYPE=image/png:https://www.myepl.org/wp-content/uploads/2024/01/Peeps-Science_calendar.png
END:VEVENT
BEGIN:VEVENT
DTSTART;TZID=America/Indiana/Indianapolis:20240301T090000
DTEND;TZID=America/Indiana/Indianapolis:20240301T190000
DTSTAMP:20260421T142455
CREATED:20240108T205717Z
LAST-MODIFIED:20240223T144854Z
UID:41743-1709283600-1709319600@www.myepl.org
SUMMARY:Spring Bunny Scavenger Hunt
DESCRIPTION:March 1 through 29\, come by the Pierre Moran Branch and find all the bunny characters to win a prize. Then create a bunny in disguise for us to display.
URL:https://www.myepl.org/event/spring-bunny-scavenger-hunt/
LOCATION:Pierre Moran Branch\, 2400 Benham Ave\, Elkhart\, IN\, 46517\, United States
CATEGORIES:Just for Fun
ATTACH;FMTTYPE=image/png:https://www.myepl.org/wp-content/uploads/2024/01/SpringBunnyScavengerHunt-PM.png
END:VEVENT
BEGIN:VEVENT
DTSTART;TZID=America/Indiana/Indianapolis:20240214T153000
DTEND;TZID=America/Indiana/Indianapolis:20240214T173000
DTSTAMP:20260421T142455
CREATED:20240108T210123Z
LAST-MODIFIED:20240209T170009Z
UID:41747-1707924600-1707931800@www.myepl.org
SUMMARY:Valentine's Day STEM Challenges
DESCRIPTION:Come in anytime between 3:30 and 5:30 p.m. and try these Valentine’s Day activities. Build a heart launcher\, make a heart cup tower or a marshmallow structure.
URL:https://www.myepl.org/event/valentines-day-stem-challenges/
LOCATION:Pierre Moran Branch\, 2400 Benham Ave\, Elkhart\, IN\, 46517\, United States
CATEGORIES:Just for Fun
END:VEVENT
BEGIN:VEVENT
DTSTART;TZID=America/Indiana/Indianapolis:20240208T153000
DTEND;TZID=America/Indiana/Indianapolis:20240208T163000
DTSTAMP:20260421T142455
CREATED:20240108T205857Z
LAST-MODIFIED:20240130T214709Z
UID:41745-1707406200-1707409800@www.myepl.org
SUMMARY:Lunar New Year Storytime
DESCRIPTION:Ring in the Year of the Dragon with a story\, activities and a snack. Make a dragon while supplies last.
URL:https://www.myepl.org/event/lunar-new-year-storytime/
LOCATION:Pierre Moran Branch\, 2400 Benham Ave\, Elkhart\, IN\, 46517\, United States
CATEGORIES:Storytimes
ATTACH;FMTTYPE=image/png:https://www.myepl.org/wp-content/uploads/2024/01/LunarNewYearStorytime_cal.png
END:VEVENT
BEGIN:VEVENT
DTSTART;TZID=America/Indiana/Indianapolis:20240201T090000
DTEND;TZID=America/Indiana/Indianapolis:20240201T190000
DTSTAMP:20260421T142455
CREATED:20240108T211942Z
LAST-MODIFIED:20240125T142115Z
UID:41757-1706778000-1706814000@www.myepl.org
SUMMARY:DIY Valentine's Day Cards
DESCRIPTION:Make a card for your Valentine or just for fun! Feb. 1 through 14 supplies are available during open hours.
URL:https://www.myepl.org/event/diy-valentines-day-cards/
LOCATION:Pierre Moran Branch\, 2400 Benham Ave\, Elkhart\, IN\, 46517\, United States
CATEGORIES:Art,Crafts
ATTACH;FMTTYPE=image/png:https://www.myepl.org/wp-content/uploads/2024/01/Valentines-Day-Cards_calendar.png
END:VEVENT
BEGIN:VEVENT
DTSTART;TZID=America/Indiana/Indianapolis:20240106T100000
DTEND;TZID=America/Indiana/Indianapolis:20240106T140000
DTSTAMP:20260421T142455
CREATED:20231221T190747Z
LAST-MODIFIED:20231221T190949Z
UID:41474-1704535200-1704549600@www.myepl.org
SUMMARY:Taller de Finanzas
DESCRIPTION:Aprende a gestionar las finanzas\, estableecer y alcanzar objetivos financieros para la familia moderna a través de un taller gratuito de Yngry Finances.
URL:https://www.myepl.org/event/taller-de-finanzas-2/
LOCATION:Pierre Moran Branch\, 2400 Benham Ave\, Elkhart\, IN\, 46517\, United States
CATEGORIES:Educational
ATTACH;FMTTYPE=image/png:https://www.myepl.org/wp-content/uploads/2023/10/Taller-de-Finanzas_calendar.png
END:VEVENT
BEGIN:VEVENT
DTSTART;TZID=America/Indiana/Indianapolis:20231215T090000
DTEND;TZID=America/Indiana/Indianapolis:20231215T190000
DTSTAMP:20260421T142455
CREATED:20231025T204252Z
LAST-MODIFIED:20231202T203050Z
UID:40515-1702630800-1702666800@www.myepl.org
SUMMARY:Holiday Card Drive for Seniors
DESCRIPTION:We want your help to make our community’s senior care centers holidays extra special. Create a card at Pierre Moran anytime from Nov. 13 to Dec. 15 or drop one off at the branch. We will deliver them to our community’s seniors to make their holidays cheerier!
URL:https://www.myepl.org/event/holiday-card-drive-for-seniors/
LOCATION:Pierre Moran Branch\, 2400 Benham Ave\, Elkhart\, IN\, 46517\, United States
CATEGORIES:Crafts
ATTACH;FMTTYPE=image/png:https://www.myepl.org/wp-content/uploads/2022/10/Calendar-Card-Stamping-01.png
END:VEVENT
BEGIN:VEVENT
DTSTART;TZID=America/Indiana/Indianapolis:20231116T163000
DTEND;TZID=America/Indiana/Indianapolis:20231116T180000
DTSTAMP:20260421T142455
CREATED:20230928T164943Z
LAST-MODIFIED:20230928T164944Z
UID:40026-1700152200-1700157600@www.myepl.org
SUMMARY:Noche de Lotería
DESCRIPTION:La Sirena! La Luna! El Tambor! Come play lotería\, win prizes and munch on snacks.
URL:https://www.myepl.org/event/noche-de-loteria-4/2023-11-16/
LOCATION:Pierre Moran Branch\, 2400 Benham Ave\, Elkhart\, IN\, 46517\, United States
CATEGORIES:Just for Fun
ATTACH;FMTTYPE=image/png:https://www.myepl.org/wp-content/uploads/2023/01/Nocha-De-Loteria-Calendar.png
END:VEVENT
BEGIN:VEVENT
DTSTART;TZID=America/Indiana/Indianapolis:20231102T163000
DTEND;TZID=America/Indiana/Indianapolis:20231102T173000
DTSTAMP:20260421T142455
CREATED:20230928T162150Z
LAST-MODIFIED:20231027T150550Z
UID:40024-1698942600-1698946200@www.myepl.org
SUMMARY:Sugar Skull Decorating
DESCRIPTION:Celebrate Día de los Muertos while decorating your own sugar skull.
URL:https://www.myepl.org/event/sugar-skull-decorating/
LOCATION:Pierre Moran Branch\, 2400 Benham Ave\, Elkhart\, IN\, 46517\, United States
CATEGORIES:Art,Crafts
ATTACH;FMTTYPE=image/png:https://www.myepl.org/wp-content/uploads/2023/09/SugarSkullDecorating_PierreMoran_calendar.png
END:VEVENT
BEGIN:VEVENT
DTSTART;TZID=America/Indiana/Indianapolis:20231024T180000
DTEND;TZID=America/Indiana/Indianapolis:20231024T190000
DTSTAMP:20260421T142455
CREATED:20231010T140704Z
LAST-MODIFIED:20231016T125021Z
UID:40369-1698170400-1698174000@www.myepl.org
SUMMARY:Community Discussion: Library Strategic Plan
DESCRIPTION:Your ideas help Elkhart Public Library get better. Tell us how we’re doing and what we need to do to better serve the community. \nThese open\, one-hour discussions are all about you. Information discussed will be considered as part of EPL’s strategic planning process. \nMonday\, Oct. 23\, 2023\n• Dunlap – 10 a.m.\n• Pierre Moran – Noon\n• Osolo – 2:30 p.m.\n• Downtown – 6 p.m. \nTuesday\, Oct. 24\, 2023• Cleveland – 11:30 a.m.• Pierre Moran – 6 p.m.
URL:https://www.myepl.org/event/community-discussion-library-strategic-plan-6/
LOCATION:Pierre Moran Branch\, 2400 Benham Ave\, Elkhart\, IN\, 46517\, United States
CATEGORIES:Educational,Featured
ATTACH;FMTTYPE=image/png:https://www.myepl.org/wp-content/uploads/2023/10/Slider-Calendar.png
END:VEVENT
BEGIN:VEVENT
DTSTART;TZID=America/Indiana/Indianapolis:20231023T120000
DTEND;TZID=America/Indiana/Indianapolis:20231023T130000
DTSTAMP:20260421T142455
CREATED:20231010T140241Z
LAST-MODIFIED:20231016T125159Z
UID:40361-1698062400-1698066000@www.myepl.org
SUMMARY:Community Discussion: Library Strategic Plan
DESCRIPTION:Your ideas help Elkhart Public Library get better. Tell us how we’re doing and what we need to do to better serve the community. \nThese open\, one-hour discussions are all about you. Information discussed will be considered as part of EPL’s strategic planning process. \nMonday\, Oct. 23\, 2023\n• Dunlap – 10 a.m.\n• Pierre Moran – Noon\n• Osolo – 2:30 p.m.\n• Downtown – 6 p.m. \nTuesday\, Oct. 24\, 2023• Cleveland – 11:30 a.m.• Pierre Moran – 6 p.m.
URL:https://www.myepl.org/event/community-discussion-library-strategic-plan-2/
LOCATION:Pierre Moran Branch\, 2400 Benham Ave\, Elkhart\, IN\, 46517\, United States
CATEGORIES:Educational
ATTACH;FMTTYPE=image/png:https://www.myepl.org/wp-content/uploads/2023/10/Slider-Calendar.png
END:VEVENT
BEGIN:VEVENT
DTSTART;TZID=America/Indiana/Indianapolis:20231019T160000
DTEND;TZID=America/Indiana/Indianapolis:20231019T183000
DTSTAMP:20260421T142455
CREATED:20230707T163410Z
LAST-MODIFIED:20231010T132004Z
UID:37545-1697731200-1697740200@www.myepl.org
SUMMARY:Halloween Party at Pierre Moran
DESCRIPTION:Families are invited to come in costume for face painting\, games\, snacks\, stories and trick-or-treating around the library.
URL:https://www.myepl.org/event/halloween-party-at-pierre-moran/
LOCATION:Pierre Moran Branch\, 2400 Benham Ave\, Elkhart\, IN\, 46517\, United States
CATEGORIES:Just for Fun
ATTACH;FMTTYPE=image/jpeg:https://www.myepl.org/wp-content/uploads/2023/07/Halloween-Party-22-scaled.jpg
END:VEVENT
BEGIN:VEVENT
DTSTART;TZID=America/Indiana/Indianapolis:20231018T160000
DTEND;TZID=America/Indiana/Indianapolis:20231018T180000
DTSTAMP:20260421T142455
CREATED:20230707T162156Z
LAST-MODIFIED:20231002T200124Z
UID:37543-1697644800-1697652000@www.myepl.org
SUMMARY:Mini Pumpkin Decorating
DESCRIPTION:Mini pumpkins and all the decorating supplies will be available while they last.
URL:https://www.myepl.org/event/mini-pumpkin-decorating/
LOCATION:Pierre Moran Branch\, 2400 Benham Ave\, Elkhart\, IN\, 46517\, United States
CATEGORIES:Crafts
ATTACH;FMTTYPE=image/png:https://www.myepl.org/wp-content/uploads/2023/07/Mini-Pumpkin-Decorating-Calendar.png
END:VEVENT
BEGIN:VEVENT
DTSTART;TZID=America/Indiana/Indianapolis:20231016T090000
DTEND;TZID=America/Indiana/Indianapolis:20231016T180000
DTSTAMP:20260421T142455
CREATED:20230707T161531Z
LAST-MODIFIED:20231004T144223Z
UID:37541-1697446800-1697479200@www.myepl.org
SUMMARY:Halloween Crafts Grab and Go Kits
DESCRIPTION:Create fun Halloween crafts while supplies last.
URL:https://www.myepl.org/event/halloween-crafts-grab-and-go-kits/
LOCATION:Pierre Moran Branch\, 2400 Benham Ave\, Elkhart\, IN\, 46517\, United States
CATEGORIES:Crafts
ATTACH;FMTTYPE=image/jpeg:https://www.myepl.org/wp-content/uploads/2023/10/Halloween-Party-19-scaled.jpg
END:VEVENT
BEGIN:VEVENT
DTSTART;TZID=America/Indiana/Indianapolis:20230921T163000
DTEND;TZID=America/Indiana/Indianapolis:20230921T180000
DTSTAMP:20260421T142455
CREATED:20230707T170049Z
LAST-MODIFIED:20231023T145721Z
UID:37552-1695313800-1695319200@www.myepl.org
SUMMARY:Noche de Lotería
DESCRIPTION:Play Lotería\, win prizes and enjoy snacks.
URL:https://www.myepl.org/event/noche-de-loteria-3/
LOCATION:Pierre Moran Branch\, 2400 Benham Ave\, Elkhart\, IN\, 46517\, United States
CATEGORIES:Just for Fun
ATTACH;FMTTYPE=image/png:https://www.myepl.org/wp-content/uploads/2023/01/Nocha-De-Loteria-Calendar.png
END:VEVENT
BEGIN:VEVENT
DTSTART;TZID=America/Indiana/Indianapolis:20230914T163000
DTEND;TZID=America/Indiana/Indianapolis:20230914T173000
DTSTAMP:20260421T142455
CREATED:20230707T164746Z
LAST-MODIFIED:20240109T161318Z
UID:37548-1694709000-1694712600@www.myepl.org
SUMMARY:Bilingual Storytime/Hora de Cuentos Bilingües
DESCRIPTION:Hear stories in English and Spanish while learning Spanish words and phrases. A hands-on activity will follow stories. \nÚnase al personal de biblioteca para disfrutar de las horas de cuentos bilingües para niños. Compartiremos libros\, cantaremos canciones y aprenderemos algunas palabras y frases en español. Nuestra hora del cuento terminará con un actividad manual.
URL:https://www.myepl.org/event/bilingual-storytime-hora-de-cuentos-bilingues/2023-09-14/
LOCATION:Pierre Moran Branch\, 2400 Benham Ave\, Elkhart\, IN\, 46517\, United States
CATEGORIES:Storytimes
ATTACH;FMTTYPE=image/jpeg:https://www.myepl.org/wp-content/uploads/2023/04/Cleveland-Storytime-03-scaled.jpg
END:VEVENT
BEGIN:VEVENT
DTSTART;TZID=America/Indiana/Indianapolis:20230905T140000
DTEND;TZID=America/Indiana/Indianapolis:20230905T183000
DTSTAMP:20260421T142455
CREATED:20230707T160938Z
LAST-MODIFIED:20230707T160955Z
UID:37534-1693922400-1693938600@www.myepl.org
SUMMARY:D&D at PMB
DESCRIPTION:Whether you’re wanting to learn to play Dungeons and Dragons or are already experienced\, embark on our epic 8-week campaign.  \nRegistration for this series opens Aug. 1. Registration is for all event dates.
URL:https://www.myepl.org/event/dd-at-pmb-3/
LOCATION:Pierre Moran Branch\, 2400 Benham Ave\, Elkhart\, IN\, 46517\, United States
CATEGORIES:Just for Fun
ATTACH;FMTTYPE=image/png:https://www.myepl.org/wp-content/uploads/2023/04/DD-at-PMB-Calendar.png
END:VEVENT
BEGIN:VEVENT
DTSTART;TZID=America/Indiana/Indianapolis:20230622T163000
DTEND;TZID=America/Indiana/Indianapolis:20230622T180000
DTSTAMP:20260421T142455
CREATED:20230403T210409Z
LAST-MODIFIED:20230426T172605Z
UID:36054-1687451400-1687456800@www.myepl.org
SUMMARY:Noche de Lotería
DESCRIPTION:La Sirena! La Luna! El Tambor! Come play Lotería\, win prizes and munch on snacks.
URL:https://www.myepl.org/event/noche-de-loteria-2-2023-06-22/2023-06-22/
LOCATION:Pierre Moran Branch\, 2400 Benham Ave\, Elkhart\, IN\, 46517\, United States
CATEGORIES:Just for Fun
ATTACH;FMTTYPE=image/png:https://www.myepl.org/wp-content/uploads/2023/01/Nocha-De-Loteria-Calendar.png
END:VEVENT
BEGIN:VEVENT
DTSTART;TZID=America/Indiana/Indianapolis:20230602T203000
DTEND;TZID=America/Indiana/Indianapolis:20230602T223000
DTSTAMP:20260421T142455
CREATED:20230404T162818Z
LAST-MODIFIED:20230523T181901Z
UID:36146-1685737800-1685745000@www.myepl.org
SUMMARY:Movies Under the Stars
DESCRIPTION:Bring a blanket or chair and join us for a movie under the stars. Check our Facebook page to see what’s playing.
URL:https://www.myepl.org/event/movies-under-the-stars/2023-06-02/
LOCATION:Pierre Moran Branch\, 2400 Benham Ave\, Elkhart\, IN\, 46517\, United States
CATEGORIES:Movies
ATTACH;FMTTYPE=image/png:https://www.myepl.org/wp-content/uploads/2023/04/Movies-Under-the-Stars-Calendar.png
END:VEVENT
BEGIN:VEVENT
DTSTART;TZID=America/Indiana/Indianapolis:20230602T140000
DTEND;TZID=America/Indiana/Indianapolis:20230602T173000
DTSTAMP:20260421T142455
CREATED:20230403T205855Z
LAST-MODIFIED:20230518T154707Z
UID:36043-1685714400-1685727000@www.myepl.org
SUMMARY:D&D at PMB
DESCRIPTION:Learn to play Dungeons and Dragons or bring your dice and join a new seven-week campaign.
URL:https://www.myepl.org/event/dd-at-pmb-2/2023-06-02/
LOCATION:Pierre Moran Branch\, 2400 Benham Ave\, Elkhart\, IN\, 46517\, United States
CATEGORIES:Just for Fun
ATTACH;FMTTYPE=image/png:https://www.myepl.org/wp-content/uploads/2023/04/DD-at-PMB-Calendar.png
END:VEVENT
BEGIN:VEVENT
DTSTART;TZID=America/Indiana/Indianapolis:20230517T140000
DTEND;TZID=America/Indiana/Indianapolis:20230517T160000
DTSTAMP:20260421T142455
CREATED:20230403T204058Z
LAST-MODIFIED:20230411T175706Z
UID:36025-1684332000-1684339200@www.myepl.org
SUMMARY:FAFSA Registration
DESCRIPTION:Signing up for FASFA can be intimidating but IUSB’s Financial Aid Office is here to make it easier. Bring your laptop or borrow one of ours.
URL:https://www.myepl.org/event/fafsa-registration/
LOCATION:Pierre Moran Branch\, 2400 Benham Ave\, Elkhart\, IN\, 46517\, United States
CATEGORIES:Educational
ATTACH;FMTTYPE=image/png:https://www.myepl.org/wp-content/uploads/2023/04/FAFSA-Registration-Calendar.png
END:VEVENT
BEGIN:VEVENT
DTSTART;TZID=America/Indiana/Indianapolis:20230511T163000
DTEND;TZID=America/Indiana/Indianapolis:20230511T180000
DTSTAMP:20260421T142455
CREATED:20230403T210409Z
LAST-MODIFIED:20230426T172614Z
UID:36052-1683822600-1683828000@www.myepl.org
SUMMARY:Noche de Lotería
DESCRIPTION:La Sirena! La Luna! El Tambor! Come play Lotería\, win prizes and munch on snacks. \nDisfruta de un tentempié y de la Lotería con otras familias de 4:30pm a 6:00pm el jueves 11 de Mayo en Pierre Moran.
URL:https://www.myepl.org/event/noche-de-loteria-2/
LOCATION:Pierre Moran Branch\, 2400 Benham Ave\, Elkhart\, IN\, 46517\, United States
CATEGORIES:Just for Fun
ATTACH;FMTTYPE=image/png:https://www.myepl.org/wp-content/uploads/2023/01/Nocha-De-Loteria-Calendar.png
END:VEVENT
BEGIN:VEVENT
DTSTART;TZID=America/Indiana/Indianapolis:20230502T170000
DTEND;TZID=America/Indiana/Indianapolis:20230502T174500
DTSTAMP:20260421T142455
CREATED:20230403T210957Z
LAST-MODIFIED:20230601T175332Z
UID:36056-1683046800-1683049500@www.myepl.org
SUMMARY:Storytime at Pierre Moran
DESCRIPTION:Enjoy stories\, songs and more during this interactive Storytime that is sure to get kids moving.
URL:https://www.myepl.org/event/storytime-with-miss-brena-hora-de-leer-cuentos-con-miss-brena/2023-05-02/
LOCATION:Pierre Moran Branch\, 2400 Benham Ave\, Elkhart\, IN\, 46517\, United States
CATEGORIES:Storytimes
ATTACH;FMTTYPE=image/jpeg:https://www.myepl.org/wp-content/uploads/2023/04/Storytime-PMB.jpg
END:VEVENT
BEGIN:VEVENT
DTSTART;TZID=America/Indiana/Indianapolis:20230427T170000
DTEND;TZID=America/Indiana/Indianapolis:20230427T190000
DTSTAMP:20260421T142455
CREATED:20230109T171140Z
LAST-MODIFIED:20230414T125622Z
UID:34766-1682614800-1682622000@www.myepl.org
SUMMARY:Dia del Niño
DESCRIPTION:¡Celebra el Día del Niño con juegos\, premios\, pintacaras\, piñatas y mucho más en la Sucursal Pierre Moran! \nCelebrating the Mexican holiday Dia del Niño with face painting\, lotería\, free books\, games and more.
URL:https://www.myepl.org/event/dia-del-nino/
LOCATION:Pierre Moran Branch\, 2400 Benham Ave\, Elkhart\, IN\, 46517\, United States
CATEGORIES:Just for Fun
ATTACH;FMTTYPE=image/png:https://www.myepl.org/wp-content/uploads/2023/01/Dia-del-Niño-_-Calendar.png
END:VEVENT
BEGIN:VEVENT
DTSTART;TZID=America/Indiana/Indianapolis:20230223T170000
DTEND;TZID=America/Indiana/Indianapolis:20230223T180000
DTSTAMP:20260421T142455
CREATED:20230109T165936Z
LAST-MODIFIED:20230215T180831Z
UID:34748-1677171600-1677175200@www.myepl.org
SUMMARY:Noche de Lotería
DESCRIPTION:“La Sirena! La Chalupa! El Tambor! Enjoy a cozy night in our new lounge while we play Lotería (BINGO and other games) and eat pizza.
URL:https://www.myepl.org/event/noche-de-loteria/
LOCATION:Pierre Moran Branch\, 2400 Benham Ave\, Elkhart\, IN\, 46517\, United States
CATEGORIES:Just for Fun
ATTACH;FMTTYPE=image/png:https://www.myepl.org/wp-content/uploads/2023/01/Nocha-De-Loteria-Calendar.png
END:VEVENT
END:VCALENDAR