BEGIN:VCALENDAR
VERSION:2.0
PRODID:-//Elkhart Public Library - ECPv6.15.20//NONSGML v1.0//EN
CALSCALE:GREGORIAN
METHOD:PUBLISH
X-ORIGINAL-URL:https://www.myepl.org
X-WR-CALDESC:Events for Elkhart Public Library
REFRESH-INTERVAL;VALUE=DURATION:PT1H
X-Robots-Tag:noindex
X-PUBLISHED-TTL:PT1H
BEGIN:VTIMEZONE
TZID:America/Indiana/Indianapolis
BEGIN:DAYLIGHT
TZOFFSETFROM:-0500
TZOFFSETTO:-0400
TZNAME:EDT
DTSTART:20250309T070000
END:DAYLIGHT
BEGIN:STANDARD
TZOFFSETFROM:-0400
TZOFFSETTO:-0500
TZNAME:EST
DTSTART:20251102T060000
END:STANDARD
BEGIN:DAYLIGHT
TZOFFSETFROM:-0500
TZOFFSETTO:-0400
TZNAME:EDT
DTSTART:20260308T070000
END:DAYLIGHT
BEGIN:STANDARD
TZOFFSETFROM:-0400
TZOFFSETTO:-0500
TZNAME:EST
DTSTART:20261101T060000
END:STANDARD
BEGIN:DAYLIGHT
TZOFFSETFROM:-0500
TZOFFSETTO:-0400
TZNAME:EDT
DTSTART:20270314T070000
END:DAYLIGHT
BEGIN:STANDARD
TZOFFSETFROM:-0400
TZOFFSETTO:-0500
TZNAME:EST
DTSTART:20271107T060000
END:STANDARD
END:VTIMEZONE
BEGIN:VEVENT
DTSTART;TZID=America/Indiana/Indianapolis:20260623T103000
DTEND;TZID=America/Indiana/Indianapolis:20260623T111500
DTSTAMP:20260422T063908
CREATED:20240709T175359Z
LAST-MODIFIED:20240709T175359Z
UID:55558-1782210600-1782213300@www.myepl.org
SUMMARY:Storytime with Miss Angie
DESCRIPTION:Storytime teaches children important early literacy skills. Miss Angie leads this time of reading\, singing\, talking\, and playing together. Please note this Storytime pauses on April 7 for spring break and on July 7 for Independence Day.
URL:https://www.myepl.org/event/storytime-with-miss-angie-2/2026-06-23/
LOCATION:Pierre Moran Branch\, 2400 Benham Ave\, Elkhart\, IN\, 46517\, United States
CATEGORIES:Storytimes
ATTACH;FMTTYPE=image/jpeg:https://www.myepl.org/wp-content/uploads/2023/07/Storytime-at-PMB-001.jpg
END:VEVENT
BEGIN:VEVENT
DTSTART;TZID=America/Indiana/Indianapolis:20260624T140000
DTEND;TZID=America/Indiana/Indianapolis:20260624T180000
DTSTAMP:20260422T063908
CREATED:20260318T173038Z
LAST-MODIFIED:20260318T173038Z
UID:55588-1782309600-1782324000@www.myepl.org
SUMMARY:Double Feature Flick: A timeless gem meets the latest hit
DESCRIPTION:We’re pairing classic family movies with the latest releases for fun double features with free popcorn.  \nMay 27 – “Matilda” (PG\, 1:38) & “GOAT” (PG\, 1:40)\nJune 24 – “Finding Nemo” (G\, 1:40) & “Hoppers” (PG\, 1:44)\nJuly 29 – “Big Hero 6” (PG\, 1:42) & “The Super Mario Galaxy Movie” (PG\, 1:38) 
URL:https://www.myepl.org/event/double-feature-flick-a-timeless-gem-meets-the-latest-hit/2026-06-24/
LOCATION:Pierre Moran Branch\, 2400 Benham Ave\, Elkhart\, IN\, 46517\, United States
CATEGORIES:Movies
END:VEVENT
BEGIN:VEVENT
DTSTART;TZID=America/Indiana/Indianapolis:20260630T103000
DTEND;TZID=America/Indiana/Indianapolis:20260630T111500
DTSTAMP:20260422T063908
CREATED:20240709T175359Z
LAST-MODIFIED:20240709T175359Z
UID:55559-1782815400-1782818100@www.myepl.org
SUMMARY:Storytime with Miss Angie
DESCRIPTION:Storytime teaches children important early literacy skills. Miss Angie leads this time of reading\, singing\, talking\, and playing together. Please note this Storytime pauses on April 7 for spring break and on July 7 for Independence Day.
URL:https://www.myepl.org/event/storytime-with-miss-angie-2/2026-06-30/
LOCATION:Pierre Moran Branch\, 2400 Benham Ave\, Elkhart\, IN\, 46517\, United States
CATEGORIES:Storytimes
ATTACH;FMTTYPE=image/jpeg:https://www.myepl.org/wp-content/uploads/2023/07/Storytime-at-PMB-001.jpg
END:VEVENT
BEGIN:VEVENT
DTSTART;TZID=America/Indiana/Indianapolis:20260701T150000
DTEND;TZID=America/Indiana/Indianapolis:20260701T160000
DTSTAMP:20260422T063908
CREATED:20260318T203859Z
LAST-MODIFIED:20260318T203859Z
UID:55635-1782918000-1782921600@www.myepl.org
SUMMARY:DIY Painted Suncatchers
DESCRIPTION:Create colorful suncatchers as a family.
URL:https://www.myepl.org/event/diy-painted-suncatchers/
LOCATION:Pierre Moran Branch\, 2400 Benham Ave\, Elkhart\, IN\, 46517\, United States
CATEGORIES:Art,Crafts
END:VEVENT
BEGIN:VEVENT
DTSTART;TZID=America/Indiana/Indianapolis:20260713T103000
DTEND;TZID=America/Indiana/Indianapolis:20260713T110000
DTSTAMP:20260422T063908
CREATED:20260318T155116Z
LAST-MODIFIED:20260318T155116Z
UID:55584-1783938600-1783940400@www.myepl.org
SUMMARY:Tunes and Twirls for Tots
DESCRIPTION:Dance and play together with your toddler to build movement and have fun. This program moves to the second and fourth Mondays in June and July.
URL:https://www.myepl.org/event/tunes-and-twirls-for-tots-2/2026-07-13/
LOCATION:Pierre Moran Branch\, 2400 Benham Ave\, Elkhart\, IN\, 46517\, United States
CATEGORIES:Preschool Programs,Storytimes
ATTACH;FMTTYPE=image/jpeg:https://www.myepl.org/wp-content/uploads/2025/12/Storytime-with-Miss-Angie-16-scaled.jpg
END:VEVENT
BEGIN:VEVENT
DTSTART;TZID=America/Indiana/Indianapolis:20260714T103000
DTEND;TZID=America/Indiana/Indianapolis:20260714T111500
DTSTAMP:20260422T063908
CREATED:20240709T175359Z
LAST-MODIFIED:20240709T175359Z
UID:55560-1784025000-1784027700@www.myepl.org
SUMMARY:Storytime with Miss Angie
DESCRIPTION:Storytime teaches children important early literacy skills. Miss Angie leads this time of reading\, singing\, talking\, and playing together. Please note this Storytime pauses on April 7 for spring break and on July 7 for Independence Day.
URL:https://www.myepl.org/event/storytime-with-miss-angie-2/2026-07-14/
LOCATION:Pierre Moran Branch\, 2400 Benham Ave\, Elkhart\, IN\, 46517\, United States
CATEGORIES:Storytimes
ATTACH;FMTTYPE=image/jpeg:https://www.myepl.org/wp-content/uploads/2023/07/Storytime-at-PMB-001.jpg
END:VEVENT
BEGIN:VEVENT
DTSTART;TZID=America/Indiana/Indianapolis:20260720T160000
DTEND;TZID=America/Indiana/Indianapolis:20260720T170000
DTSTAMP:20260422T063908
CREATED:20260318T174917Z
LAST-MODIFIED:20260318T174917Z
UID:55594-1784563200-1784566800@www.myepl.org
SUMMARY:Roz Puppets present "Dinosaur Pirates"
DESCRIPTION:This free puppet show is full of fun and adventure for the whole family.
URL:https://www.myepl.org/event/roz-puppets-present-dinosaur-pirates/
LOCATION:Pierre Moran Branch\, 2400 Benham Ave\, Elkhart\, IN\, 46517\, United States
CATEGORIES:Just for Fun,Preschool Programs,School Age Programs,Teen Programs
ATTACH;FMTTYPE=image/jpeg:https://www.myepl.org/wp-content/uploads/2024/04/Roz-Puppets-01-scaled.jpg
END:VEVENT
BEGIN:VEVENT
DTSTART;TZID=America/Indiana/Indianapolis:20260721T103000
DTEND;TZID=America/Indiana/Indianapolis:20260721T111500
DTSTAMP:20260422T063908
CREATED:20240709T175359Z
LAST-MODIFIED:20240709T175359Z
UID:55561-1784629800-1784632500@www.myepl.org
SUMMARY:Storytime with Miss Angie
DESCRIPTION:Storytime teaches children important early literacy skills. Miss Angie leads this time of reading\, singing\, talking\, and playing together. Please note this Storytime pauses on April 7 for spring break and on July 7 for Independence Day.
URL:https://www.myepl.org/event/storytime-with-miss-angie-2/2026-07-21/
LOCATION:Pierre Moran Branch\, 2400 Benham Ave\, Elkhart\, IN\, 46517\, United States
CATEGORIES:Storytimes
ATTACH;FMTTYPE=image/jpeg:https://www.myepl.org/wp-content/uploads/2023/07/Storytime-at-PMB-001.jpg
END:VEVENT
BEGIN:VEVENT
DTSTART;TZID=America/Indiana/Indianapolis:20260727T103000
DTEND;TZID=America/Indiana/Indianapolis:20260727T110000
DTSTAMP:20260422T063908
CREATED:20260318T155116Z
LAST-MODIFIED:20260318T155116Z
UID:55585-1785148200-1785150000@www.myepl.org
SUMMARY:Tunes and Twirls for Tots
DESCRIPTION:Dance and play together with your toddler to build movement and have fun. This program moves to the second and fourth Mondays in June and July.
URL:https://www.myepl.org/event/tunes-and-twirls-for-tots-2/2026-07-27/
LOCATION:Pierre Moran Branch\, 2400 Benham Ave\, Elkhart\, IN\, 46517\, United States
CATEGORIES:Preschool Programs,Storytimes
ATTACH;FMTTYPE=image/jpeg:https://www.myepl.org/wp-content/uploads/2025/12/Storytime-with-Miss-Angie-16-scaled.jpg
END:VEVENT
BEGIN:VEVENT
DTSTART;TZID=America/Indiana/Indianapolis:20260728T103000
DTEND;TZID=America/Indiana/Indianapolis:20260728T111500
DTSTAMP:20260422T063908
CREATED:20240709T175359Z
LAST-MODIFIED:20240709T175359Z
UID:55562-1785234600-1785237300@www.myepl.org
SUMMARY:Storytime with Miss Angie
DESCRIPTION:Storytime teaches children important early literacy skills. Miss Angie leads this time of reading\, singing\, talking\, and playing together. Please note this Storytime pauses on April 7 for spring break and on July 7 for Independence Day.
URL:https://www.myepl.org/event/storytime-with-miss-angie-2/2026-07-28/
LOCATION:Pierre Moran Branch\, 2400 Benham Ave\, Elkhart\, IN\, 46517\, United States
CATEGORIES:Storytimes
ATTACH;FMTTYPE=image/jpeg:https://www.myepl.org/wp-content/uploads/2023/07/Storytime-at-PMB-001.jpg
END:VEVENT
BEGIN:VEVENT
DTSTART;TZID=America/Indiana/Indianapolis:20260729T140000
DTEND;TZID=America/Indiana/Indianapolis:20260729T180000
DTSTAMP:20260422T063908
CREATED:20260318T173038Z
LAST-MODIFIED:20260318T173038Z
UID:55589-1785333600-1785348000@www.myepl.org
SUMMARY:Double Feature Flick: A timeless gem meets the latest hit
DESCRIPTION:We’re pairing classic family movies with the latest releases for fun double features with free popcorn.  \nMay 27 – “Matilda” (PG\, 1:38) & “GOAT” (PG\, 1:40)\nJune 24 – “Finding Nemo” (G\, 1:40) & “Hoppers” (PG\, 1:44)\nJuly 29 – “Big Hero 6” (PG\, 1:42) & “The Super Mario Galaxy Movie” (PG\, 1:38) 
URL:https://www.myepl.org/event/double-feature-flick-a-timeless-gem-meets-the-latest-hit/2026-07-29/
LOCATION:Pierre Moran Branch\, 2400 Benham Ave\, Elkhart\, IN\, 46517\, United States
CATEGORIES:Movies
END:VEVENT
BEGIN:VEVENT
DTSTART;TZID=America/Indiana/Indianapolis:20260805T160000
DTEND;TZID=America/Indiana/Indianapolis:20260805T180000
DTSTAMP:20260422T063908
CREATED:20260318T204824Z
LAST-MODIFIED:20260323T180307Z
UID:55637-1785945600-1785952800@www.myepl.org
SUMMARY:Lotería: Back to School Edition
DESCRIPTION:Come into Pierre Moran for a lotería fiesta! Win awesome goodies like school supplies and enter surprise backpack raffles. Plus\, munch on popcorn as we play.  \n¡Ven a la biblioteca de Pierre Moran para un evento de lotería espectacular! Los premios incluyen útiles escolares y habrá sorteos de mochilas sopresa de mochilas sopresa mientras juegas. ¡Saborea palomitas disfrutas del juego!
URL:https://www.myepl.org/event/loteria-back-to-school-edition-2/
LOCATION:Pierre Moran Branch\, 2400 Benham Ave\, Elkhart\, IN\, 46517\, United States
CATEGORIES:Adult Programs,Just for Fun,Preschool Programs,School Age Programs,Teen Programs
ATTACH;FMTTYPE=image/jpeg:https://www.myepl.org/wp-content/uploads/2025/09/Screenshot-2025-06-30-at-1.49.23-PM.jpeg
END:VEVENT
END:VCALENDAR